Workbook
Name _Hlk116475822: '化粧品 測試項目'!$B$138
Name _Hlk116475832: '化粧品 測試項目'!$D$132
Name _Hlk52786461: '郵寄地址-中文'!$B$18
Name Mainpage_testrequired1: '主頁 Main Page'!$D$48
Name Mainpage_testrequired2: '主頁 Main Page'!$D$51:$AJ$53
Name test_sum: [1]彙整資料!$B$2

Sheet 主頁 Main Page
B1: 台北:02-22993279 #7122~7124/7129/7131 傳真02-22993320, | M1: 台中:04-23591515 #1500~1502/1505 傳真04-23592949, | Z1: 高雄:07-3012121 #4804/4805/4809 傳真07-3010860 | BB1: 連絡電話台北:02-22993279 #7122~7124/7129/7131 傳真02-22981338, 台中:04-23591515 #1500~1502/1505 傳真04-23592949, 高雄:07-3012121 #4804/4805/4809 傳真07-3010860
B3: 申請廠商/試驗委託者 | C3: Applicant (APPL.)/Sponsor | D3: ※申請廠商 APPL. : | AK3: {=IF($BU$26,IF(SUMPRODUCT(LEN(L3)-LEN(SUBSTITUTE(LOWER(L3), MID("abcdefghijklmnopqrstuvwxyz", ROW(INDIRECT("1:26")), 1), ""))) <= 2, "←請填寫英文Please fill in English.",""),"")} | AO3: =彙整資料!B2 | BB3: 申請廠商/試驗委託者 | BC3: Applicant (APPL.)/Sponsor | BD3: ※申請廠商 APPL. :
D4: ※申請廠商地址 APPL. Address : | AK4: {=IF($BU$26,IF(SUMPRODUCT(LEN(L4)-LEN(SUBSTITUTE(LOWER(L4), MID("abcdefghijklmnopqrstuvwxyz", ROW(INDIRECT("1:26")), 1), ""))) <= 2, "←請填寫英文Please fill in English.",""),"")} | BD4: ※申請廠商地址 APPL. Address :
D5: ※申請廠商電話 APPL. Tel : | U5: 分機 Ext : | BD5: ※申請廠商電話 APPL. Tel : | BU5: 分機 Ext :
D6: ※申請廠商聯絡人 Contact Person : | AK6: {=IF($BU$26,IF(SUMPRODUCT(LEN(L6)-LEN(SUBSTITUTE(LOWER(L6), MID("abcdefghijklmnopqrstuvwxyz", ROW(INDIRECT("1:26")), 1), ""))) <= 2, "←請填寫英文Please fill in English.",""),"")} | BD6: ※申請廠商聯絡人 Contact Person :
D7: ※報告抬頭廠商及地址 Company name and address in the report : | BD7: ※報告抬頭廠商及地址 Company name and address in the report :
E8: 同申請廠商/試驗委託 As applicant/sponsor | O8: 同發票廠商 As Invoice company | BD8: FALSE | BE8: 同申請廠商/試驗委託 As applicant/sponsor | BN8: FALSE | BO8: 同發票廠商 As Invoice company
A9: =IF(AND(BD16<>TRUE,L17<>L3),"Payment Statement","") | D9: ※報告抬頭廠商 Sponsor’s Name : | AK9: {=IF(AND($BU$26,OR($BD$8,$BN$8)<>TRUE),IF(SUMPRODUCT(LEN(L9)-LEN(SUBSTITUTE(LOWER(L9), MID("abcdefghijklmnopqrstuvwxyz", ROW(INDIRECT("1:26")), 1), ""))) <= 2, "←請填寫英文Please fill in English.",""),"")} | BD9: 報告抬頭廠商 Sponsor’s Name :
D10: ※報告抬頭地址 Sponsor’s Address : | AK10: {=IF(AND($BU$26,OR($BD$8,$BN$8)<>TRUE),IF(SUMPRODUCT(LEN(L10)-LEN(SUBSTITUTE(LOWER(L10), MID("abcdefghijklmnopqrstuvwxyz", ROW(INDIRECT("1:26")), 1), ""))) <= 2, "←請填寫英文Please fill in English.",""),"")} | BD10: 報告抬頭地址 Sponsor’s Address :
D11: 如為英文報告，請提供英文資訊。Please provide the information in English if the report is in English, . | BD11: 如為英文報告，請提供英文資訊。Please provide the information in English if the report is in English, .
D12: ※粗框中標示「※」符號的內容將呈現於報告中。The contents marked with「※」will be shown in the report. | BD12: ※粗框中標示「※」符號的內容將呈現於報告中。The contents marked with「※」will be shown in the report.
D13: 統一編號 Registration Add. I/V No : | BD13: 報告聯絡電話 Tel : | BO13: 分機 Ext : | BS13: 手機 Mobile : | CD13: 傳真 Fax :
D14: 報告聯絡電話 Tel : | O14: 分機 Ext : | S14: 手機 Mobile : | AD14: 傳真 Fax :
D15: 電子郵件 E-mail : | S15: 聯絡人Contact Person : | BD15: 電子郵件 E-mail : | BS15: 聯絡人Contact Person :
A16: =IF(AND(BD16<>TRUE,L17<>L3),"付款切結書連結","") | B16: 發票廠商 | C16: Invoice | D16: =$BD$16 -> FALSE | E16: 同申請廠商/試驗委託 As applicant/sponsor | N16: ※如與申請廠商不同，需提供附件「付款切結書」 The payment statement should be provided if the invoice title is different as the applicant. | BB16: 發票廠商 | BC16: Invoice | BD16: FALSE | BE16: 同申請廠商/試驗委託 As applicant/sponsor | BN16: ※如與申請廠商不同，需提供附件「付款切結書」 The payment statement should be provided if the invoice title is different as the applicant.
D17: 發票廠商 Invoice To : | AK17: {=IF(AND($BU$26,$BN$8),IF(SUMPRODUCT(LEN(L17)-LEN(SUBSTITUTE(LOWER(L17), MID("abcdefghijklmnopqrstuvwxyz", ROW(INDIRECT("1:26")), 1), ""))) <= 2, "←請填寫英文Please fill in English.",""),"")} | BD17: 發票廠商 Invoice To :
D18: 統一編號 Registration Add. I/V No : | BD18: 統一編號 Registration Add. I/V No :
D19: 發票格式 Invoice Format : | M19: 電子發票 Digital Invoice. | T19: 紙本發票 Paper invoice. | AC19: =IF(OR(BL19,BS19),IF(AND(BL19,BS19),"(擇一Choose one)",IF(BS19,IF(BD16,"","填寫地址 Fill in address."),IF(BD16,IF(I15="","填寫電子郵件 Fill in E-mail.",""),"填寫電子郵件 Fill in E-mail."))),"PleaseNote") -> PleaseNote | BD19: FALSE | BL19: FALSE | BS19: FALSE
D20: 發票郵寄地址 Registration Address : | AK20: {=IF(AND($BU$26,$BN$8),IF(SUMPRODUCT(LEN(L20)-LEN(SUBSTITUTE(LOWER(L20), MID("abcdefghijklmnopqrstuvwxyz", ROW(INDIRECT("1:26")), 1), ""))) <= 2, "←請填寫英文Please fill in English.",""),"")} | BD20: 發票郵寄地址 Registration Address :
D21: 發票聯絡電話 Tel : | O21: 分機 Ext : | S21: 手機 Mobile : | AD21: 傳真 Fax : | BD21: 報告聯絡電話 Tel : | BO21: 分機 Ext : | BS21: 手機 Mobile : | CD21: 傳真 Fax :
D22: 電子郵件 E-mail : | S22: 付款聯絡人Contact Person : | BD22: 電子郵件 E-mail : | BS22: 付款聯絡人Contact Person :
A23: 「SGS安心資訊平台」 公開同意書連結 | B23: 報告需求 | C23: Report requriement | D23: 服務類別 Service type : | J23: 普通件 General | O23: 急件(費用加50%) Express (Surcharge 50%) | V23: 特急件(費用加96%) Urgent (Surcharge 96%) | AD23: (若未勾選一律以普件處理Default for General) | BB23: 報告需求 | BC23: Report requriement | BD23: 服務類別 Service type : | BI23: FALSE | BJ23: 普通件 General | BN23: FALSE | BO23: 急件(費用加50%) Express (Surcharge 50%) | BU23: FALSE | BV23: 特急件(費用加96%) Urgent (Surcharge 96%) | CD23: (若未勾選一律以普件處理Default for General)
D24: ※ 收件當天及例假日不列入工作天數。 Working days non-including weekends and National holidays. For Express & Urgent service, please inform us in advance. | BD24: ※ 收件當天及例假日不列入工作天數。 Working days non-including weekends and National holidays. For Express & Urgent service, please inform us in advance.
D25: 測項及報告使用目的Testing purpose : | O25: 自主管理For self-management | V25: 出口使用For export | AD25: 政府法規要求 For regulations | BD25: 測項及報告使用目的Testing purpose : | BN25: FALSE | BO25: 自主管理For self-management | BU25: FALSE | BV25: 出口使用For export | CC25: FALSE | CD25: 政府法規要求 For regulations
D26: 電子報告語言 Electronic report language: | O26: 中文 Traditional Chinese | V26: 英文 English | AA26: 未填寫以中文提供。If not filled in, provided in Chinese. | AK26: =IF(OR(COUNTIF(AK3:AK25,"*English*")>0,COUNTIF(AK29:AK43,"*English*")>0),"申請資訊請填寫英文","") | BD26: 電子簽報告格式Digital signature report format : | BN26: FALSE | BO26: 中文 Traditional Chinese | BU26: FALSE | BV26: 英文 English | CA26: 未填寫以中文提供。If not filled in, provided in Chinese.
D27: 專案報告以紙本提供，如有電子簽章報告需求請洽客服窗口。The project report is provided in a paper form. If you need a digital signature report, please contact us. | BD27: 專案報告以紙本提供，如有電子簽章報告需求請洽客服窗口。The project report is provided in a paper form. If you need a digital signature report, please contact us.
D28: 申請加發紙本報告 Hard Copy : | O28: 加發紙本 Apply | U28: =IF(OR(AND(BU26,BN26),BN28),"需額外加收取費用 It will be charged.","") | AK28: =IF(OR(COUNTIF(AK3:AK25,"*English*")>0,COUNTIF(AK29:AK43,"*English*")>0),"Please fill in the information in English.","") | BD28: 申請加發紙本報告 Hard Copy : | BN28: FALSE | BO28: 中文 Traditional Chinese
D29: 紙本報告取法Shipping Method of Hard Copy : | O29: 自取報告 Pick up by self | V29: 郵寄 By mail (提供郵寄地址 Provide Recipient’s Address) | BD29: 紙本報告取法Shipping Method of Hard Copy : | BN29: FALSE | BO29: 自取報告 Pick up by self | BU29: FALSE | BV29: 郵寄 By mail (提供郵寄地址 Provide Recipient’s Address)
D30: 報告郵寄地址 Recipient’s Address : | O30: 同申請廠商/試驗委託As applicant/sponsor | AC30: 同發票廠商As Invoice company | BD30: 報告郵寄地址 Recipient’s Address : | BN30: FALSE | BO30: 同申請廠商/試驗委託As applicant/sponsor | BZ30: FALSE | CA30: FALSE
D32: ※檢測僅提供一種語言報告電子檔；若同時選擇中、英二種語言電子檔或申請加發紙本報告，需額外收取費用。如勾選申請加發紙本報告，務必勾選報告取法；紙本報告只限台灣境內寄送。We will provide a Digital signature report in one kind of language (either Chinese or English) for free. Additional soft copy or hard copy will be charged. Please select and tick. Please select the method to have the reports. A hard copy is for domestic mail in Taiwan only. | BD32: ※檢測僅提供一種語言報告電子檔；若同時選擇中、英二種語言電子檔或申請加發紙本報告，需額外收取費用。如勾選申請加發紙本報告，務必勾選報告取法；紙本報告只限台灣境內寄送。We will provide a soft copy in one kind of language (either Chinese or English) for free. Additional soft copy or hard copy will be charged. Please select and tick. Please select the method to have the reports. A hard copy is for domestic mail in Taiwan only.
A33: =IF(J35<>L3,"Statemen of Authorization","") | B33: 樣品資訊 | C33: Sample Information | D33: 1 | E33: ※產品名稱 Sample Name(必填required) : | U33: ※包裝狀態 Packing Condition : | AD33: 完整包裝 Intact Packing | AK33: {=IF($BU$26,IF(SUMPRODUCT(LEN(J33)-LEN(SUBSTITUTE(LOWER(J33), MID("abcdefghijklmnopqrstuvwxyz", ROW(INDIRECT("1:26")), 1), ""))) <= 2, "←產品名稱填寫英文", ""),"")} | BB33: 樣品資訊 | BC33: Sample Information | BD33: 1 | BE33: ※產品名稱 Sample Name(必填required) : | BU33: ※包裝狀態 Packing Condition : | CC33: FALSE | CD33: 完整包裝 Intact Packing
AD34: 散裝 In Bulk | AK34: {=IF($BU$26,IF(SUMPRODUCT(LEN(J33)-LEN(SUBSTITUTE(LOWER(J33), MID("abcdefghijklmnopqrstuvwxyz", ROW(INDIRECT("1:26")), 1), ""))) <= 2, "← Name should be filled in English.", ""),"")} | CC34: FALSE | CD34: 散裝 In Bulk
D35: 2 | E35: ※製造/國內負責廠商Manufacturer/Vendor (必填required) : | U35: ※樣品保存方式 Storage Condition : | AD35: 室溫Room Temperature | AK35: {=IF($BU$26,IF(SUMPRODUCT(LEN(J35)-LEN(SUBSTITUTE(LOWER(J35), MID("abcdefghijklmnopqrstuvwxyz", ROW(INDIRECT("1:26")), 1), ""))) <= 2, "←廠商資訊填寫英文 ", ""),"")} | BD35: 2 | BE35: ※製造/國內負責廠商Supplier/Manufacturer (必填required) : | BU35: ※樣品保存方式 Storage Condition : | CC35: FALSE | CD35: 室溫 Room Temperature
AD36: 冷藏 2℃~8℃ | AK36: {=IF($BU$26,IF(SUMPRODUCT(LEN(J35)-LEN(SUBSTITUTE(LOWER(J35), MID("abcdefghijklmnopqrstuvwxyz", ROW(INDIRECT("1:26")), 1), ""))) <= 2, "←Supplier/Manufacturer should be filled in English.", ""),"")} | CC36: FALSE | CD36: 冷藏 2℃~8℃
A37: =IF(J35<>L3,"委託檢測聲明書連結","") | AD37: 冷凍 -25℃~ -15℃ | CC37: FALSE | CD37: 冷凍 -25℃~ -15℃
D38: 3 | E38: 型號 Model No. : | U38: ※樣品量 Amount (必填required) : | AE38: 數量 Quantity | BD38: 3 | BE38: 型號 Model No. : | BU38: ※樣品量 Amount (必填required) : | CE38: 數量 Quantity
D39: 4 | E39: ※批號 Lot. No. : | AE39: 單位 Unit | AF39: Unit | BD39: 4 | BE39: ※批號 Lot. No. : | CE39: 單位 Unit | CF39: Unit
D40: 5 | E40: ※製造日期 MFG : | AC40: (若勾選”散裝”請提供總重量。 If "Bulk" is checked, please provide the total weight.) | BD40: 5 | BE40: ※製造日期 MFG : | CC40: (若勾選”散裝”請提供總重量。 If "Bulk" is checked, please provide the total weight.)
D41: 6 | E41: ※有效期限 EXP : | BD41: 6 | BE41: ※有效期限 EXP :
D42: 7 | E42: 樣品屬性 Sample Properties : | K42: 管制藥品 Controlled Drug | U42: (備註及聲明9. Note and Statement 9.) (未勾選者表示申請廠商/試驗委託者確認測試樣品/試驗物質/對照物質非管制藥品/毒性及關注化學)(Unchecked items indicate that the applicant/sponsor confirms that the test samples, test article, or control article are not classified as controlled drugs or toxic and concerned chemical substances.) | BD42: 7 | BE42: ※樣品屬性 Sample Properties : | BJ42: FALSE | BK42: 管制藥品 Controlled Drug | BU42: (備註及聲明9. Note and Statement 9.) (未勾選者表示申請廠商/試驗委託者確認測試樣品/試驗物質/對照物質非管制藥品/毒性及關注化學
...

Sheet 化粧品 測試項目
B1: 化粧品 (Cosmetics)： | AN1: AND(前端需求+前V) | AP1: OR(自己V或同層完成需求) | AY1: =IF(COUNTIF(BB1:BB134,TRUE),"《"&B1&"》"&CHAR(10)&B3,"") | BB1: 化粧品委託實驗項目 (Cosmetics Test(s)Required)：
B2: ※ 項目前有標示★符號表示為TFDA認證項目，◎符號表示為TAF認證項目。★ Indicated as TFDA Accreditation Testing Field. ◎ Indicated as TAF Accreditation Testing Field. | AL2: 層級 | AM2: 顯示內容 | AN2: 需求開啟 | AO2: "-"個數 | AP2: 需求完成 | AQ2: 顯示篩選 | AR2: 必填未填 | AS2: 未填提醒 | AT2: 顯示內容 | AY2: {=IF(AY1<>"",LOOKUP(2,1/(AT4:AT1002<>""),AT4:AT1002),"")} | BB2: ※ 項目前有標示★符號表示為TFDA認證項目，◎符號表示為TAF認證項目。★ Indicated as TFDA Accreditation Testing Field. ◎ Indicated as TAF Accreditation Testing Field.
B3: ※樣品特殊處理需求 (Sample Preparation)凡屬噴霧罐（Aerosol Can）樣品，因檢測前可能需進行洩壓、破罐或開罐等特殊前處理作業，將另收取樣品處理費用 NT$1,500／件。For aerosol can samples, special sample preparation procedures, including depressurization and/or opening of the container, may be required prior to testing. An additional handling fee of NT$1,500 per sample will be charged.
B4: 1. 重金屬 Heavy Metals : | AK4: =COUNTIF(BB5:BB10,TRUE) -> 0 | AL4: 1 | AM4: =B4 -> 1. 重金屬 Heavy Metals : | AN4: =OR(BB5,BB6,BB7,BB8,BB9) -> FALSE | AO4: 群組1 | AP4: =TRUE -> TRUE | AQ4: =AND($AN4,$AP4) -> FALSE | AR4: =IF($AN4=TRUE,$AP4<>TRUE) -> FALSE | AT4: =IF(AQ4=TRUE, IF(AL4=3, IF(AM4="", "", " "&REPT("-", LEN(AO4) - LEN(SUBSTITUTE(AO4, "-", "")))&AM4&CHAR(10)), IF(AL4=1, ""&AM4&CHAR(10), IF(AL4=2, " █"&AM4&CHAR(10), AM4&CHAR(10)) ) )&AS4, "") | AY4: =IF(AY1="","",AY1&CHAR(10)&AY2) &IF(OR(ISNUMBER(SEARCH("★",AY2)),ISNUMBER(SEARCH("◎",AY2)),ISNUMBER(SEARCH("#",AY2))),"※以上項目前有標示" &IF(ISNUMBER(SEARCH("★",AY2)),"標示★符號表示為TFDA認證項目。","") &IF(ISNUMBER(SEARCH("◎",AY2)),"標示◎符號表示為TAF認證項目。","") &IF(ISNUMBER(SEARCH("#",AY2)),"#表示為外部服務項目。",""),"") &IF(OR(ISNUMBER(SEARCH("★",AY2)),ISNUMBER(SEARCH("◎",AY2)),ISNUMBER(SEARCH("#",AY2))),"※Items marked with " &IF(ISNUMBER(SEARCH("★",AY2)),"★ Indicated as TFDA Accreditation Testing Field.","") &IF(ISNUMBER(SEARCH("◎",AY2)),"◎ Indicated as TAF Accreditation Testing Field.","") &IF(ISNUMBER(SEARCH("#",AY2)),"# stands for subcontract.",""),"") &IF(OR(ISNUMBER(SEARCH("★",AY2)),ISNUMBER(SEARCH("◎",AY2)),ISNUMBER(SEARCH("#",AY2))),CHAR(10),"") | BB4: 1. 重金屬 Heavy Metals : | CK4: =COUNTIF(BB5:BB10,TRUE) -> 0
C5: 四大重金屬-砷,鉛,汞,鎘 (Heavy Metals – As, Pb, Hg, Cd)(ICP LOQ:1ppm) NT 2550 | AL5: 2 | AM5: =IF(BB5,C5,"") | AN5: =BB5 -> FALSE | AO5: 群組1-1 | AP5: =BB5 -> FALSE | AQ5: =AND($AN5,$AP5) -> FALSE | AR5: =IF($AN5=TRUE,$AP5<>TRUE) -> FALSE | AT5: =AT4&IF(AQ5=TRUE, IF(AL5=3, IF(AM5="", "", " "&REPT("-", LEN(AO5) - LEN(SUBSTITUTE(AO5, "-", "")))&AM5&CHAR(10)), IF(AL5=1, ""&AM5&CHAR(10), IF(AL5=2, " █"&AM5&CHAR(10), AM5&CHAR(10)) ) )&AS5, "") | BB5: FALSE | BC5: 四大重金屬-砷,鉛,汞,鎘 (Heavy Metals – As, Pb, Hg, Cd)(ICP LOQ:1ppm) | CG5: NT | CH5: 2550
C6: 四大重金屬-砷,鉛,汞,鎘 (Heavy Metals – As, Pb, Hg, Cd)(ICP/MS LOQ:0.02ppm) NT 3100 | AL6: 2 | AM6: =IF(BB6,C6,"") | AN6: =BB6 -> FALSE | AO6: 群組1-2 | AP6: =BB6 -> FALSE | AQ6: =AND($AN6,$AP6) -> FALSE | AR6: =IF($AN6=TRUE,$AP6<>TRUE) -> FALSE | AT6: =AT5&IF(AQ6=TRUE, IF(AL6=3, IF(AM6="", "", " "&REPT("-", LEN(AO6) - LEN(SUBSTITUTE(AO6, "-", "")))&AM6&CHAR(10)), IF(AL6=1, ""&AM6&CHAR(10), IF(AL6=2, " █"&AM6&CHAR(10), AM6&CHAR(10)) ) )&AS6, "") | BB6: FALSE | BC6: 四大重金屬-砷,鉛,汞,鎘 (Heavy Metals – As, Pb, Hg, Cd)(ICP/MS LOQ:0.02ppm) | CG6: NT | CH6: 3100
C7: 八大重金屬-砷,鉛,汞,鎘,銻,鋇,鉻,鎳 (Heavy Metals – As, Pb, Hg, Cd, Sb, Ba, Cr, Ni)(ICP LOQ:1ppm) NT 4750 | AL7: 2 | AM7: =IF(BB7,C7,"") | AN7: =BB7 -> FALSE | AO7: 群組1-3 | AP7: =BB7 -> FALSE | AQ7: =AND($AN7,$AP7) -> FALSE | AR7: =IF($AN7=TRUE,$AP7<>TRUE) -> FALSE | AT7: =AT6&IF(AQ7=TRUE, IF(AL7=3, IF(AM7="", "", " "&REPT("-", LEN(AO7) - LEN(SUBSTITUTE(AO7, "-", "")))&AM7&CHAR(10)), IF(AL7=1, ""&AM7&CHAR(10), IF(AL7=2, " █"&AM7&CHAR(10), AM7&CHAR(10)) ) )&AS7, "") | BB7: FALSE | BC7: 八大重金屬-砷,鉛,汞,鎘,銻,鋇,鉻,鎳 (Heavy Metals – As, Pb, Hg, Cd, Sb, Ba, Cr, Ni)(ICP LOQ:1ppm) | CG7: NT | CH7: 4750
C8: 八大重金屬-砷,鉛,汞,鎘,銻,鋇,鉻,鎳 (Heavy Metals – As, Pb, Hg, Cd, Sb, Ba, Cr, Ni)(ICP/MS LOQ:0.02ppm) NT 5300 | AL8: 2 | AM8: =IF(BB8,C8,"") | AN8: =BB8 -> FALSE | AO8: 群組1-4 | AP8: =BB8 -> FALSE | AQ8: =AND($AN8,$AP8) -> FALSE | AR8: =IF($AN8=TRUE,$AP8<>TRUE) -> FALSE | AT8: =AT7&IF(AQ8=TRUE, IF(AL8=3, IF(AM8="", "", " "&REPT("-", LEN(AO8) - LEN(SUBSTITUTE(AO8, "-", "")))&AM8&CHAR(10)), IF(AL8=1, ""&AM8&CHAR(10), IF(AL8=2, " █"&AM8&CHAR(10), AM8&CHAR(10)) ) )&AS8, "") | BB8: FALSE | BC8: 八大重金屬-砷,鉛,汞,鎘,銻,鋇,鉻,鎳 (Heavy Metals – As, Pb, Hg, Cd, Sb, Ba, Cr, Ni)(ICP/MS LOQ:0.02ppm) | CG8: NT | CH8: 5300
C9: ★◎16大重金屬註-鈹,鉻,鈷,鎳,砷,鍶,鋯,鎘,銻,碲,鋇,釹,汞,鉈,鉛,鉍 (Heavy Metal 16 items)(ICP/MS) NT 9500 | AL9: 2 | AM9: =IF(BB9,C9,"") | AN9: =BB9 -> FALSE | AO9: 群組1-5 | AP9: =BB9 -> FALSE | AQ9: =AND($AN9,$AP9) -> FALSE | AR9: =IF($AN9=TRUE,$AP9<>TRUE) -> FALSE | AT9: =AT8&IF(AQ9=TRUE, IF(AL9=3, IF(AM9="", "", " "&REPT("-", LEN(AO9) - LEN(SUBSTITUTE(AO9, "-", "")))&AM9&CHAR(10)), IF(AL9=1, ""&AM9&CHAR(10), IF(AL9=2, " █"&AM9&CHAR(10), AM9&CHAR(10)) ) )&AS9, "") | BB9: FALSE | BC9: ★◎11大重金屬註-砷,鉛,汞,鎘,銻,鋇,鉻,鎳,鈷,鍶,鋯 (Heavy Metal 11 items)(ICP/MS) | CG9: NT | CH9: 6800
B10: 註: 食品藥物管理署公布建議檢驗方法-化粧品中重金屬檢驗方法(RA03H005.002): 鈹,鉻,鈷,鎳,砷,鍶,鋯,鎘,銻,碲,鋇,釹,汞,鉈,鉛,鉍 ICP/MS LOQ: 0.1 ppm | AL10: 3 | AM10: =B10 -> 註: 食品藥物管理署公布建議檢驗方法-化粧品中重金屬檢驗方法(RA03H005.002): 鈹,鉻,鈷,鎳,砷,鍶,鋯,鎘,銻,碲,鋇,釹,汞,鉈,鉛,鉍 ICP/MS LOQ: 0.1 ppm | AN10: =BB9 -> FALSE | AO10: 群組1 | AP10: =OR(BB5:BB9) -> FALSE | AQ10: =AND($AN10,$AP10) -> FALSE | AR10: =IF($AN10=TRUE,$AP10<>TRUE) -> FALSE | AT10: =AT9&IF(AQ10=TRUE, IF(AL10=3, IF(AM10="", "", " "&REPT("-", LEN(AO10) - LEN(SUBSTITUTE(AO10, "-", "")))&AM10&CHAR(10)), IF(AL10=1, ""&AM10&CHAR(10), IF(AL10=2, " █"&AM10&CHAR(10), AM10&CHAR(10)) ) )&AS10, "") | BB10: 註: 食品藥物管理署公布建議檢驗方法-化粧品中重金屬檢驗方法(RA03H005.001): 砷,鉛,汞,鎘,銻,鋇,鉻,鎳,鈷,鍶ICP/MS LOQ:0.1ppm，鋯ICP/MS LOQ:0.2ppm
B11: 2. 微生物 Microorganism: (微生物測試無法以急件或特急件處理) | AK11: =COUNTIF(BB12:BB30,TRUE) -> 0 | AL11: 1 | AM11: =B11 -> 2. 微生物 Microorganism: (微生物測試無法以急件或特急件處理) | AN11: =OR(BB12:BB30) -> FALSE | AO11: 群組2 | AP11: =TRUE -> TRUE | AQ11: =AND($AN11,$AP11) -> FALSE | AR11: =IF($AN11=TRUE,$AP11<>TRUE) -> FALSE | AT11: =AT10&IF(AQ11=TRUE, IF(AL11=3, IF(AM11="", "", " "&REPT("-", LEN(AO11) - LEN(SUBSTITUTE(AO11, "-", "")))&AM11&CHAR(10)), IF(AL11=1, ""&AM11&CHAR(10), IF(AL11=2, " █"&AM11&CHAR(10), AM11&CHAR(10)) ) )&AS11, "") | BB11: 2. 微生物 Microorganism: (微生物測試無法以急件或特急件處理) | CK11: =COUNTIF(BB12:BB30,TRUE) -> 0
B12: 衛生福利部食品藥物管理署114.02.19公布建議檢驗方法-化粧品中微生物之檢驗方法 | AL12: 1 | AM12: =B12 -> 衛生福利部食品藥物管理署114.02.19公布建議檢驗方法-化粧品中微生物之檢驗方法 | AN12: =OR(BB13:BB17) -> FALSE | AO12: 群組2-1 | AP12: =OR(BB13:BB17) -> FALSE | AQ12: =AND($AN12,$AP12) -> FALSE | AR12: =IF($AN12=TRUE,$AP12<>TRUE) -> FALSE | AT12: =AT11&IF(AQ12=TRUE, IF(AL12=3, IF(AM12="", "", " "&REPT("-", LEN(AO12) - LEN(SUBSTITUTE(AO12, "-", "")))&AM12&CHAR(10)), IF(AL12=1, ""&AM12&CHAR(10), IF(AL12=2, " █"&AM12&CHAR(10), AM12&CHAR(10)) ) )&AS12, "") | BB12: FALSE | BC12: ★◎好氣性生菌數 (Aerobic Plate Count) | CG12: NT | CH12: 1000
C13: ★◎生菌數 (Aerobic Plate Count) NT 1000 | AL13: 2 | AM13: =IF(BB13,C13,"") | AN13: =BB13 -> FALSE | AO13: 群組2-2 | AP13: =BB13 -> FALSE | AQ13: =AND($AN13,$AP13) -> FALSE | AR13: =IF($AN13=TRUE,$AP13<>TRUE) -> FALSE | AT13: =AT12&IF(AQ13=TRUE, IF(AL13=3, IF(AM13="", "", " "&REPT("-", LEN(AO13) - LEN(SUBSTITUTE(AO13, "-", "")))&AM13&CHAR(10)), IF(AL13=1, ""&AM13&CHAR(10), IF(AL13=2, " █"&AM13&CHAR(10), AM13&CHAR(10)) ) )&AS13, "") | BB13: FALSE | BC13: ★◎大腸桿菌 (Escherichia coli ) | CG13: NT | CH13: 1650
C14: ★◎大腸桿菌 (Escherichia coli ) NT 1650 | AL14: 2 | AM14: =IF(BB14,C14,"") | AN14: =BB14 -> FALSE | AO14: 群組2-3 | AP14: =BB14 -> FALSE | AQ14: =AND($AN14,$AP14) -> FALSE | AR14: =IF($AN14=TRUE,$AP14<>TRUE) -> FALSE | AT14: =AT13&IF(AQ14=TRUE, IF(AL14=3, IF(AM14="", "", " "&REPT("-", LEN(AO14) - LEN(SUBSTITUTE(AO14, "-", "")))&AM14&CHAR(10)), IF(AL14=1, ""&AM14&CHAR(10), IF(AL14=2, " █"&AM14&CHAR(10), AM14&CHAR(10)) ) )&AS14, "") | BB14: FALSE | BC14: ★◎沙門氏菌 (Salmonella) | BS14: FALSE | CG14: NT | CH14: 1650
C15: ★◎金黃色葡萄球菌 (Staphylococcus aureus) NT1650 | AL15: 2 | AM15: =IF(BB15,C15,"") | AN15: =BB15 -> FALSE | AO15: 群組2-4 | AP15: =BB15 -> FALSE | AQ15: =AND($AN15,$AP15) -> FALSE | AR15: =IF($AN15=TRUE,$AP15<>TRUE) -> FALSE | AT15: =AT14&IF(AQ15=TRUE, IF(AL15=3, IF(AM15="", "", " "&REPT("-", LEN(AO15) - LEN(SUBSTITUTE(AO15, "-", "")))&AM15&CHAR(10)), IF(AL15=1, ""&AM15&CHAR(10), IF(AL15=2, " █"&AM15&CHAR(10), AM15&CHAR(10)) ) )&AS15, "") | BB15: FALSE | BC15: ★◎白色念珠菌 (𝐶𝑎𝑛𝑑𝑖𝑑𝑎 𝑎𝑙𝑏𝑖𝑐𝑎𝑛𝑠)(TFDA 建議方法) | CG15: NT | CH15: 1650
C16: ★◎綠膿桿菌 (Pseudomonas aeruginosa) NT 1650 | AL16: 2 | AM16: =IF(BB16,C16,"") | AN16: =BB16 -> FALSE | AO16: 群組2-5 | AP16: =BB16 -> FALSE | AQ16: =AND($AN16,$AP16) -> FALSE | AR16: =IF($AN16=TRUE,$AP16<>TRUE) -> FALSE | AT16: =AT15&IF(AQ16=TRUE, IF(AL16=3, IF(AM16="", "", " "&REPT("-", LEN(AO16) - LEN(SUBSTITUTE(AO16, "-", "")))&AM16&CHAR(10)), IF(AL16=1, ""&AM16&CHAR(10), IF(AL16=2, " █"&AM16&CHAR(10), AM16&CHAR(10)) ) )&AS16, "") | BB16: FALSE | BC16: 白色念珠菌 (𝐶𝑎𝑛𝑑𝑖𝑑𝑎 𝑎𝑙𝑏𝑖𝑐𝑎𝑛𝑠)( ISO 18416 ) | CG16: NT | CH16: 3500
C17: ★◎白色念珠菌 (Candida albicans) NT 1650 | AL17: 2 | AM17: =IF(BB17,C17,"") | AN17: =BB17 -> FALSE | AO17: 群組2-6 | AP17: =BB17 -> FALSE | AQ17: =AND($AN17,$AP17) -> FALSE | AR17: =IF($AN17=TRUE,$AP17<>TRUE) -> FALSE | AT17: =AT16&IF(AQ17=TRUE, IF(AL17=3, IF(AM17="", "", " "&REPT("-", LEN(AO17) - LEN(SUBSTITUTE(AO17, "-", "")))&AM17&CHAR(10)), IF(AL17=1, ""&AM17&CHAR(10), IF(AL17=2, " █"&AM17&CHAR(10), AM17&CHAR(10)) ) )&AS17, "") | BB17: FALSE | BC17: ★◎金黃色葡萄球菌 (Staphylococcus aureus) | CG17: NT | CH17: 1650
B18: USP-NF, <62> 方法 | AL18: 1 | AM18: =B18 -> USP-NF, <62> 方法 | AN18: =OR(BB19:BB21) -> FALSE | AO18: 群組2-1 | AP18: =OR(BB19:BB21) -> FALSE | AQ18: =AND($AN18,$AP18) -> FALSE | AR18: =IF($AN18=TRUE,$AP18<>TRUE) -> FALSE | AT18: =AT17&IF(AQ18=TRUE, IF(AL18=3, IF(AM18="", "", " "&REPT("-", LEN(AO18) - LEN(SUBSTITUTE(AO18, "-", "")))&AM18&CHAR(10)), IF(AL18=1, ""&AM18&CHAR(10), IF(AL18=2, " █"&AM18&CHAR(10), AM18&CHAR(10)) ) )&AS18, "")
C19: ★◎白色念珠菌 (Candida albicans) (USP<62>) NT 1650 | AL19: 2 | AM19: =IF(BB19,C19,"") | AN19: =BB19 -> FALSE | AO19: 群組2-6 | AP19: =BB19 -> FALSE | AQ19: =AND($AN19,$AP19) -> FALSE | AR19: =IF($AN19=TRUE,$AP19<>TRUE) -> FALSE | AT19: =AT18&IF(AQ19=TRUE, IF(AL19=3, IF(AM19="", "", " "&REPT("-", LEN(AO19) - LEN(SUBSTITUTE(AO19, "-", "")))&AM19&CHAR(10)), IF(AL19=1, ""&AM19&CHAR(10), IF(AL19=2, " █"&AM19&CHAR(10), AM19&CHAR(10)) ) )&AS19, "") | BB19: FALSE
C20: ★黴菌及酵母菌 (Mold and Yeast) (US FDA) NT 1200 | AL20: 2 | AM20: =IF(BB20,C20,"") | AN20: =BB20 -> FALSE | AO20: 群組2-6 | AP20: =BB20 -> FALSE | AQ20: =AND($AN20,$AP20) -> FALSE | AR20: =IF($AN20=TRUE,$AP20<>TRUE) -> FALSE | AT20: =AT19&IF(AQ20=TRUE, IF(AL20=3, IF(AM20="", "", " "&REPT("-", LEN(AO20) - LEN(SUBSTITUTE(AO20, "-", "")))&AM20&CHAR(10)), IF(AL20=1, ""&AM20&CHAR(10), IF(AL20=2, " █"&AM20&CHAR(10), AM20&CHAR(10)) ) )&AS20, "") | BB20: FALSE
C21: ★◎沙門氏菌 (Salmonella) (USP<62>) NT 1650 | AL21: 2 | AM21: =IF(BB21,C21,"") | AN21: =BB21 -> FALSE | AO21: 群組2-6 | AP21: =BB21 -> FALSE | AQ21: =AND($AN21,$AP21) -> FALSE | AR21: =IF($AN21=TRUE,$AP21<>TRUE) -> FALSE | AT21: =AT20&IF(AQ21=TRUE, IF(AL21=3, IF(AM21="", "", " "&REPT("-", LEN(AO21) - LEN(SUBSTITUTE(AO21, "-", "")))&AM21&CHAR(10)), IF(AL21=1, ""&AM21&CHAR(10), IF(AL21=2, " █"&AM21&CHAR(10), AM21&CHAR(10)) ) )&AS21, "") | BB21: FALSE
B22: US FDA BAM Chapter 23 Microbiological Method for Cosmetics 2024 方法 | AK22: =COUNTIF(BB23:BB27,TRUE) -> 0 | AL22: 1 | AM22: =B22 -> US FDA BAM Chapter 23 Microbiological Method for Cosmetics 2024 方法 | AN22: =OR(BB23:BB27) -> FALSE | AO22: 群組2-2 | AP22: =OR(BB23:BB27) -> FALSE | AQ22: =AND($AN22,$AP22) -> FALSE | AR22: =IF($AN22=TRUE,$AP22<>TRUE) -> FALSE | AT22: =AT21&IF(AQ22=TRUE, IF(AL22=3, IF(AM22="", "", " "&REPT("-", LEN(AO22) - LEN(SUBSTITUTE(AO22, "-", "")))&AM22&CHAR(10)), IF(AL22=1, ""&AM22&CHAR(10), IF(AL22=2, " █"&AM22&CHAR(10), AM22&CHAR(10)) ) )&AS22, "")
C23: ◎總生菌數 (Aerobic Plate Count) NT 1000 | AL23: 2 | AM23: =IF(BB23,C23,"") | AN23: =BB23 -> FALSE | AO23: 群組2-2 | AP23: =BB23 -> FALSE | AQ23: =AND($AN23,$AP23) -> FALSE | AR23: =IF($AN23=TRUE,$AP23<>TRUE) -> FALSE | AT23: =AT22&IF(AQ23=TRUE, IF(AL23=3, IF(AM23="", "", " "&REPT("-", LEN(AO23) - LEN(SUBSTITUTE(AO23, "-", "")))&AM23&CHAR(10)), IF(AL23=1, ""&AM23&CHAR(10), IF(AL23=2, " █"&AM23&CHAR(10), AM23&CHAR(10)) ) )&AS23, "") | BB23: FALSE
C24: ◎大腸桿菌 (Escherichia coli ) NT 1650 | AL24: 2 | AM24: =IF(BB24,C24,"") | AN24: =BB24 -> FALSE | AO24: 群組2-3 | AP24: =BB24 -> FALSE | AQ24: =AND($AN24,$AP24) -> FALSE | AR24: =IF($AN24=TRUE,$AP24<>TRUE) -> FALSE | AT24: =AT23&IF(AQ24=TRUE, IF(AL24=3, IF(AM24="", "", " "&REPT("-", LEN(AO24) - LEN(SUBSTITUTE(AO24, "-", "")))&AM24&CHAR(10)), IF(AL24=1, ""&AM24&CHAR(10), IF(AL24=2, " █"&AM24&CHAR(10), AM24&CHAR(10)) ) )&AS24, "") | BB24: FALSE
C25: ◎金黃色葡萄球菌 (Staphylococcus aureus) NT1650 | AL25: 2 | AM25: =IF(BB25,C25,"") | AN25: =BB25 -> FALSE | AO25: 群組2-4 | AP25: =BB25 -> FALSE | AQ25: =AND($AN25,$AP25) -> FALSE | AR25: =IF($AN25=TRUE,$AP25<>TRUE) -> FALSE | AT25: =AT24&IF(AQ25=TRUE, IF(AL25=3, IF(AM25="", "", " "&REPT("-", LEN(AO25) - LEN(SUBSTITUTE(AO25, "-", "")))&AM25&CHAR(10)), IF(AL25=1, ""&AM25&CHAR(10), IF(AL25=2, " █"&AM25&CHAR(10), AM25&CHAR(10)) ) )&AS25, "") | BB25: FALSE
C26: ◎綠膿桿菌 (Pseudomonas aeruginosa) NT 1650 | AL26: 2 | AM26: =IF(BB26,C26,"") | AN26: =BB26 -> FALSE | AO26: 群組2-5 | AP26: =BB26 -> FALSE | AQ26: =AND($AN26,$AP26) -> FALSE | AR26: =IF($AN26=TRUE,$AP26<>TRUE) -> FALSE | AT26: =AT25&IF(AQ26=TRUE, IF(AL26=3, IF(AM26="", "", " "&REPT("-", LEN(AO26) - LEN(SUBSTITUTE(AO26, "-", "")))&AM26&CHAR(10)), IF(AL26=1, ""&AM26&CHAR(10), IF(AL26=2, " █"&AM26&CHAR(10), AM26&CHAR(10)) ) )&AS26, "") | BB26: FALSE
C27: ★◎黴菌及酵母菌 (Mold and Yeast) NT 1200 | AL27: 2 | AM27: =IF(BB27,C27,"") | AN27: =BB27 -> FALSE | AO27: 群組2-6 | AP27: =BB27 -> FALSE | AQ27: =AND($AN27,$AP27) -> FALSE | AR27: =IF($AN27=TRUE,$AP27<>TRUE) -> FALSE | AT27: =AT26&IF(AQ27=TRUE, IF(AL27=3, IF(AM27="", "", " "&REPT("-", LEN(AO27) - LEN(SUBSTITUTE(AO27, "-", "")))&AM27&CHAR(10)), IF(AL27=1, ""&AM27&CHAR(10), IF(AL27=2, " █"&AM27&CHAR(10), AM27&CHAR(10)) ) )&AS27, "") | BB27: FALSE
B28: TAF認證方法 (USP<62>) | AL28: 1 | AM28: =B28 -> TAF認證方法 (USP<62>) | AN28: =OR(BB29:BB30) -> FALSE | AO28: 群組2-3 | AP28: =OR(BB29:BB30) -> FALSE | AQ28: =AND($AN28,$AP28) -> FALSE | AR28: =IF($AN28=TRUE,$AP28<>TRUE) -> FALSE | AT28: =AT27&IF(AQ28=TRUE, IF(AL28=3, IF(AM28="", "", " "&REPT("-", LEN(AO28) - LEN(SUBSTITUTE(AO28, "-", "")))&AM28&CHAR(10)), IF(AL28=1, ""&AM28&CHAR(10), IF(AL28=2, " █"&AM28&CHAR(10), AM28&CHAR(10)) ) )&AS28, "")
C29: ◎白色念珠菌 (Candida albicans) NT 1650 | AL29: 2 | AM29: =IF(BB29,C29,"") | AN29: =BB29 -> FALSE | AO29: 群組2-2 | AP29: =BB29 -> FALSE | AQ29: =AND($AN29,$AP29) -> FALSE | AR29: =IF($AN29=TRUE,$AP29<>TRUE) -> FALSE | AT29: =AT28&IF(AQ29=TRUE, IF(AL29=3, IF(AM29="", "", " "&REPT("-", LEN(AO29) - LEN(SUBSTITUTE(AO29, "-", "")))&AM29&CHAR(10)), IF(AL29=1, ""&AM29&CHAR(10), IF(AL29=2, " █"&AM29&CHAR(10), AM29&CHAR(10)) ) )&AS29, "") | BB29: FALSE
C30: ◎沙門氏菌 (Salmonella) NT 1650 | AL30: 2 | AM30: =IF(BB30,C30,"") | AN30: =BB30 -> FALSE | AO30: 群組2-3 | AP30: =BB30 -> FALSE | AQ30: =AND($AN30,$AP30) -> FALSE | AR30: =IF($AN30=TRUE,$AP30<>TRUE) -> FALSE | AT30: =AT29&IF(AQ30=TRUE, IF(AL30=3, IF(AM30="", "", " "&REPT("-", LEN(AO30) - LEN(SUBSTITUTE(AO30, "-", "")))&AM30&CHAR(10)), IF(AL30=1, ""&AM30&CHAR(10), IF(AL30=2, " █"&AM30&CHAR(10), AM30&CHAR(10)) ) )&AS30, "") | BB30: FALSE
B31: 3. 防腐劑 Preservative : | AK31: =COUNTIF(BB32:BB37,TRUE) -> 0 | AL31: 1 | AM31: =B31 -> 3. 防腐劑 Preservative : | AN31: =OR(BB32:BB37) -> FALSE | AO31: 群組3 | AP31: =TRUE -> TRUE | AQ31: =AND($AN31,$AP31) -> FALSE | AR31: =IF($AN31=TRUE,$AP31<>TRUE) -> FALSE | AT31: =AT30&IF(AQ31=TRUE, IF(AL31=3, IF(AM31="", "", " "&REPT("-", LEN(AO31) - LEN(SUBSTITUTE(AO31, "-", "")))&AM31&CHAR(10)), IF(AL31=1, ""&AM31&CHAR(10), IF(AL31=2, " █"&AM31&CHAR(10), AM31&CHAR(10)) ) )&AS31, "") | BB31: 3. 防腐劑 Preservative : | CK31: =COUNTIF(BB32:BB37,TRUE) -> 0
C32: Methylchloroisothiazolinone (MCI) NT 6050 | AL32: 2 | AM32: =IF(BB32,C32,"") | AN32: =BB32 -> FALSE | AO32: 群組3-1 | AP32: =BB32 -> FALSE | AQ32: =AND($AN32,$AP32) -> FALSE | AR32: =IF($AN32=TRUE,$AP32<>TRUE) -> FALSE | AT32: =AT31&IF(AQ32=TRUE, IF(AL32=3, IF(AM32="", "", " "&REPT("-", LEN(AO32) - LEN(SUBSTITUTE(AO32, "-", "")))&AM32&CHAR(10)), IF(AL32=1, ""&AM32&CHAR(10), IF(AL32=2, " █"&AM32&CHAR(10), AM32&CHAR(10)) ) )&AS32, "") | BB32: FALSE | BC32: Methylchloroisothiazolinone (MCI) | CG32: NT | CH32: 6050
C33: Methylisothiazolinone (MI) NT 6050 | AL33: 2 | AM33: =IF(BB33,C33,"") | AN33: =BB33 -> FALSE | AO33: 群組3-2 | AP33: =BB33 -> FALSE | AQ33: =AND($AN33,$AP33) -> FALSE | AR33: =IF($AN33=TRUE,$AP33<>TRUE) -> FALSE | AT33: =AT32&IF(AQ33=TRUE, IF(AL33=3, IF(AM33="", "", " "&REPT("-", LEN(AO33) - LEN(SUBSTITUTE(AO33, "-", "")))&AM33&CHAR(10)), IF(AL33=1, ""&AM33&CHAR(10), IF(AL33=2, " █"&AM33&CHAR(10), AM33&CHAR(10)) ) )&AS33, "") | BB33: FALSE | BC33: Methylisothiazolinone (MI) | CG33: NT | CH33: 6050
C34: 限用防腐劑MI+ MCI+ Mixture of MCI & MI NT 8250 | AL34: 2 | AM34: =IF(BB34,C34,"") | AN34: =BB34 -> FALSE | AO34: 群組3-3 | AP34: =BB34 -> FALSE | AQ34: =AND($AN34,$AP34) -> FALSE | AR34: =IF($AN34=TRUE,$AP34<>TRUE) -> FALSE | AT34: =AT33&IF(AQ34=TRUE, IF(AL34=3, IF(AM34="", "", " "&REPT("-", LEN(AO34) - LEN(SUBSTITUTE(AO34, "-", "")))&AM34&CHAR(10)), IF(AL34=1, ""&AM34&CHAR(10), IF(AL34=2, " █"&AM34&CHAR(10), AM34&CHAR(10)) ) )&AS34, "") | BB34: FALSE | BC34: 限用防腐劑MI+ MCI+ Mixture of MCI & MI | CG34: NT | CH34: 8250
C35: ◎酸類防腐劑5項 (Preservatives(Acid)5 ltems) NT 4000 | AL35: 2 | AM35: =IF(BB35,C35,"") | AN35: =BB35 -> FALSE | AO35: 群組3-4 | AP35: =BB35 -> FALSE | AQ35: =AND($AN35,$AP35) -> FALSE | AR35: =IF($AN35=TRUE,$AP35<>TRUE) -> FALSE | AT35: =AT34&IF(AQ35=TRUE, IF(AL35=3, IF(AM35="", "", " "&REPT("-", LEN(AO35) - LEN(SUBSTITUTE(AO35, "-", "")))&AM35&CHAR(10)), IF(AL35=1, ""&AM35&CHAR(10), IF(AL35=2, " █"&AM35&CHAR(10), AM35&CHAR(10)) ) )&AS35, "") | BB35: FALSE | BC35: ◎酸類防腐劑5項 (Preservatives(Acid)5 ltems) | CG35: NT | CH35: 4000
C36: ◎酯類7項 (Preservatives(Paraben)7 ltems) NT 5000 | AL36: 2 | AM36: =IF(BB36,C36,"") | AN36: =BB36 -> FALSE | AO36: 群組3-5 | AP36: =BB36 -> FALSE | AQ36: =AND($AN36,$AP36) -> FALSE | AR36: =IF($AN36=TRUE,$AP36<>TRUE) -> FALSE | AT36: =AT35&IF(AQ36=TRUE, IF(AL36=3, IF(AM36="", "", " "&REPT("-", LEN(AO36) - LEN(SUBSTITUTE(AO36, "-", "")))&AM36&CHAR(10)), IF(AL36=1, ""&AM36&CHAR(10), IF(AL36=2, " █"&AM36&CHAR(10), AM36&CHAR(10)) ) )&AS36, "") | BB36: FALSE | BC36: ◎酯類7項 (Preservatives(Paraben)7 ltems) | CG36: NT | CH36: 5000
C37: ★套裝12項 (Preservatives 12 ltems) NT 7000 | AL37: 2 | AM37: =IF(BB37,C37,"") | AN37: =BB37 -> FALSE | AO37: 群組3-6 | AP37: =BB37 -> FALSE | AQ37: =AND($AN37,$AP37) -> FALSE | AR37: =IF($AN37=TRUE,$AP37<>TRUE) -> FALSE | AT37: =AT36&IF(AQ37=TRUE, IF(AL37=3, IF(AM37="", "", " "&REPT("-", LEN(AO37) - LEN(SUBSTITUTE(AO37, "-", "")))&AM37&CHAR(10)), IF(AL37=1, ""&AM37&CHAR(10), IF(AL37=2, " █"&AM37&CHAR(10), AM37&CHAR(10)) ) )&AS37, "") | BB37: FALSE | BC37: ★套裝12項 (Preservatives 12 ltems) | CG37: NT | CH37: 7000
B38: 4. 粧品VOC: | AK38: =COUNTIF(BB39:BB46,TRUE) -> 0 | AL38: 1 | AM38: =B38 -> 4. 粧品VOC: | AN38: =OR(BB39:BB46) -> FALSE | AO38: 群組4 | AP38: =TRUE -> TRUE | AQ38: =AND($AN38,$AP38) -> FALSE | AR38: =IF($AN38=TRUE,$AP38<>TRUE) -> FALSE | AT38: =AT37&IF(AQ38=TRUE, IF(AL38=3, IF(AM38="", "", " "&REPT("-", LEN(AO38) - LEN(SUBSTITUTE(AO38, "-", "")))&AM38&CHAR(10)), IF(AL38=1, ""&AM38&CHAR(10), IF(AL38=2, " █"&AM38&CHAR(10), AM38&CHAR(10)) ) )&AS38, "") | BB38: 4. 粧品VOC: | CK38: =COUNTIF(BB39:BB46,TRUE) -> 0
C39: 甲醇 (Methanol) NT 4400 | AL39: 2 | AM39: =IF(BB39,C39,"") | AN39: =BB39 -> FALSE | AO39: 群組4-1 | AP39: =BB39 -> FALSE | AQ39: =AND($AN39,$AP39) -> FALSE | AR39: =IF($AN39=TRUE,$AP39<>TRUE) -> FALSE | AT39: =AT38&IF(AQ39=TRUE, IF(AL39=3, IF(AM39="", "", " "&REPT("-", LEN(AO39) - LEN(SUBSTITUTE(AO39, "-", "")))&AM39&CHAR(10)), IF(AL39=1, ""&AM39&CHAR(10), IF(AL39=2, " █"&AM39&CHAR(10), AM39&CHAR(10)) ) )&AS39, "") | BB39: FALSE | BC39: 甲醇 (Methanol) | BS39: FALSE | CG39: NT | CH39: 4400
C40: 1,4-Dioxane NT 8800 | AL40: 2 | AM40: =IF(BB40,C40,"") | AN40: =BB40 -> FALSE | AO40: 群組4-2 | AP40: =BB40 -> FALSE | AQ40: =AND($AN40,$AP40) -> FALSE | AR40: =IF($AN40=TRUE,$AP40<>TRUE) -> FALSE | AT40: =AT39&IF(AQ40=TRUE, IF(AL40=3, IF(AM40="", "", " "&REPT("-", LEN(AO40) - LEN(SUBSTITUTE(AO40, "-", "")))&AM40&CHAR(10)), IF(AL40=1, ""&AM40&CHAR(10), IF(AL40=2, " █"&AM40&CHAR(10), AM40&CHAR(10)) ) )&AS40, "") | BB40: FALSE | BC40: 1,4-Dioxane | CG40: NT | CH40: 8800
...

Sheet 特定功能化粧品 測試項目
B1: 特定功能化粧品 (Specific Functional Cosmetics)： | AN1: AND(前端需求+前V) | AP1: OR(自己V或同層完成需求) | AY1: =IF(COUNTIF(BB1:BB132,TRUE),"《"&B1&"》"&CHAR(10)&B3,"")
B2: ※ 項目前有標示★符號表示為TFDA認證項目，◎符號表示為TAF認證項目。★ Indicated as TFDA Accreditation Testing Field. ◎ Indicated as TAF Accreditation Testing Field. | AL2: 層級 | AM2: 顯示內容 | AN2: 需求開啟 | AO2: "-"個數 | AP2: 需求完成 | AQ2: 顯示篩選 | AR2: 必填未填 | AS2: 未填提醒 | AT2: 顯示內容 | AY2: {=IF(AY1<>"",LOOKUP(2,1/(AT4:AT1001<>""),AT4:AT1001),"")}
B3: ※樣品特殊處理需求 (Sample Preparation)凡屬噴霧罐（Aerosol Can）樣品，因檢測前可能需進行洩壓、破罐或開罐等特殊前處理作業，將另收取樣品處理費用 NT$1,500／件。For aerosol can samples, special sample preparation procedures, including depressurization and/or opening of the container, may be required prior to testing. An additional handling fee of NT$1,500 per sample will be charged.
B4: **測試前務請提供產品全成分比例表供實驗室比對；如未提供，測試結果僅依實驗室分析數據為主出具報告** | AL4: 1 | AM4: =B4 -> **測試前務請提供產品全成分比例表供實驗室比對；如未提供，測試結果僅依實驗室分析數據為主出具報告** | AN4: =OR(BB5,BB6,BB7,BB8,BB9) -> FALSE | AO4: 群組1 | AP4: =TRUE -> TRUE | AQ4: =AND($AN4,$AP4) -> FALSE | AR4: =IF($AN4=TRUE,$AP4<>TRUE) -> FALSE | AT4: =IF(AQ4=TRUE, IF(AL4=3, IF(AM4="", "", " "&REPT("-", LEN(AO4) - LEN(SUBSTITUTE(AO4, "-", "")))&AM4&CHAR(10)), IF(AL4=1, ""&AM4&CHAR(10), IF(AL4=2, " █"&AM4&CHAR(10), AM4&CHAR(10)) ) )&AS4, "") | AY4: =IF(AY1="","",AY1&CHAR(10)&AY2) &IF(OR(ISNUMBER(SEARCH("★",AY2)),ISNUMBER(SEARCH("◎",AY2)),ISNUMBER(SEARCH("#",AY2))),"※以上項目前有標示" &IF(ISNUMBER(SEARCH("★",AY2)),"標示★符號表示為TFDA認證項目。","") &IF(ISNUMBER(SEARCH("◎",AY2)),"標示◎符號表示為TAF認證項目。","") &IF(ISNUMBER(SEARCH("#",AY2)),"#表示為外部服務項目。",""),"") &IF(OR(ISNUMBER(SEARCH("★",AY2)),ISNUMBER(SEARCH("◎",AY2)),ISNUMBER(SEARCH("#",AY2))),"※Items marked with " &IF(ISNUMBER(SEARCH("★",AY2)),"★ Indicated as TFDA Accreditation Testing Field.","") &IF(ISNUMBER(SEARCH("◎",AY2)),"◎ Indicated as TAF Accreditation Testing Field.","") &IF(ISNUMBER(SEARCH("#",AY2)),"# stands for subcontract.",""),"") &IF(OR(ISNUMBER(SEARCH("★",AY2)),ISNUMBER(SEARCH("◎",AY2)),ISNUMBER(SEARCH("#",AY2))),CHAR(10),"")
B5: 1. 常見項目 | AK5: =COUNTIF(BB6:BB9,TRUE) -> 0 | AL5: 1 | AM5: =B5 -> 1. 常見項目 | AN5: =OR(BB6:BB9) -> FALSE | AO5: 群組1 | AP5: =OR(BB6:BB9) -> FALSE | AQ5: =AND($AN5,$AP5) -> FALSE | AR5: =IF($AN5=TRUE,$AP5<>TRUE) -> FALSE | AT5: =AT4&IF(AQ5=TRUE, IF(AL5=3, IF(AM5="", "", " "&REPT("-", LEN(AO5) - LEN(SUBSTITUTE(AO5, "-", "")))&AM5&CHAR(10)), IF(AL5=1, ""&AM5&CHAR(10), IF(AL5=2, " █"&AM5&CHAR(10), AM5&CHAR(10)) ) )&AS5, "")
C6: 性狀(含結果、流程方法) | AL6: 2 | AM6: =IF(BB6,C6,"") | AN6: =BB6 -> FALSE | AO6: 群組1-1 | AP6: =BB6 -> FALSE | AQ6: =AND($AN6,$AP6) -> FALSE | AR6: =IF($AN6=TRUE,$AP6<>TRUE) -> FALSE | AT6: =AT5&IF(AQ6=TRUE, IF(AL6=3, IF(AM6="", "", " "&REPT("-", LEN(AO6) - LEN(SUBSTITUTE(AO6, "-", "")))&AM6&CHAR(10)), IF(AL6=1, ""&AM6&CHAR(10), IF(AL6=2, " █"&AM6&CHAR(10), AM6&CHAR(10)) ) )&AS6, "") | BB6: FALSE
C7: 鹼度(含結果、流程方法) | AL7: 2 | AM7: =IF(BB7,C7,"") | AN7: =BB7 -> FALSE | AO7: 群組1-2 | AP7: =BB7 -> FALSE | AQ7: =AND($AN7,$AP7) -> FALSE | AR7: =IF($AN7=TRUE,$AP7<>TRUE) -> FALSE | AT7: =AT6&IF(AQ7=TRUE, IF(AL7=3, IF(AM7="", "", " "&REPT("-", LEN(AO7) - LEN(SUBSTITUTE(AO7, "-", "")))&AM7&CHAR(10)), IF(AL7=1, ""&AM7&CHAR(10), IF(AL7=2, " █"&AM7&CHAR(10), AM7&CHAR(10)) ) )&AS7, "") | BB7: FALSE
C8: pH值(含數據、流程方法) | AL8: 2 | AM8: =IF(BB8,C8,"") | AN8: =BB8 -> FALSE | AO8: 群組1-3 | AP8: =BB8 -> FALSE | AQ8: =AND($AN8,$AP8) -> FALSE | AR8: =IF($AN8=TRUE,$AP8<>TRUE) -> FALSE | AT8: =AT7&IF(AQ8=TRUE, IF(AL8=3, IF(AM8="", "", " "&REPT("-", LEN(AO8) - LEN(SUBSTITUTE(AO8, "-", "")))&AM8&CHAR(10)), IF(AL8=1, ""&AM8&CHAR(10), IF(AL8=2, " █"&AM8&CHAR(10), AM8&CHAR(10)) ) )&AS8, "") | BB8: FALSE
C9: Ammonia solution（以NH3計，含數據、圖譜、流程方法) | AL9: 2 | AM9: =IF(BB9,C9,"") | AN9: =BB9 -> FALSE | AO9: 群組1-4 | AP9: =BB9 -> FALSE | AQ9: =AND($AN9,$AP9) -> FALSE | AR9: =IF($AN9=TRUE,$AP9<>TRUE) -> FALSE | AT9: =AT8&IF(AQ9=TRUE, IF(AL9=3, IF(AM9="", "", " "&REPT("-", LEN(AO9) - LEN(SUBSTITUTE(AO9, "-", "")))&AM9&CHAR(10)), IF(AL9=1, ""&AM9&CHAR(10), IF(AL9=2, " █"&AM9&CHAR(10), AM9&CHAR(10)) ) )&AS9, "") | BB9: FALSE
B10: 2. 牙齒美白劑 (含數據、圖譜、流程方法): | AK10: =COUNTIF(BB11:BB15,TRUE) -> 0 | AL10: 1 | AM10: =B10 -> 2. 牙齒美白劑 (含數據、圖譜、流程方法): | AN10: =OR(BB12:BB13,BB15) -> FALSE | AO10: 群組2 | AP10: =OR(BB12:BB13,BB15) -> FALSE | AQ10: =AND($AN10,$AP10) -> FALSE | AR10: =IF($AN10=TRUE,$AP10<>TRUE) -> FALSE | AT10: =AT9&IF(AQ10=TRUE, IF(AL10=3, IF(AM10="", "", " "&REPT("-", LEN(AO10) - LEN(SUBSTITUTE(AO10, "-", "")))&AM10&CHAR(10)), IF(AL10=1, ""&AM10&CHAR(10), IF(AL10=2, " █"&AM10&CHAR(10), AM10&CHAR(10)) ) )&AS10, "")
C11: INCI 名稱 | S11: CAS No. | AT11: =AT10&IF(AQ11=TRUE, IF(AL11=3, IF(AM11="", "", " "&REPT("-", LEN(AO11) - LEN(SUBSTITUTE(AO11, "-", "")))&AM11&CHAR(10)), IF(AL11=1, ""&AM11&CHAR(10), IF(AL11=2, " █"&AM11&CHAR(10), AM11&CHAR(10)) ) )&AS11, "")
C12: Hydrogen Peroxide註(含鑑別測試) | S12: 7722-84-1 | AL12: 2 | AM12: =IF(AL12=1,BB12,IF(AL12=2,C12&IF(S12<>"",","&S12,""),"")) -> Hydrogen Peroxide註(含鑑別測試),7722-84-1 | AN12: =BB12 -> FALSE | AO12: 群組2-1 | AP12: =BB12 -> FALSE | AQ12: =AND($AN12,$AP12) -> FALSE | AR12: =IF($AN12=TRUE,$AP12<>TRUE) -> FALSE | AT12: =AT11&IF(AQ12=TRUE, IF(AL12=3, IF(AM12="", "", " "&REPT("-", LEN(AO12) - LEN(SUBSTITUTE(AO12, "-", "")))&AM12&CHAR(10)), IF(AL12=1, ""&AM12&CHAR(10), IF(AL12=2, " █"&AM12&CHAR(10), AM12&CHAR(10)) ) )&AS12, "") | BB12: FALSE
C13: Total Peroxide註 | AL13: 2 | AM13: =IF(AL13=1,BB13,IF(AL13=2,C13&IF(S13<>"",","&S13,""),"")) -> Total Peroxide註 | AN13: =BB13 -> FALSE | AO13: 群組2-2 | AP13: =BB13 -> FALSE | AQ13: =AND($AN13,$AP13) -> FALSE | AR13: =IF($AN13=TRUE,$AP13<>TRUE) -> FALSE | AT13: =AT12&IF(AQ13=TRUE, IF(AL13=3, IF(AM13="", "", " "&REPT("-", LEN(AO13) - LEN(SUBSTITUTE(AO13, "-", "")))&AM13&CHAR(10)), IF(AL13=1, ""&AM13&CHAR(10), IF(AL13=2, " █"&AM13&CHAR(10), AM13&CHAR(10)) ) )&AS13, "") | BB13: FALSE
B14: 註: 牙齒美白產品，如同時2項成份(含)以上，因方法無法區分，報告將呈現"各項成份鑑別"與"Peroxid 總量"。 | AL14: 3 | AM14: =B14 -> 註: 牙齒美白產品，如同時2項成份(含)以上，因方法無法區分，報告將呈現"各項成份鑑別"與"Peroxid 總量"。 | AN14: =OR(BB12:BB13) -> FALSE | AO14: 群組2-2-1 | AP14: =TRUE -> TRUE | AQ14: =AND($AN14,$AP14) -> FALSE | AR14: =IF($AN14=TRUE,$AP14<>TRUE) -> FALSE | AT14: =AT13&IF(AQ14=TRUE, IF(AL14=3, IF(AM14="", "", " "&REPT("-", LEN(AO14) - LEN(SUBSTITUTE(AO14, "-", "")))&AM14&CHAR(10)), IF(AL14=1, ""&AM14&CHAR(10), IF(AL14=2, " █"&AM14&CHAR(10), AM14&CHAR(10)) ) )&AS14, "")
C15: Carbamide Peroxide註(含鑑別) | S15: 124-43-6 | AL15: 2 | AM15: =IF(AL15=1,BB15,IF(AL15=2,C15&IF(S15<>"",","&S15,""),"")) -> Carbamide Peroxide註(含鑑別),124-43-6 | AN15: =BB15 -> FALSE | AO15: 群組2-3 | AP15: =BB15 -> FALSE | AQ15: =AND($AN15,$AP15) -> FALSE | AR15: =IF($AN15=TRUE,$AP15<>TRUE) -> FALSE | AT15: =AT14&IF(AQ15=TRUE, IF(AL15=3, IF(AM15="", "", " "&REPT("-", LEN(AO15) - LEN(SUBSTITUTE(AO15, "-", "")))&AM15&CHAR(10)), IF(AL15=1, ""&AM15&CHAR(10), IF(AL15=2, " █"&AM15&CHAR(10), AM15&CHAR(10)) ) )&AS15, "") | BB15: FALSE
B16: 3. 止汗制臭劑(含鑑別、數據、圖譜、流程方法): | AK16: =COUNTIF(BB17:BB18,TRUE) -> 0 | AL16: 1 | AM16: =B16 -> 3. 止汗制臭劑(含鑑別、數據、圖譜、流程方法): | AN16: =OR(BB18) -> FALSE | AO16: 群組3 | AP16: =BB18 -> FALSE | AQ16: =AND($AN16,$AP16) -> FALSE | AR16: =IF($AN16=TRUE,$AP16<>TRUE) -> FALSE | AT16: =AT15&IF(AQ16=TRUE, IF(AL16=3, IF(AM16="", "", " "&REPT("-", LEN(AO16) - LEN(SUBSTITUTE(AO16, "-", "")))&AM16&CHAR(10)), IF(AL16=1, ""&AM16&CHAR(10), IF(AL16=2, " █"&AM16&CHAR(10), AM16&CHAR(10)) ) )&AS16, "")
C17: INCI 名稱 | S17: CAS No. | AT17: =AT16&IF(AQ17=TRUE, IF(AL17=3, IF(AM17="", "", " "&REPT("-", LEN(AO17) - LEN(SUBSTITUTE(AO17, "-", "")))&AM17&CHAR(10)), IF(AL17=1, ""&AM17&CHAR(10), IF(AL17=2, " █"&AM17&CHAR(10), AM17&CHAR(10)) ) )&AS17, "")
C18: Aluminum chlorohydrate | S18: 12042-91-0 | AL18: 2 | AM18: =IF(AL18=1,BB18,IF(AL18=2,C18&IF(S18<>"",","&S18,""),"")) -> Aluminum chlorohydrate,12042-91-0 | AN18: =BB18 -> FALSE | AO18: 群組3-1 | AP18: =BB18 -> FALSE | AQ18: =AND($AN18,$AP18) -> FALSE | AR18: =IF($AN18=TRUE,$AP18<>TRUE) -> FALSE | AT18: =AT17&IF(AQ18=TRUE, IF(AL18=3, IF(AM18="", "", " "&REPT("-", LEN(AO18) - LEN(SUBSTITUTE(AO18, "-", "")))&AM18&CHAR(10)), IF(AL18=1, ""&AM18&CHAR(10), IF(AL18=2, " █"&AM18&CHAR(10), AM18&CHAR(10)) ) )&AS18, "") | BB18: FALSE
B19: 4. 抗痘(含數據、圖譜、流程方法): | AK19: =COUNTIF(BB20:BB22,TRUE) -> 0 | AL19: 1 | AM19: =B19 -> 4. 抗痘(含數據、圖譜、流程方法): | AN19: =OR(BB21:BB22) -> FALSE | AO19: 群組4 | AP19: =OR(BB21:BB22) -> FALSE | AQ19: =AND($AN19,$AP19) -> FALSE | AR19: =IF($AN19=TRUE,$AP19<>TRUE) -> FALSE | AT19: =AT18&IF(AQ19=TRUE, IF(AL19=3, IF(AM19="", "", " "&REPT("-", LEN(AO19) - LEN(SUBSTITUTE(AO19, "-", "")))&AM19&CHAR(10)), IF(AL19=1, ""&AM19&CHAR(10), IF(AL19=2, " █"&AM19&CHAR(10), AM19&CHAR(10)) ) )&AS19, "")
C20: INCI 名稱 | S20: CAS No. | AR20: =IFERROR(VLOOKUP(AO20,$AU$4:$AV$136,2,FALSE),FALSE) -> FALSE | AT20: =AT19&IF(AQ20=TRUE, IF(AL20=3, IF(AM20="", "", " "&REPT("-", LEN(AO20) - LEN(SUBSTITUTE(AO20, "-", "")))&AM20&CHAR(10)), IF(AL20=1, ""&AM20&CHAR(10), IF(AL20=2, " █"&AM20&CHAR(10), AM20&CHAR(10)) ) )&AS20, "")
C21: Salicylic acid | S21: 69-72-7 | AL21: 2 | AM21: =IF(AL21=1,BB21,IF(AL21=2,C21&IF(S21<>"",","&S21,""),"")) -> Salicylic acid,69-72-7 | AN21: =BB21 -> FALSE | AO21: 群組4-1 | AP21: =BB21 -> FALSE | AQ21: =AND($AN21,$AP21) -> FALSE | AR21: =IF($AN21=TRUE,$AP21<>TRUE) -> FALSE | AT21: =AT20&IF(AQ21=TRUE, IF(AL21=3, IF(AM21="", "", " "&REPT("-", LEN(AO21) - LEN(SUBSTITUTE(AO21, "-", "")))&AM21&CHAR(10)), IF(AL21=1, ""&AM21&CHAR(10), IF(AL21=2, " █"&AM21&CHAR(10), AM21&CHAR(10)) ) )&AS21, "") | BB21: FALSE
C22: Sulfur | S22: 7704-34-9 | AL22: 2 | AM22: =IF(AL22=1,BB22,IF(AL22=2,C22&IF(S22<>"",","&S22,""),"")) -> Sulfur,7704-34-9 | AN22: =BB22 -> FALSE | AO22: 群組4-2 | AP22: =BB22 -> FALSE | AQ22: =AND($AN22,$AP22) -> FALSE | AR22: =IF($AN22=TRUE,$AP22<>TRUE) -> FALSE | AT22: =AT21&IF(AQ22=TRUE, IF(AL22=3, IF(AM22="", "", " "&REPT("-", LEN(AO22) - LEN(SUBSTITUTE(AO22, "-", "")))&AM22&CHAR(10)), IF(AL22=1, ""&AM22&CHAR(10), IF(AL22=2, " █"&AM22&CHAR(10), AM22&CHAR(10)) ) )&AS22, "") | BB22: FALSE
B23: 5. 防曬劑- 物、化性項目(含數據、圖譜、流程方法): | AK23: =COUNTIF(BB24:BB48,TRUE) -> 0 | AL23: 1 | AM23: =B23 -> 5. 防曬劑- 物、化性項目(含數據、圖譜、流程方法): | AN23: =OR(BB25:BB48) -> FALSE | AO23: 群組5 | AP23: =OR(BB25:BB48) -> FALSE | AQ23: =AND($AN23,$AP23) -> FALSE | AR23: =IF($AN23=TRUE,$AP23<>TRUE) -> FALSE | AT23: =AT22&IF(AQ23=TRUE, IF(AL23=3, IF(AM23="", "", " "&REPT("-", LEN(AO23) - LEN(SUBSTITUTE(AO23, "-", "")))&AM23&CHAR(10)), IF(AL23=1, ""&AM23&CHAR(10), IF(AL23=2, " █"&AM23&CHAR(10), AM23&CHAR(10)) ) )&AS23, "")
C24: INCI 名稱 | S24: CAS No. | AT24: =AT23&IF(AQ24=TRUE, IF(AL24=3, IF(AM24="", "", " "&REPT("-", LEN(AO24) - LEN(SUBSTITUTE(AO24, "-", "")))&AM24&CHAR(10)), IF(AL24=1, ""&AM24&CHAR(10), IF(AL24=2, " █"&AM24&CHAR(10), AM24&CHAR(10)) ) )&AS24, "") | BB24: FALSE
C25: Zinc Oxide (CI 77947) | S25: 1314-13-2 | AL25: 2 | AM25: =IF(AL25=1,BB25,IF(AL25=2,C25&IF(S25<>"",","&S25,""),"")) -> Zinc Oxide (CI 77947),1314-13-2 | AN25: =BB25 -> FALSE | AO25: 群組5-1 | AP25: =BB25 -> FALSE | AQ25: =AND($AN25,$AP25) -> FALSE | AR25: =IF($AN25=TRUE,$AP25<>TRUE) -> FALSE | AT25: =AT24&IF(AQ25=TRUE, IF(AL25=3, IF(AM25="", "", " "&REPT("-", LEN(AO25) - LEN(SUBSTITUTE(AO25, "-", "")))&AM25&CHAR(10)), IF(AL25=1, ""&AM25&CHAR(10), IF(AL25=2, " █"&AM25&CHAR(10), AM25&CHAR(10)) ) )&AS25, "") | BB25: FALSE
C26: Titanium Oxides (CI 77891) | S26: 13463-67-7 | AL26: 2 | AM26: =IF(AL26=1,BB26,IF(AL26=2,C26&IF(S26<>"",","&S26,""),"")) -> Titanium Oxides (CI 77891),13463-67-7 | AN26: =BB26 -> FALSE | AO26: 群組5-2 | AP26: =BB26 -> FALSE | AQ26: =AND($AN26,$AP26) -> FALSE | AR26: =IF($AN26=TRUE,$AP26<>TRUE) -> FALSE | AT26: =AT25&IF(AQ26=TRUE, IF(AL26=3, IF(AM26="", "", " "&REPT("-", LEN(AO26) - LEN(SUBSTITUTE(AO26, "-", "")))&AM26&CHAR(10)), IF(AL26=1, ""&AM26&CHAR(10), IF(AL26=2, " █"&AM26&CHAR(10), AM26&CHAR(10)) ) )&AS26, "") | BB26: FALSE
C27: Benzophenone-1 | S27: 131-56-6 | AL27: 2 | AM27: =IF(AL27=1,BB27,IF(AL27=2,C27&IF(S27<>"",","&S27,""),"")) -> Benzophenone-1,131-56-6 | AN27: =BB27 -> FALSE | AO27: 群組5-3 | AP27: =BB27 -> FALSE | AQ27: =AND($AN27,$AP27) -> FALSE | AR27: =IF($AN27=TRUE,$AP27<>TRUE) -> FALSE | AT27: =AT26&IF(AQ27=TRUE, IF(AL27=3, IF(AM27="", "", " "&REPT("-", LEN(AO27) - LEN(SUBSTITUTE(AO27, "-", "")))&AM27&CHAR(10)), IF(AL27=1, ""&AM27&CHAR(10), IF(AL27=2, " █"&AM27&CHAR(10), AM27&CHAR(10)) ) )&AS27, "") | BB27: FALSE
C28: Benzophenone-2 | S28: 131-55-5 | AL28: 2 | AM28: =IF(AL28=1,BB28,IF(AL28=2,C28&IF(S28<>"",","&S28,""),"")) -> Benzophenone-2,131-55-5 | AN28: =BB28 -> FALSE | AO28: 群組5-4 | AP28: =BB28 -> FALSE | AQ28: =AND($AN28,$AP28) -> FALSE | AR28: =IF($AN28=TRUE,$AP28<>TRUE) -> FALSE | AT28: =AT27&IF(AQ28=TRUE, IF(AL28=3, IF(AM28="", "", " "&REPT("-", LEN(AO28) - LEN(SUBSTITUTE(AO28, "-", "")))&AM28&CHAR(10)), IF(AL28=1, ""&AM28&CHAR(10), IF(AL28=2, " █"&AM28&CHAR(10), AM28&CHAR(10)) ) )&AS28, "") | BB28: FALSE
C29: Benzophenone-3 | S29: 131-57-7 | AL29: 2 | AM29: =IF(AL29=1,BB29,IF(AL29=2,C29&IF(S29<>"",","&S29,""),"")) -> Benzophenone-3,131-57-7 | AN29: =BB29 -> FALSE | AO29: 群組5-5 | AP29: =BB29 -> FALSE | AQ29: =AND($AN29,$AP29) -> FALSE | AR29: =IF($AN29=TRUE,$AP29<>TRUE) -> FALSE | AT29: =AT28&IF(AQ29=TRUE, IF(AL29=3, IF(AM29="", "", " "&REPT("-", LEN(AO29) - LEN(SUBSTITUTE(AO29, "-", "")))&AM29&CHAR(10)), IF(AL29=1, ""&AM29&CHAR(10), IF(AL29=2, " █"&AM29&CHAR(10), AM29&CHAR(10)) ) )&AS29, "") | BB29: FALSE
C30: Benzophenone-4 | S30: 4065-45-6 | AL30: 2 | AM30: =IF(AL30=1,BB30,IF(AL30=2,C30&IF(S30<>"",","&S30,""),"")) -> Benzophenone-4,4065-45-6 | AN30: =BB30 -> FALSE | AO30: 群組5-6 | AP30: =BB30 -> FALSE | AQ30: =AND($AN30,$AP30) -> FALSE | AR30: =IF($AN30=TRUE,$AP30<>TRUE) -> FALSE | AT30: =AT29&IF(AQ30=TRUE, IF(AL30=3, IF(AM30="", "", " "&REPT("-", LEN(AO30) - LEN(SUBSTITUTE(AO30, "-", "")))&AM30&CHAR(10)), IF(AL30=1, ""&AM30&CHAR(10), IF(AL30=2, " █"&AM30&CHAR(10), AM30&CHAR(10)) ) )&AS30, "") | BB30: FALSE
C31: Benzophenone-5 | S31: 6628-37-1 | AL31: 2 | AM31: =IF(AL31=1,BB31,IF(AL31=2,C31&IF(S31<>"",","&S31,""),"")) -> Benzophenone-5,6628-37-1 | AN31: =BB31 -> FALSE | AO31: 群組5-7 | AP31: =BB31 -> FALSE | AQ31: =AND($AN31,$AP31) -> FALSE | AR31: =IF($AN31=TRUE,$AP31<>TRUE) -> FALSE | AT31: =AT30&IF(AQ31=TRUE, IF(AL31=3, IF(AM31="", "", " "&REPT("-", LEN(AO31) - LEN(SUBSTITUTE(AO31, "-", "")))&AM31&CHAR(10)), IF(AL31=1, ""&AM31&CHAR(10), IF(AL31=2, " █"&AM31&CHAR(10), AM31&CHAR(10)) ) )&AS31, "") | BB31: FALSE
C32: Benzophenone-6 | S32: 131-54-4 | AL32: 2 | AM32: =IF(AL32=1,BB32,IF(AL32=2,C32&IF(S32<>"",","&S32,""),"")) -> Benzophenone-6,131-54-4 | AN32: =BB32 -> FALSE | AO32: 群組5-8 | AP32: =BB32 -> FALSE | AQ32: =AND($AN32,$AP32) -> FALSE | AR32: =IF($AN32=TRUE,$AP32<>TRUE) -> FALSE | AT32: =AT31&IF(AQ32=TRUE, IF(AL32=3, IF(AM32="", "", " "&REPT("-", LEN(AO32) - LEN(SUBSTITUTE(AO32, "-", "")))&AM32&CHAR(10)), IF(AL32=1, ""&AM32&CHAR(10), IF(AL32=2, " █"&AM32&CHAR(10), AM32&CHAR(10)) ) )&AS32, "") | BB32: FALSE
C33: Benzophenone-8 | S33: 131-53-3 | AL33: 2 | AM33: =IF(AL33=1,BB33,IF(AL33=2,C33&IF(S33<>"",","&S33,""),"")) -> Benzophenone-8,131-53-3 | AN33: =BB33 -> FALSE | AO33: 群組5-9 | AP33: =BB33 -> FALSE | AQ33: =AND($AN33,$AP33) -> FALSE | AR33: =IF($AN33=TRUE,$AP33<>TRUE) -> FALSE | AT33: =AT32&IF(AQ33=TRUE, IF(AL33=3, IF(AM33="", "", " "&REPT("-", LEN(AO33) - LEN(SUBSTITUTE(AO33, "-", "")))&AM33&CHAR(10)), IF(AL33=1, ""&AM33&CHAR(10), IF(AL33=2, " █"&AM33&CHAR(10), AM33&CHAR(10)) ) )&AS33, "") | BB33: FALSE
C34: bis-ethylhexyloxyphenol methoxyphenyl triazine (TS) | S34: 187393-00-6 | AL34: 2 | AM34: =IF(AL34=1,BB34,IF(AL34=2,C34&IF(S34<>"",","&S34,""),"")) -> bis-ethylhexyloxyphenol methoxyphenyl triazine (TS),187393-00-6 | AN34: =BB34 -> FALSE | AO34: 群組5-10 | AP34: =BB34 -> FALSE | AQ34: =AND($AN34,$AP34) -> FALSE | AR34: =IF($AN34=TRUE,$AP34<>TRUE) -> FALSE | AT34: =AT33&IF(AQ34=TRUE, IF(AL34=3, IF(AM34="", "", " "&REPT("-", LEN(AO34) - LEN(SUBSTITUTE(AO34, "-", "")))&AM34&CHAR(10)), IF(AL34=1, ""&AM34&CHAR(10), IF(AL34=2, " █"&AM34&CHAR(10), AM34&CHAR(10)) ) )&AS34, "") | BB34: FALSE
C35: Butyl methoxydibenzoylmethane (Parsol 1789) | S35: 70356-09-1 | AL35: 2 | AM35: =IF(AL35=1,BB35,IF(AL35=2,C35&IF(S35<>"",","&S35,""),"")) -> Butyl methoxydibenzoylmethane (Parsol 1789),70356-09-1 | AN35: =BB35 -> FALSE | AO35: 群組5-11 | AP35: =BB35 -> FALSE | AQ35: =AND($AN35,$AP35) -> FALSE | AR35: =IF($AN35=TRUE,$AP35<>TRUE) -> FALSE | AT35: =AT34&IF(AQ35=TRUE, IF(AL35=3, IF(AM35="", "", " "&REPT("-", LEN(AO35) - LEN(SUBSTITUTE(AO35, "-", "")))&AM35&CHAR(10)), IF(AL35=1, ""&AM35&CHAR(10), IF(AL35=2, " █"&AM35&CHAR(10), AM35&CHAR(10)) ) )&AS35, "") | BB35: FALSE
C36: Diethylamino Hydroxybenzoyl Hexyl Benzoate(DHHB) | S36: 302776-68-7 | AL36: 2 | AM36: =IF(AL36=1,BB36,IF(AL36=2,C36&IF(S36<>"",","&S36,""),"")) -> Diethylamino Hydroxybenzoyl Hexyl Benzoate(DHHB),302776-68-7 | AN36: =BB36 -> FALSE | AO36: 群組5-12 | AP36: =BB36 -> FALSE | AQ36: =AND($AN36,$AP36) -> FALSE | AR36: =IF($AN36=TRUE,$AP36<>TRUE) -> FALSE | AT36: =AT35&IF(AQ36=TRUE, IF(AL36=3, IF(AM36="", "", " "&REPT("-", LEN(AO36) - LEN(SUBSTITUTE(AO36, "-", "")))&AM36&CHAR(10)), IF(AL36=1, ""&AM36&CHAR(10), IF(AL36=2, " █"&AM36&CHAR(10), AM36&CHAR(10)) ) )&AS36, "") | BB36: FALSE
... C48: 2-Phenylbenzimidazole 5-sulfonic acid and salts (PBSA) | S48: 27503-81-7 | AL48: 2 | AM48: =IF(AL48=1,BB48,IF(AL48=2,C48&IF(S48<>"",","&S48,""),"")) -> 2-Phenylbenzimidazole 5-sulfonic acid and salts (PBSA),27503-81-7 | AN48: =BB48 -> FALSE | AO48: 群組5-24 | AP48: =BB48 -> FALSE | AQ48: =AND($AN48,$AP48) -> FALSE | AR48: =IF($AN48=TRUE,$AP48<>TRUE) -> FALSE | AT48: =AT47&IF(AQ48=TRUE, IF(AL48=3, IF(AM48="", "", " "&REPT("-", LEN(AO48) - LEN(SUBSTITUTE(AO48, "-", "")))&AM48&CHAR(10)), IF(AL48=1, ""&AM48&CHAR(10), IF(AL48=2, " █"&AM48&CHAR(10), AM48&CHAR(10)) ) )&AS48, "") | BB48: FALSE
B49: 6. 防曬劑- in vitro防曬係數SPF Boots Star Rating(含數據、圖譜、流程方法): | AK49: =COUNTIF(BB50:BB53,TRUE) -> 0 | AL49: 1 | AM49: =B49 -> 6. 防曬劑- in vitro防曬係數SPF Boots Star Rating(含數據、圖譜、流程方法): | AN49: =OR(BB50:BB53) -> FALSE | AO49: 群組6 | AP49: =OR(BB50:BB53) -> FALSE | AQ49: =AND($AN49,$AP49) -> FALSE | AR49: =IF($AN49=TRUE,$AP49<>TRUE) -> FALSE | AT49: =AT48&IF(AQ49=TRUE, IF(AL49=3, IF(AM49="", "", " "&REPT("-", LEN(AO49) - LEN(SUBSTITUTE(AO49, "-", "")))&AM49&CHAR(10)), IF(AL49=1, ""&AM49&CHAR(10), IF(AL49=2, " █"&AM49&CHAR(10), AM49&CHAR(10)) ) )&AS49, "")
C50: EU Colipa 2011 (1.30mg/cm2) | AL50: 2 | AM50: =IF(AL50=1,BB50,IF(AL50=2,C50,"")) -> EU Colipa 2011 (1.30mg/cm2) | AN50: =BB50 -> FALSE | AO50: 群組6-1 | AP50: =BB50 -> FALSE | AQ50: =AND($AN50,$AP50) -> FALSE | AR50: =IF($AN50=TRUE,$AP50<>TRUE) -> FALSE | AT50: =AT49&IF(AQ50=TRUE, IF(AL50=3, IF(AM50="", "", " "&REPT("-", LEN(AO50) - LEN(SUBSTITUTE(AO50, "-", "")))&AM50&CHAR(10)), IF(AL50=1, ""&AM50&CHAR(10), IF(AL50=2, " █"&AM50&CHAR(10), AM50&CHAR(10)) ) )&AS50, "") | BB50: FALSE
C51: 中國化妝品安全技術規範2015 (2.0mg/cm2) | AL51: 2 | AM51: =IF(AL51=1,BB51,IF(AL51=2,C51,"")) -> 中國化妝品安全技術規範2015 (2.0mg/cm2) | AN51: =BB51 -> FALSE | AO51: 群組6-2 | AP51: =BB51 -> FALSE | AQ51: =AND($AN51,$AP51) -> FALSE | AR51: =IF($AN51=TRUE,$AP51<>TRUE) -> FALSE | AT51: =AT50&IF(AQ51=TRUE, IF(AL51=3, IF(AM51="", "", " "&REPT("-", LEN(AO51) - LEN(SUBSTITUTE(AO51, "-", "")))&AM51&CHAR(10)), IF(AL51=1, ""&AM51&CHAR(10), IF(AL51=2, " █"&AM51&CHAR(10), AM51&CHAR(10)) ) )&AS51, "") | BB51: FALSE
...

Sheet 附件一、付款切結書
B1: 付款切結書
B4: ※ 如第一頁申請廠商與發票廠商不同，再請填寫用印此付款切結書，
B5: 本公司 | O5: (申請廠商) 於民國 | W5: 年 | Z5: 月 | AC5: 日，
B6: 送驗 | O6: (樣品名稱)至台灣檢驗科技股份有限公司檢驗，
B7: 因公司內部因素，發票&付款由 | T7: (發票廠商)支付。若日後因上列之
B8: 原因，造成台灣檢驗科技股份有限公司出具之報告後，有任何付/收款問題、法律訴訟或
B9: 名譽受損等問題， | H9: 一律由本公司 | V9: (申請廠商)負擔責任問題。
B14: 申請廠商之公司大小章
B16: 承辦人簽名： | Q16: 用印處：
B20: 付款廠商之公司大小章
B22: 承辦人簽名： | Q22: 用印處：
B26: 民國 | F26: 年 | I26: 月 | L26: 日
B35: ※文件用印簽名完畢可隨樣品與簽名申請書一併寄至各區服務據點，並署名*超微量工業安全實驗室 收

Sheet 附件二、委託檢測聲明書
B1: 委託檢測聲明書
B4: ※ 如第一頁申請廠商非送測產品的生產製造或品牌所有者，需填寫與用印此聲明書，
B5: 本公司 | O5: (申請廠商) 於民國 | W5: 年 | Z5: 月 | AC5: 日，
B6: 受 | M6: 公司委託，送 | AA6: 產品至
B7: 台灣檢驗科技股份有限公司檢驗，因本公司與客戶協定關係，
B8: 測試報告上資料需如下呈現：
B9: ※報告廠商抬頭需填寫
B10: ※生產或供應廠商需填寫
B11: ※產品名稱需填寫
B12: 以上所有資料均取得此公司同意，若日後因上列之原因，造成台灣檢驗科技股份有限公司
B13: 出具之此份報告，有任何法律訴訟或名譽受損之疑，
B14: 一律由本公司 | O14: (申請廠商)負擔責任問題。
B17: 申請公司經辦人
P18: 用印處：
B19: 申請公司簽章(大小章)
B23: 委託公司經辦人
P24: 用印處：
B25: 委託公司簽章(大小章)
B27: 民國 | F27: 年 | I27: 月 | L27: 日
B36: ※文件用印簽名完畢可隨樣品與簽名申請書一併寄至各區服務據點，並署名*超微量工業安全實驗室 收

Sheet 安心資訊平台聲明書(事後申請)
B1: 安心資訊平台檢測報告資訊公開同意書
B2: 親愛的客戶您好,
B3: SGS推出”SGS安心資訊平台(MSN)”(https://msn.sgs.com/) 提供民眾與廠商在此平台上查詢您此次申請之SGS檢測報告。
B4: 您是否同意將此份SGS檢測報告揭露於”SGS安心資訊平台”以供大眾查詢呢？
B5: 若您同意，請於本頁下方的廠商用印處蓋公司大、小章，如果不同意則可不需理會此份文件。
B6: 如您未來評估有需要使用此服務時，請填寫此份同意書並用印後，寄回正本，本公司將會為您上傳該份檢測報告。
B7: SGS安心資訊網的平台特色
B8: 1. 本平台可查詢委託測試廠商資料，增加廠商的社會形象，亦可做為另一類的行銷管道。
B9: 2. 本平台查詢的檢測報告均為完整正確的檢測報告，加速潛在買家選購的意願。
B10: 3. 本平台所提供之檢測報告均需由SGS確認是否符合可上傳條件，並取得委託申請測試廠商同意，方能上傳報告。
B11: 4. 所提供之任何資料皆無涉及商業行為，僅為傳遞完整正確檢測報告之概念。
B12: 5. 本平台為SGS台灣官方網站，其揭露之檢測報告均為真實完整正確，為提供查證報告真實性之最佳工具。
... B27: **廠商基本資料** (如果之前已經在SGS安心資訊網站上刊登過，可免填，除非有資訊要做更改) ☐申請廠商 ☐發票廠商
B28: 廠商名稱： | I28: 統一編號：
B29: 聯絡電話： | H29: 傳真： | N29: E-mail：
H30: (公司名)同意並授權SGS將測試結果主動刊登至SGS安心資訊平台，已了解安心平台聲明書的內容，
B31: SGS保有最終上傳與否審核之權利。 (無用印即不同意刊登)
B32: 上架報告編號(必填)：
B33: 廠商用印(請蓋公司大、小章) : | O33: 用印日期(yyyy.mm.dd):
B34: 版次Version：3.4 發行日期Issued Date：2023.01.03 安心資訊平台檢測報告資訊公開同意書
B39: ※文件用印簽名完畢可隨樣品與簽名申請書一併寄至各區服務據點，並署名*超微量工業安全實驗室 收

Sheet 郵寄地址-中文
B1: 提供服務據點如下：
B2: 248020新北市新北產業園區五權七路38號
B3: 台灣檢驗科技股份有限公司
B4: 超微量工業安全實驗室 收
B5: Tel: 02-2299-3279 #7122~7124/7129/7131
B6: Fax: 02-2299-3320
B7: 407271台中市台中工業區14路9號
B8: 台灣檢驗科技股份有限公司
B9: 超微量工業安全實驗室 收
B10: Tel : 04- 2359-1515 #1500~1502/1505
B11: Fax: 04-2359-2949
B12: 811637高雄市楠梓加工出口區開發路61號
... B35: ※文件用印簽名完畢可隨樣品與簽名申請書一併寄至各區服務據點，並署名*超微量工業安全實驗室 收

Sheet 彙整資料
E1: 申請書中文名稱 | F1: 超微量工業安全實驗室委託試驗申請書- 化粧品
B2: =IF(D2&D3&D4&D5&D6&D7<>"",IF(D2<>"",D2&IF(D3&D4&D5&D6&D7<>"",CHAR(10)&"----------------------------------------------------------------------------------"&CHAR(10),""),"")& IF(D3<>"",D3&IF(D4&D5&D6&D7<>"",CHAR(10)&"----------------------------------------------------------------------------------"&CHAR(10),""),"")& IF(D4<>"",D4&IF(D5&D6&D7<>"",CHAR(10)&"----------------------------------------------------------------------------------"&CHAR(10),""),"")& IF(D5<>"",D5&IF(D6&D7<>"",CHAR(10)&"----------------------------------------------------------------------------------"&CHAR(10),""),"")& IF(D6<>"",D6&IF(D7<>"",CHAR(10)&"----------------------------------------------------------------------------------"&CHAR(10),""),"")& IF(D7<>"",D7,"")&"========================================================","") | C2: ='化粧品 測試項目'!AY1 | D2: =IF('化粧品 測試項目'!AY4="","",'化粧品 測試項目'!AY4) | E2: 申請書英文名稱 | F2: Ultra Trace and Industrial Safety Hygiene Laboratory Application Form - Cosmetics
C3: ='特定功能化粧品 測試項目'!AY1 | D3: =IF('特定功能化粧品 測試項目'!AY4="","",'特定功能化粧品 測試項目'!AY4) | E3: 版次Version： | F3: 5.5
E4: 發行日期Issued Date： | F4: 2026.06.01
F5: 台灣檢驗科技股份有限公司-健康產業服務
F6: SGS Taiwan Ltd. - Health Industry Services
