Workbook
Name _Hlk116475822: '化粧品 測試項目'!$B$138
Name _Hlk116475832: '化粧品 測試項目'!$D$132
Name _Hlk52786461: '郵寄地址-中文'!$B$18
Name Mainpage_testrequired1: '主頁 Main Page'!$D$48
Name Mainpage_testrequired2: '主頁 Main Page'!$D$51:$AJ$53
Name test_sum: [1]彙整資料!$B$2

Sheet 主頁 Main Page
B1: 台北:02-22993279 #7122~7124/7129/7131 傳真02-22993320, | M1: 台中:04-23591515 #1500~1502/1505 傳真04-23592949, | Z1: 高雄:07-3012121 #4804/4805/4809 傳真07-3010860 | BB1: 連絡電話台北:02-22993279 #7122~7124/7129/7131 傳真02-22981338, 台中:04-23591515 #1500~1502/1505 傳真04-23592949, 高雄:07-3012121 #4804/4805/4809 傳真07-3010860
B3: 申請廠商/試驗委託者 | C3: Applicant (APPL.)/Sponsor | D3: ※申請廠商 APPL. : | AK3: {=IF($BU$26,IF(SUMPRODUCT(LEN(L3)-LEN(SUBSTITUTE(LOWER(L3), MID("abcdefghijklmnopqrstuvwxyz", ROW(INDIRECT("1:26")), 1), ""))) <= 2, "←請填寫英文Please fill in English.",""),"")} | AO3: =彙整資料!B2 | BB3: 申請廠商/試驗委託者 | BC3: Applicant (APPL.)/Sponsor | BD3: ※申請廠商 APPL. :
D4: ※申請廠商地址 APPL. Address : | AK4: {=IF($BU$26,IF(SUMPRODUCT(LEN(L4)-LEN(SUBSTITUTE(LOWER(L4), MID("abcdefghijklmnopqrstuvwxyz", ROW(INDIRECT("1:26")), 1), ""))) <= 2, "←請填寫英文Please fill in English.",""),"")} | BD4: ※申請廠商地址 APPL. Address :
D5: ※申請廠商電話 APPL. Tel : | U5: 分機 Ext : | BD5: ※申請廠商電話 APPL. Tel : | BU5: 分機 Ext :
D6: ※申請廠商聯絡人 Contact Person : | AK6: {=IF($BU$26,IF(SUMPRODUCT(LEN(L6)-LEN(SUBSTITUTE(LOWER(L6), MID("abcdefghijklmnopqrstuvwxyz", ROW(INDIRECT("1:26")), 1), ""))) <= 2, "←請填寫英文Please fill in English.",""),"")} | BD6: ※申請廠商聯絡人 Contact Person :
D7: ※報告抬頭廠商及地址 Company name and address in the report : | BD7: ※報告抬頭廠商及地址 Company name and address in the report :
E8: 同申請廠商/試驗委託 As applicant/sponsor | O8: 同發票廠商 As Invoice company | BD8: FALSE | BE8: 同申請廠商/試驗委託 As applicant/sponsor | BN8: FALSE | BO8: 同發票廠商 As Invoice company
A9: =IF(AND(BD16<>TRUE,L17<>L3),"Payment Statement","") | D9: ※報告抬頭廠商 Sponsor’s Name : | AK9: {=IF(AND($BU$26,OR($BD$8,$BN$8)<>TRUE),IF(SUMPRODUCT(LEN(L9)-LEN(SUBSTITUTE(LOWER(L9), MID("abcdefghijklmnopqrstuvwxyz", ROW(INDIRECT("1:26")), 1), ""))) <= 2, "←請填寫英文Please fill in English.",""),"")} | BD9: 報告抬頭廠商 Sponsor’s Name :
D10: ※報告抬頭地址 Sponsor’s Address : | AK10: {=IF(AND($BU$26,OR($BD$8,$BN$8)<>TRUE),IF(SUMPRODUCT(LEN(L10)-LEN(SUBSTITUTE(LOWER(L10), MID("abcdefghijklmnopqrstuvwxyz", ROW(INDIRECT("1:26")), 1), ""))) <= 2, "←請填寫英文Please fill in English.",""),"")} | BD10: 報告抬頭地址 Sponsor’s Address :
D11: 如為英文報告，請提供英文資訊。Please provide the information in English if the report is in English, . | BD11: 如為英文報告，請提供英文資訊。Please provide the information in English if the report is in English, .
D12: ※粗框中標示「※」符號的內容將呈現於報告中。The contents marked with「※」will be shown in the report. | BD12: ※粗框中標示「※」符號的內容將呈現於報告中。The contents marked with「※」will be shown in the report.
D13: 統一編號 Registration Add. I/V No : | BD13: 報告聯絡電話 Tel : | BO13: 分機 Ext : | BS13: 手機 Mobile : | CD13: 傳真 Fax :
D14: 報告聯絡電話 Tel : | O14: 分機 Ext : | S14: 手機 Mobile : | AD14: 傳真 Fax :
D15: 電子郵件 E-mail : | S15: 聯絡人Contact Person : | BD15: 電子郵件 E-mail : | BS15: 聯絡人Contact Person :
A16: =IF(AND(BD16<>TRUE,L17<>L3),"付款切結書連結","") | B16: 發票廠商 | C16: Invoice | D16: =$BD$16 -> FALSE | E16: 同申請廠商/試驗委託 As applicant/sponsor | N16: ※如與申請廠商不同，需提供附件「付款切結書」 The payment statement should be provided if the invoice title is different as the applicant. | BB16: 發票廠商 | BC16: Invoice | BD16: FALSE | BE16: 同申請廠商/試驗委託 As applicant/sponsor | BN16: ※如與申請廠商不同，需提供附件「付款切結書」 The payment statement should be provided if the invoice title is different as the applicant.
D17: 發票廠商 Invoice To : | AK17: {=IF(AND($BU$26,$BN$8),IF(SUMPRODUCT(LEN(L17)-LEN(SUBSTITUTE(LOWER(L17), MID("abcdefghijklmnopqrstuvwxyz", ROW(INDIRECT("1:26")), 1), ""))) <= 2, "←請填寫英文Please fill in English.",""),"")} | BD17: 發票廠商 Invoice To :
D18: 統一編號 Registration Add. I/V No : | BD18: 統一編號 Registration Add. I/V No :
D19: 發票格式 Invoice Format : | M19: 電子發票 Digital Invoice. | T19: 紙本發票 Paper invoice. | AC19: =IF(OR(BL19,BS19),IF(AND(BL19,BS19),"(擇一Choose one)",IF(BS19,IF(BD16,"","填寫地址 Fill in address."),IF(BD16,IF(I15="","填寫電子郵件 Fill in E-mail.",""),"填寫電子郵件 Fill in E-mail."))),"PleaseNote") -> PleaseNote | BD19: FALSE | BL19: FALSE | BS19: FALSE
D20: 發票郵寄地址 Registration Address : | AK20: {=IF(AND($BU$26,$BN$8),IF(SUMPRODUCT(LEN(L20)-LEN(SUBSTITUTE(LOWER(L20), MID("abcdefghijklmnopqrstuvwxyz", ROW(INDIRECT("1:26")), 1), ""))) <= 2, "←請填寫英文Please fill in English.",""),"")} | BD20: 發票郵寄地址 Registration Address :
D21: 發票聯絡電話 Tel : | O21: 分機 Ext : | S21: 手機 Mobile : | AD21: 傳真 Fax : | BD21: 報告聯絡電話 Tel : | BO21: 分機 Ext : | BS21: 手機 Mobile : | CD21: 傳真 Fax :
D22: 電子郵件 E-mail : | S22: 付款聯絡人Contact Person : | BD22: 電子郵件 E-mail : | BS22: 付款聯絡人Contact Person :
A23: 「SGS安心資訊平台」 公開同意書連結 | B23: 報告需求 | C23: Report requriement | D23: 服務類別 Service type : | J23: 普通件 General | O23: 急件(費用加50%) Express (Surcharge 50%) | V23: 特急件(費用加96%) Urgent (Surcharge 96%) | AD23: (若未勾選一律以普件處理Default for General) | BB23: 報告需求 | BC23: Report requriement | BD23: 服務類別 Service type : | BI23: FALSE | BJ23: 普通件 General | BN23: FALSE | BO23: 急件(費用加50%) Express (Surcharge 50%) | BU23: FALSE | BV23: 特急件(費用加96%) Urgent (Surcharge 96%) | CD23: (若未勾選一律以普件處理Default for General)
D24: ※ 收件當天及例假日不列入工作天數。 Working days non-including weekends and National holidays. For Express & Urgent service, please inform us in advance. | BD24: ※ 收件當天及例假日不列入工作天數。 Working days non-including weekends and National holidays. For Express & Urgent service, please inform us in advance.
D25: 測項及報告使用目的Testing purpose : | O25: 自主管理For self-management | V25: 出口使用For export | AD25: 政府法規要求 For regulations | BD25: 測項及報告使用目的Testing purpose : | BN25: FALSE | BO25: 自主管理For self-management | BU25: FALSE | BV25: 出口使用For export | CC25: FALSE | CD25: 政府法規要求 For regulations
D26: 電子報告語言 Electronic report language: | O26: 中文 Traditional Chinese | V26: 英文 English | AA26: 未填寫以中文提供。If not filled in, provided in Chinese. | AK26: =IF(OR(COUNTIF(AK3:AK25,"*English*")>0,COUNTIF(AK29:AK43,"*English*")>0),"申請資訊請填寫英文","") | BD26: 電子簽報告格式Digital signature report format : | BN26: FALSE | BO26: 中文 Traditional Chinese | BU26: FALSE | BV26: 英文 English | CA26: 未填寫以中文提供。If not filled in, provided in Chinese.
D27: 專案報告以紙本提供，如有電子簽章報告需求請洽客服窗口。The project report is provided in a paper form. If you need a digital signature report, please contact us. | BD27: 專案報告以紙本提供，如有電子簽章報告需求請洽客服窗口。The project report is provided in a paper form. If you need a digital signature report, please contact us.
D28: 申請加發紙本報告 Hard Copy : | O28: 加發紙本 Apply | U28: =IF(OR(AND(BU26,BN26),BN28),"需額外加收取費用 It will be charged.","") | AK28: =IF(OR(COUNTIF(AK3:AK25,"*English*")>0,COUNTIF(AK29:AK43,"*English*")>0),"Please fill in the information in English.","") | BD28: 申請加發紙本報告 Hard Copy : | BN28: FALSE | BO28: 中文 Traditional Chinese
D29: 紙本報告取法Shipping Method of Hard Copy : | O29: 自取報告 Pick up by self | V29: 郵寄 By mail (提供郵寄地址 Provide Recipient’s Address) | BD29: 紙本報告取法Shipping Method of Hard Copy : | BN29: FALSE | BO29: 自取報告 Pick up by self | BU29: FALSE | BV29: 郵寄 By mail (提供郵寄地址 Provide Recipient’s Address)
D30: 報告郵寄地址 Recipient’s Address : | O30: 同申請廠商/試驗委託As applicant/sponsor | AC30: 同發票廠商As Invoice company | BD30: 報告郵寄地址 Recipient’s Address : | BN30: FALSE | BO30: 同申請廠商/試驗委託As applicant/sponsor | BZ30: FALSE | CA30: FALSE
D32: ※檢測僅提供一種語言報告電子檔；若同時選擇中、英二種語言電子檔或申請加發紙本報告，需額外收取費用。如勾選申請加發紙本報告，務必勾選報告取法；紙本報告只限台灣境內寄送。We will provide a Digital signature report in one kind of language (either Chinese or English) for free. Additional soft copy or hard copy will be charged. Please select and tick. Please select the method to have the reports. A hard copy is for domestic mail in Taiwan only. | BD32: ※檢測僅提供一種語言報告電子檔；若同時選擇中、英二種語言電子檔或申請加發紙本報告，需額外收取費用。如勾選申請加發紙本報告，務必勾選報告取法；紙本報告只限台灣境內寄送。We will provide a soft copy in one kind of language (either Chinese or English) for free. Additional soft copy or hard copy will be charged. Please select and tick. Please select the method to have the reports. A hard copy is for domestic mail in Taiwan only.
A33: =IF(J35<>L3,"Statemen of Authorization","") | B33: 樣品資訊 | C33: Sample Information | D33: 1 | E33: ※產品名稱 Sample Name(必填required) : | U33: ※包裝狀態 Packing Condition : | AD33: 完整包裝 Intact Packing | AK33: {=IF($BU$26,IF(SUMPRODUCT(LEN(J33)-LEN(SUBSTITUTE(LOWER(J33), MID("abcdefghijklmnopqrstuvwxyz", ROW(INDIRECT("1:26")), 1), ""))) <= 2, "←產品名稱填寫英文", ""),"")} | BB33: 樣品資訊 | BC33: Sample Information | BD33: 1 | BE33: ※產品名稱 Sample Name(必填required) : | BU33: ※包裝狀態 Packing Condition : | CC33: FALSE | CD33: 完整包裝 Intact Packing
AD34: 散裝 In Bulk | AK34: {=IF($BU$26,IF(SUMPRODUCT(LEN(J33)-LEN(SUBSTITUTE(LOWER(J33), MID("abcdefghijklmnopqrstuvwxyz", ROW(INDIRECT("1:26")), 1), ""))) <= 2, "← Name should be filled in English.", ""),"")} | CC34: FALSE | CD34: 散裝 In Bulk
D35: 2 | E35: ※製造/國內負責廠商Manufacturer/Vendor (必填required) : | U35: ※樣品保存方式 Storage Condition : | AD35: 室溫Room Temperature | AK35: {=IF($BU$26,IF(SUMPRODUCT(LEN(J35)-LEN(SUBSTITUTE(LOWER(J35), MID("abcdefghijklmnopqrstuvwxyz", ROW(INDIRECT("1:26")), 1), ""))) <= 2, "←廠商資訊填寫英文 ", ""),"")} | BD35: 2 | BE35: ※製造/國內負責廠商Supplier/Manufacturer (必填required) : | BU35: ※樣品保存方式 Storage Condition : | CC35: FALSE | CD35: 室溫 Room Temperature
AD36: 冷藏 2℃~8℃ | AK36: {=IF($BU$26,IF(SUMPRODUCT(LEN(J35)-LEN(SUBSTITUTE(LOWER(J35), MID("abcdefghijklmnopqrstuvwxyz", ROW(INDIRECT("1:26")), 1), ""))) <= 2, "←Supplier/Manufacturer should be filled in English.", ""),"")} | CC36: FALSE | CD36: 冷藏 2℃~8℃
A37: =IF(J35<>L3,"委託檢測聲明書連結","") | AD37: 冷凍 -25℃~ -15℃ | CC37: FALSE | CD37: 冷凍 -25℃~ -15℃
D38: 3 | E38: 型號 Model No. : | U38: ※樣品量 Amount (必填required) : | AE38: 數量 Quantity | BD38: 3 | BE38: 型號 Model No. : | BU38: ※樣品量 Amount (必填required) : | CE38: 數量 Quantity
D39: 4 | E39: ※批號 Lot. No. : | AE39: 單位 Unit | AF39: Unit | BD39: 4 | BE39: ※批號 Lot. No. : | CE39: 單位 Unit | CF39: Unit
D40: 5 | E40: ※製造日期 MFG : | AC40: (若勾選”散裝”請提供總重量。 If "Bulk" is checked, please provide the total weight.) | BD40: 5 | BE40: ※製造日期 MFG : | CC40: (若勾選”散裝”請提供總重量。 If "Bulk" is checked, please provide the total weight.)
D41: 6 | E41: ※有效期限 EXP : | BD41: 6 | BE41: ※有效期限 EXP :
D42: 7 | E42: 樣品屬性 Sample Properties : | K42: 管制藥品 Controlled Drug | U42: (備註及聲明9. Note and Statement 9.) (未勾選者表示申請廠商/試驗委託者確認測試樣品/試驗物質/對照物質非管制藥品/毒性及關注化學)(Unchecked items indicate that the applicant/sponsor confirms that the test samples, test article, or control article are not classified as controlled drugs or toxic and concerned chemical substances.) | BD42: 7 | BE42: ※樣品屬性 Sample Properties : | BJ42: FALSE | BK42: 管制藥品 Controlled Drug | BU42: (備註及聲明9. Note and Statement 9.) (未勾選者表示申請廠商/試驗委託者確認測試樣品/試驗物質/對照物質非管制藥品/毒性及關注化學
K43: 毒性及關注化學物質 Toxic and Concerned Chemical Substances | BJ43: FALSE | BK43: 毒性及關注化學物質 Toxic and Concerned Chemical Substances
D44: 8 | E44: 其他 Other : | BD44: 8 | BE44: 其他 Other :
D45: ※若申請廠商非送測產品的生產製造商或品牌所有者，請填寫附件二「委託檢測聲明書」，或提供相關合作授權證明。 The letter of commissioned inspection statemen of authorization or relevant cooperation authorization certificate is necessary if the applicant is not the manufacturer or brand owner of the product submitted for testing. | BD45: ※若申請廠商非送測產品的生產製造商或品牌所有者，請填寫附件二「委託檢測聲明書」，或提供相關合作授權證明。 The letter of commissioned inspection statemen of authorization or relevant cooperation authorization certificate is necessary if the applicant is not the manufacturer or brand owner of the product submitted for testing.
D46: ※以上”必填”欄位若未填寫視同無，報告則將出具「---」。包裝上標示(製造/有效日期/型號/批號/生產或供應商)資訊會拍照呈現報告中。粗框中標示「※」符號內的內容將呈現於報告中。Please noted that if the content marked as "※" is blank, there will be issued as "-" in the report. Please noted that any information on the package (includes manufacture date / expiry date / model number / lot number / supplier or manufacturer) will be shown with the sample photo in the report. Please noted that the contents marked as "※" will be shown in the report. | BD46: ※以上”必填”欄位若未填寫視同無，報告則將出具「---」。包裝上標示(製造/有效日期/型號/批號/生產或供應商)資訊會拍照呈現報告中。粗框中標示「※」符號內的內容將呈現於報告中。Please noted that if the content marked as "※" is blank, there will be issued as "-" in the report. Please noted that any information on the package (includes manufacture date / expiry date / model number / lot number / supplier or manufacturer) will be shown with the sample photo in the report. Please noted that the contents marked as "※" will be shown in the report.
B47: 委託測試項目 | C47: Test Required | D47: 請於附錄頁中勾選委託檢測項目，若附錄頁未呈現者，請直接填寫於下方。Please pick test item from attachment or fill it in directly below. | BB47: 委託測試項目 | BC47: Test(s) Required | BD47: 請於附錄頁中勾選委託檢測項目，若附錄頁未呈現者，請直接填寫於下方。Please pick test item from attachment or fill it in directly below.
D51: =IF(AO3="","",AO3)
B54: 備註及聲明Note and Statement | BB54: 備註及聲明Note and Statement
B55: 1 | C55: 本申請廠商/試驗委託者申請上述之檢驗，同意所有試驗依SGS所訂之通用服務條款(https://www.sgs.com.tw/terms-of-service)履行。The applicant/sponsor applies for the above-metioned inspection and agrees that all tests should be conducted in accordance with the 「GENERAL CONDITIONS OF SERVICE」stipulated by SGS (http://www.sgs.com.tw/Terms-and-Conditions). | AR55: =C55 -> 本申請廠商/試驗委託者申請上述之檢驗，同意所有試驗依SGS所訂之通用服務條款(https://www.sgs.com.tw/terms-of-service)履行。The applicant/sponsor applies for the above-metioned inspection and agrees that all tests should be conducted in accordance with the 「GENERAL CONDITIONS OF SERVICE」stipulated by SGS (http://www.sgs.com.tw/Terms-and-Conditions). | BB55: 1 | BC55: 本申請廠商/試驗委託者申請上述之檢驗，同意所有試驗依SGS所訂之通用服務條款(http://www.sgs.com.tw/Terms-and-Conditions)履行。The applicant/sponsor applies for the above-metioned inspection and agrees that all tests should be conducted in accordance with the 「GENERAL CONDITIONS OF SERVICE」stipulated by SGS (http://www.sgs.com.tw/Terms-and-Conditions).
B56: 2 | C56: 如未附報價單，以SGS定價為主。If no quotation is attached, the SGS pricing shall prevail. | AR56: =C56 -> 如未附報價單，以SGS定價為主。If no quotation is attached, the SGS pricing shall prevail. | BB56: 2 | BC56: 如未附報價單，以SGS定價為主。If no quotation is attached, the SGS pricing shall prevail.
B57: 3 | C57: 此檢驗費用均為未稅金額；新交易、久未交易(一年內未有交易往來)及海外客戶需先付清款項，方能執行檢驗。The inspection fee is the tax-excluded amount. For long-term transactions (no transaction within one year) and overseas customers, please make the remittance prior to the testing. | AR57: =C57 -> 此檢驗費用均為未稅金額；新交易、久未交易(一年內未有交易往來)及海外客戶需先付清款項，方能執行檢驗。The inspection fee is the tax-excluded amount. For long-term transactions (no transaction within one year) and overseas customers, please make the remittance prior to the testing. | BB57: 3 | BC57: 此檢驗費用均為未稅金額；新交易、久未交易(一年內未有交易往來)及海外客戶需先付清款項，方能執行檢驗。The inspection fee is the tax-excluded amount. For long-term transactions (no transaction within one year) and overseas customers, please make the remittance prior to the testing.
B58: 4 | C58: 微生物參照衛生福利部公告方法檢驗；微生物不接受急件、特急件。Microorganism testing refers to International Standard or Official methods. Express and Urgent services are not available for microorganism testing. | AR58: =C58 -> 微生物參照衛生福利部公告方法檢驗；微生物不接受急件、特急件。Microorganism testing refers to International Standard or Official methods. Express and Urgent services are not available for microorganism testing. | BB58: 4 | BC58: 微生物參照衛生福利部公告方法檢驗；微生物不接受急件、特急件。Microorganism testing refers to International Standard or Official methods. Express and Urgent services are not available for microorganism testing.
B59: 5 | C59: 申請廠商/試驗委託者所提供的測試樣品/試驗物質/對照物質會因取樣與測試需要，而造成測試樣品/試驗物質/對照物質之減損與破壞，若委託者不同意或有特殊要求時，應主動於申請檢測前告知並載明於申請書，若因申請廠商/試驗委託者未告知而產生相關損失，本實驗室將不負賠償責任。對於送驗之測試樣品/試驗物質/對照物質依樣品類型留存至少一周(依報告簽署日後起算)，除非申請廠商/試驗委託者另有要求且記載於申請書上，將另作處置。（依據本實驗室之樣品保存規範）The test samples/ test article/control article provided by the applicant/sponsor might be damaged or destroyed due to sampling and testing requirements. If the applicant/sponsor does not agree or has special requirements, should take the initiative to inform and specify it in the application form prior to the test. If the applicant/sponsor doesn’t inform and causes relevant losses, we will not be liable for compensation. The test samples/ test article/control article submitted for testing shall be kept for at least one week according to sample type (from the date of issuing the report) unless otherwise required by the applicant/sponsor and recorded on the applicant/sponsor form, they will be processed separately. (According to our sample storage specification) | AR59: =C59 -> 申請廠商/試驗委託者所提供的測試樣品/試驗物質/對照物質會因取樣與測試需要，而造成測試樣品/試驗物質/對照物質之減損與破壞，若委託者不同意或有特殊要求時，應主動於申請檢測前告知並載明於申請書，若因申請廠商/試驗委託者未告知而產生相關損失，本實驗室將不負賠償責任。對於送驗之測試樣品/試驗物質/對照物質依樣品類型留存至少一周(依報告簽署日後起算)，除非申請廠商/試驗委託者另有要求且記載於申請書上，將另作處置。（依據本實驗室之樣品保存規範）The test samples/ test article/control article provided by the applicant/sponsor might be damaged or destroyed due to sampling and testing requirements. If the applicant/sponsor does not agree or has special requirements, should take the initiative to inform and specify it in the application form prior to the test. If the applicant/sponsor doesn’t inform and causes relevant losses, we will not be liable for compensation. The test samples/ test article/control article submitted for testing shall be kept for at least one week according to sample type (from the date of issuing the report) unless otherwise required by the applicant/sponsor and recorded on the applicant/sponsor form, they will be processed separately. (According to our sample storage specification) | BB59: 5 | BC59: 申請廠商/試驗委託者所提供的測試樣品/試驗物質/對照物質會因取樣與測試需要，而造成測試樣品/試驗物質/對照物質之減損與破壞，若委託者不同意或有特殊要求時，應主動於申請檢測前告知並載明於申請書，若因申請廠商/試驗委託者未告知而產生相關損失，本實驗室將不負賠償責任。對於送驗之測試樣品/試驗物質/對照物質依樣品類型留存至少一周(依報告簽署日後起算)，除非申請廠商/試驗委託者另有要求且記載於申請書上，將另作處置。（依據本實驗室之樣品保存規範）The test samples/ test article/control article provided by the applicant/sponsor might be damaged or destroyed due to sampling and testing requirements. If the applicant/sponsor does not agree or has special requirements, should take the initiative to inform and specify it in the application form prior to the test. If the applicant/sponsor doesn’t inform and causes relevant losses, we will not be liable for compensation. The test samples/ test article/control article submitted for testing shall be kept for at least one week according to sample type (from the date of issuing the report) unless otherwise required by the applicant/sponsor and recorded on the applicant/sponsor form, they will be processed separately. (According to our sample storage specification)
B60: 6 | C60: 若測試樣品/試驗物質/對照物質(或方法)被判斷為偏離而申請廠商/試驗委託仍需檢測，將於報告中載明偏離事項。If the test samples/ test article/control article (or method) is judged to be deviated, the deviation will be stated in the report if the applicant/sponsor instructs to keep on the testing. | AR60: =C60 -> 若測試樣品/試驗物質/對照物質(或方法)被判斷為偏離而申請廠商/試驗委託仍需檢測，將於報告中載明偏離事項。If the test samples/ test article/control article (or method) is judged to be deviated, the deviation will be stated in the report if the applicant/sponsor instructs to keep on the testing. | BB60: 6 | BC60: 若測試樣品/試驗物質/對照物質(或方法)被判斷為偏離而申請廠商/試驗委託仍需檢測，將於報告中載明偏離事項。If the test samples/ test article/control article (or method) is judged to be deviated, the deviation will be stated in the report if the applicant/sponsor instructs to keep on the testing.
B61: 7 | C61: 不同種類、來源及最小獨立包裝之測試樣品/試驗物質/對照物質，應分別執行檢驗並出具報告，故本實驗室不接受多種產品混測執行。Test samples/test substances/control substances of different types, sources and smallest independent packaging should be tested separately and separated reports should be issued, so mixed testing of multiple products is not allowed. | AR61: =C61 -> 不同種類、來源及最小獨立包裝之測試樣品/試驗物質/對照物質，應分別執行檢驗並出具報告，故本實驗室不接受多種產品混測執行。Test samples/test substances/control substances of different types, sources and smallest independent packaging should be tested separately and separated reports should be issued, so mixed testing of multiple products is not allowed. | BB61: 7 | BC61: 不同種類、來源及最小獨立包裝之測試樣品/試驗物質/對照物質，應分別執行檢驗並出具報告，故本實驗室不接受多種產品混測執行。Test samples/test substances/control substances of different types, sources and smallest independent packaging should be tested separately and separated reports should be issued, so mixed testing of multiple products is not allowed.
B62: 8 | C62: 對任何委託之測試樣品/試驗物質/對照物質或實驗中包含任何已知的實際或潛在危險或危害，如放射性、有毒、有害、感染性物質(如病毒、病原體、動物檢體等)或爆炸元素或物質、環境汙染或中毒的存在和危險，需事先通知本實驗室。For any test samples/test substances/control substances or experiments that contain any known actual or potential dangers or hazards, such as radioactive, toxic, harmful, infectious substances (such as viruses, pathogens, animal samples, etc.), explosive elements or substances, or the existence and danger of environmental pollution or poisoning must be notified in advance. | AR62: =C62 -> 對任何委託之測試樣品/試驗物質/對照物質或實驗中包含任何已知的實際或潛在危險或危害，如放射性、有毒、有害、感染性物質(如病毒、病原體、動物檢體等)或爆炸元素或物質、環境汙染或中毒的存在和危險，需事先通知本實驗室。For any test samples/test substances/control substances or experiments that contain any known actual or potential dangers or hazards, such as radioactive, toxic, harmful, infectious substances (such as viruses, pathogens, animal samples, etc.), explosive elements or substances, or the existence and danger of environmental pollution or poisoning must be notified in advance. | BB62: 8 | BC62: 對任何委託之測試樣品/試驗物質/對照物質或實驗中包含任何已知的實際或潛在危險或危害，如放射性、有毒、有害、感染性物質(如病毒、病原體、動物檢體等)或爆炸元素或物質、環境汙染或中毒的存在和危險，需事先通知本實驗室。For any test samples/test substances/control substances or experiments that contain any known actual or potential dangers or hazards, such as radioactive, toxic, harmful, infectious substances (such as viruses, pathogens, animal samples, etc.), explosive elements or substances, or the existence and danger of environmental pollution or poisoning must be notified in advance.
B63: 9 | C63: 申請廠商/試驗委託者應確認所提供之測試樣品/試驗物質/對照物質/標準品等是否為管制藥品或毒性及關注化學物質，若是須提供相關登載及佐證文件以利與當地衛生主管機關、食品藥物署或行政院環境保護署申報。The applicant/sponsor shall confirm whether the provided test samples/ test article/control article/standards provided are Controlled Drug or Toxic and Concerned Chemical Substances and shall provide relevant registered and supporting documents to facilitate declaration with local health authority, Taiwan Food and Drug Administration or the Environmental Protection Administration, Executive Yuan. | AR63: =C63 -> 申請廠商/試驗委託者應確認所提供之測試樣品/試驗物質/對照物質/標準品等是否為管制藥品或毒性及關注化學物質，若是須提供相關登載及佐證文件以利與當地衛生主管機關、食品藥物署或行政院環境保護署申報。The applicant/sponsor shall confirm whether the provided test samples/ test article/control article/standards provided are Controlled Drug or Toxic and Concerned Chemical Substances and shall provide relevant registered and supporting documents to facilitate declaration with local health authority, Taiwan Food and Drug Administration or the Environmental Protection Administration, Executive Yuan. | BB63: 9 | BC63: 申請廠商/試驗委託者應確認所提供之測試樣品/試驗物質/對照物質/標準品等是否為管制藥品或毒性及關注化學物質，若是須提供相關登載及佐證文件以利與當地衛生主管機關、食品藥物署或行政院環境保護署申報。The applicant/sponsor shall confirm whether the provided test samples/ test article/control article/standards provided are Controlled Drug or Toxic and Concerned Chemical Substances and shall provide relevant registered and supporting documents to facilitate declaration with local health authority, Taiwan Food and Drug Administration or the Environmental Protection Administration, Executive Yuan.
B64: 10 | C64: 申請廠商/試驗委託者有提供之試驗過程必要之資訊(包含但不限於對照物質、管柱、與當次測試結果相關之計算數據)，應同步提供該合用性之成份分析檢驗報告或聲明書。 The applicant/sponsor shall provide the necessary information for the test process (including but not limited to reference substances, columns, and analytical data related to the current test result), and shall provide the COA (Certificate of Analysis) or statement of the suitability at the same time. | AR64: =C64 -> 申請廠商/試驗委託者有提供之試驗過程必要之資訊(包含但不限於對照物質、管柱、與當次測試結果相關之計算數據)，應同步提供該合用性之成份分析檢驗報告或聲明書。 The applicant/sponsor shall provide the necessary information for the test process (including but not limited to reference substances, columns, and analytical data related to the current test result), and shall provide the COA (Certificate of Analysis) or statement of the suitability at the same time. | BB64: 10 | BC64: 申請廠商/試驗委託者有提供之試驗過程必要之資訊(包含但不限於對照物質、管柱、與當次測試結果相關之計算數據)，應同步提供該合用性之成份分析檢驗報告或聲明書。 The applicant/sponsor shall provide the necessary information for the test process (including but not limited to reference substances, columns, and analytical data related to the current test result), and shall provide the COA (Certificate of Analysis) or statement of the suitability at the same time.
B65: 11 | C65: 報告所載測試結果將依照法規、方法或認證證書所載之單位呈現，除內毒素因法規要求會換算於備註之外，其他測試項目不於報告中登載單位換算後的結果。The test results contained in the report will be presented in accordance with the regulations, methods or the units listed in the certification certificate. Except for endotoxin, which will be converted in the remarks due to regulatory requirements, other test items will not be published in the report after unit conversion. | AR65: =C65 -> 報告所載測試結果將依照法規、方法或認證證書所載之單位呈現，除內毒素因法規要求會換算於備註之外，其他測試項目不於報告中登載單位換算後的結果。The test results contained in the report will be presented in accordance with the regulations, methods or the units listed in the certification certificate. Except for endotoxin, which will be converted in the remarks due to regulatory requirements, other test items will not be published in the report after unit conversion. | BB65: 11 | BC65: 報告所載測試結果將依照法規、方法或認證證書所載之單位呈現，除內毒素因法規要求會換算於備註之外，其他測試項目不於報告中登載單位換算後的結果。The test results contained in the report will be presented in accordance with the regulations, methods or the units listed in the certification certificate. Except for endotoxin, which will be converted in the remarks due to regulatory requirements, other test items will not be published in the report after unit conversion.
B66: 12 | C66: 測試樣品/試驗物質/對照物質不退樣；若客戶需退樣，請於送件時通知本實驗室，測試樣品/試驗物質/對照物質的一致性、生物安全之責任及快遞費用由客戶負擔。The test samples/ test article/control article will not be returned; if the customer needs to return the test samples/ test article/control article, please notify us when sending the package. The responsibility of consistency and biosafety of the test samples/ test article/control article and courier fee shall be borne by the customer. | AR66: =C66 -> 測試樣品/試驗物質/對照物質不退樣；若客戶需退樣，請於送件時通知本實驗室，測試樣品/試驗物質/對照物質的一致性、生物安全之責任及快遞費用由客戶負擔。The test samples/ test article/control article will not be returned; if the customer needs to return the test samples/ test article/control article, please notify us when sending the package. The responsibility of consistency and biosafety of the test samples/ test article/control article and courier fee shall be borne by the customer. | BB66: 12 | BC66: 測試樣品/試驗物質/對照物質不退樣；若客戶需退樣，請於送件時通知本實驗室，測試樣品/試驗物質/對照物質的一致性、生物安全之責任及快遞費用由客戶負擔。The test samples/ test article/control article will not be returned; if the customer needs to return the test samples/ test article/control article, please notify us when sending the package. The responsibility of consistency and biosafety of the test samples/ test article/control article and courier fee shall be borne by the customer.
... B77: 23 | C77: SGS擁有變更及保留本申請書服務內容之主動權利，SGS亦同時保有是否承接案件之主動權利。SGS has the initiative right to change or retain the service content of this application., and SGS also has the initiative right to accept the case. | AR77: =C77 -> SGS擁有變更及保留本申請書服務內容之主動權利，SGS亦同時保有是否承接案件之主動權利。SGS has the initiative right to change or retain the service content of this application., and SGS also has the initiative right to accept the case. | BB77: 23 | BC77: SGS擁有變更及保留本申請書服務內容之主動權利，SGS亦同時保有是否承接案件之主動權利。SGS has the initiative right to change or retain the service content of this application., and SGS also has the initiative right to accept the case.
B79: 簽章 | C79: Signature | D79: 申請廠商/試驗委託者(聯絡人)簽名或蓋章 Applicant/Sponsor (Contact Person) signed or Stamped: | BB79: 簽名 | BC79: Signature | BD79: 申請廠商/試驗委託者(聯絡人)親筆簽名或蓋公司章 Applicant/Sponsor (Contact Person) signed: (Please sign here)
D81: 簽署日期 Date (YYYY.MM.DD): | BD81: 簽署日期 Date (YYYY.MM.DD):
B82: SGS填寫 | C82: By SGS | D82: 樣品及檢測方法是否偏離if the sample or test method are deviated : | BB82: 由SGS填寫 | BC82: Written by SGS | BD82: 樣品及檢測方法是否偏離if the sample or test method are deviated :
E83: 無No | H83: 有，偏離原因請說明並通知客戶 Yes，reason and inform the customer. | BD83: FALSE | BE83: 無No | BG83: FALSE | BH83: 有，偏離原因請說明並通知客戶。Yes，reason and inform the customer.
E84: 樣品破損Sample/Product Package damage | O84: 樣品失溫Temperature loss | BD84: FALSE | BE84: 樣品破損Sample / Product Package damage | BN84: FALSE | BO84: 樣品失溫Temperature loss
E85: 樣品包裝不符檢測要求Sample packing does not meet the requirement. | V85: 檢測方法非最新版本Test method is not a latest version. | BD85: FALSE | BE85: 樣品包裝不符檢測要求Sample packing does not meet the requirement | BU85: FALSE | BV85: 檢測方法非最新版本Test method is not a latest version
E86: 檢測方法擴充原方法適用基質The test methods would be shown "extension" due to the specific matrix which not applied for the original method. | BD86: FALSE | BE86: 檢測方法擴充原方法適用基質The test methods would be shown "extension" due to the specific matrix which not applied for the original method.
E87: 其他 Others | BD87: FALSE | BE87: 其他 Others
B88: Received amount: ( 同樣品量之單位) | N88: Date in: | Z88: Date out: | BB88: 報告號碼(Report No): | BN88: Date in: | CC88: Date out:

Sheet 化粧品 測試項目
B1: 化粧品 (Cosmetics)： | AN1: AND(前端需求+前V) | AP1: OR(自己V或同層完成需求) | AY1: =IF(COUNTIF(BB1:BB134,TRUE),"《"&B1&"》"&CHAR(10)&B3,"") | BB1: 化粧品委託實驗項目 (Cosmetics Test(s)Required)：
B2: ※ 項目前有標示★符號表示為TFDA認證項目，◎符號表示為TAF認證項目。★ Indicated as TFDA Accreditation Testing Field. ◎ Indicated as TAF Accreditation Testing Field. | AL2: 層級 | AM2: 顯示內容 | AN2: 需求開啟 | AO2: "-"個數 | AP2: 需求完成 | AQ2: 顯示篩選 | AR2: 必填未填 | AS2: 未填提醒 | AT2: 顯示內容 | AY2: {=IF(AY1<>"",LOOKUP(2,1/(AT4:AT1002<>""),AT4:AT1002),"")} | BB2: ※ 項目前有標示★符號表示為TFDA認證項目，◎符號表示為TAF認證項目。★ Indicated as TFDA Accreditation Testing Field. ◎ Indicated as TAF Accreditation Testing Field.
B3: ※樣品特殊處理需求 (Sample Preparation)凡屬噴霧罐（Aerosol Can）樣品，因檢測前可能需進行洩壓、破罐或開罐等特殊前處理作業，將另收取樣品處理費用 NT$1,500／件。For aerosol can samples, special sample preparation procedures, including depressurization and/or opening of the container, may be required prior to testing. An additional handling fee of NT$1,500 per sample will be charged.
B4: 1. 重金屬 Heavy Metals : | AK4: =COUNTIF(BB5:BB10,TRUE) -> 0 | AL4: 1 | AM4: =B4 -> 1. 重金屬 Heavy Metals : | AN4: =OR(BB5,BB6,BB7,BB8,BB9) -> FALSE | AO4: 群組1 | AP4: =TRUE -> TRUE | AQ4: =AND($AN4,$AP4) -> FALSE | AR4: =IF($AN4=TRUE,$AP4<>TRUE) -> FALSE | AT4: =IF(AQ4=TRUE, IF(AL4=3, IF(AM4="", "", " "&REPT("-", LEN(AO4) - LEN(SUBSTITUTE(AO4, "-", "")))&AM4&CHAR(10)), IF(AL4=1, ""&AM4&CHAR(10), IF(AL4=2, " █"&AM4&CHAR(10), AM4&CHAR(10)) ) )&AS4, "") | AY4: =IF(AY1="","",AY1&CHAR(10)&AY2) &IF(OR(ISNUMBER(SEARCH("★",AY2)),ISNUMBER(SEARCH("◎",AY2)),ISNUMBER(SEARCH("#",AY2))),"※以上項目前有標示" &IF(ISNUMBER(SEARCH("★",AY2)),"標示★符號表示為TFDA認證項目。","") &IF(ISNUMBER(SEARCH("◎",AY2)),"標示◎符號表示為TAF認證項目。","") &IF(ISNUMBER(SEARCH("#",AY2)),"#表示為外部服務項目。",""),"") &IF(OR(ISNUMBER(SEARCH("★",AY2)),ISNUMBER(SEARCH("◎",AY2)),ISNUMBER(SEARCH("#",AY2))),"※Items marked with " &IF(ISNUMBER(SEARCH("★",AY2)),"★ Indicated as TFDA Accreditation Testing Field.","") &IF(ISNUMBER(SEARCH("◎",AY2)),"◎ Indicated as TAF Accreditation Testing Field.","") &IF(ISNUMBER(SEARCH("#",AY2)),"# stands for subcontract.",""),"") &IF(OR(ISNUMBER(SEARCH("★",AY2)),ISNUMBER(SEARCH("◎",AY2)),ISNUMBER(SEARCH("#",AY2))),CHAR(10),"") | BB4: 1. 重金屬 Heavy Metals : | CK4: =COUNTIF(BB5:BB10,TRUE) -> 0
C5: 四大重金屬-砷,鉛,汞,鎘 (Heavy Metals – As, Pb, Hg, Cd)(ICP LOQ:1ppm) NT 2550 | AL5: 2 | AM5: =IF(BB5,C5,"") | AN5: =BB5 -> FALSE | AO5: 群組1-1 | AP5: =BB5 -> FALSE | AQ5: =AND($AN5,$AP5) -> FALSE | AR5: =IF($AN5=TRUE,$AP5<>TRUE) -> FALSE | AT5: =AT4&IF(AQ5=TRUE, IF(AL5=3, IF(AM5="", "", " "&REPT("-", LEN(AO5) - LEN(SUBSTITUTE(AO5, "-", "")))&AM5&CHAR(10)), IF(AL5=1, ""&AM5&CHAR(10), IF(AL5=2, " █"&AM5&CHAR(10), AM5&CHAR(10)) ) )&AS5, "") | BB5: FALSE | BC5: 四大重金屬-砷,鉛,汞,鎘 (Heavy Metals – As, Pb, Hg, Cd)(ICP LOQ:1ppm) | CG5: NT | CH5: 2550
C6: 四大重金屬-砷,鉛,汞,鎘 (Heavy Metals – As, Pb, Hg, Cd)(ICP/MS LOQ:0.02ppm) NT 3100 | AL6: 2 | AM6: =IF(BB6,C6,"") | AN6: =BB6 -> FALSE | AO6: 群組1-2 | AP6: =BB6 -> FALSE | AQ6: =AND($AN6,$AP6) -> FALSE | AR6: =IF($AN6=TRUE,$AP6<>TRUE) -> FALSE | AT6: =AT5&IF(AQ6=TRUE, IF(AL6=3, IF(AM6="", "", " "&REPT("-", LEN(AO6) - LEN(SUBSTITUTE(AO6, "-", "")))&AM6&CHAR(10)), IF(AL6=1, ""&AM6&CHAR(10), IF(AL6=2, " █"&AM6&CHAR(10), AM6&CHAR(10)) ) )&AS6, "") | BB6: FALSE | BC6: 四大重金屬-砷,鉛,汞,鎘 (Heavy Metals – As, Pb, Hg, Cd)(ICP/MS LOQ:0.02ppm) | CG6: NT | CH6: 3100
C7: 八大重金屬-砷,鉛,汞,鎘,銻,鋇,鉻,鎳 (Heavy Metals – As, Pb, Hg, Cd, Sb, Ba, Cr, Ni)(ICP LOQ:1ppm) NT 4750 | AL7: 2 | AM7: =IF(BB7,C7,"") | AN7: =BB7 -> FALSE | AO7: 群組1-3 | AP7: =BB7 -> FALSE | AQ7: =AND($AN7,$AP7) -> FALSE | AR7: =IF($AN7=TRUE,$AP7<>TRUE) -> FALSE | AT7: =AT6&IF(AQ7=TRUE, IF(AL7=3, IF(AM7="", "", " "&REPT("-", LEN(AO7) - LEN(SUBSTITUTE(AO7, "-", "")))&AM7&CHAR(10)), IF(AL7=1, ""&AM7&CHAR(10), IF(AL7=2, " █"&AM7&CHAR(10), AM7&CHAR(10)) ) )&AS7, "") | BB7: FALSE | BC7: 八大重金屬-砷,鉛,汞,鎘,銻,鋇,鉻,鎳 (Heavy Metals – As, Pb, Hg, Cd, Sb, Ba, Cr, Ni)(ICP LOQ:1ppm) | CG7: NT | CH7: 4750
C8: 八大重金屬-砷,鉛,汞,鎘,銻,鋇,鉻,鎳 (Heavy Metals – As, Pb, Hg, Cd, Sb, Ba, Cr, Ni)(ICP/MS LOQ:0.02ppm) NT 5300 | AL8: 2 | AM8: =IF(BB8,C8,"") | AN8: =BB8 -> FALSE | AO8: 群組1-4 | AP8: =BB8 -> FALSE | AQ8: =AND($AN8,$AP8) -> FALSE | AR8: =IF($AN8=TRUE,$AP8<>TRUE) -> FALSE | AT8: =AT7&IF(AQ8=TRUE, IF(AL8=3, IF(AM8="", "", " "&REPT("-", LEN(AO8) - LEN(SUBSTITUTE(AO8, "-", "")))&AM8&CHAR(10)), IF(AL8=1, ""&AM8&CHAR(10), IF(AL8=2, " █"&AM8&CHAR(10), AM8&CHAR(10)) ) )&AS8, "") | BB8: FALSE | BC8: 八大重金屬-砷,鉛,汞,鎘,銻,鋇,鉻,鎳 (Heavy Metals – As, Pb, Hg, Cd, Sb, Ba, Cr, Ni)(ICP/MS LOQ:0.02ppm) | CG8: NT | CH8: 5300
C9: ★◎16大重金屬註-鈹,鉻,鈷,鎳,砷,鍶,鋯,鎘,銻,碲,鋇,釹,汞,鉈,鉛,鉍 (Heavy Metal 16 items)(ICP/MS) NT 9500 | AL9: 2 | AM9: =IF(BB9,C9,"") | AN9: =BB9 -> FALSE | AO9: 群組1-5 | AP9: =BB9 -> FALSE | AQ9: =AND($AN9,$AP9) -> FALSE | AR9: =IF($AN9=TRUE,$AP9<>TRUE) -> FALSE | AT9: =AT8&IF(AQ9=TRUE, IF(AL9=3, IF(AM9="", "", " "&REPT("-", LEN(AO9) - LEN(SUBSTITUTE(AO9, "-", "")))&AM9&CHAR(10)), IF(AL9=1, ""&AM9&CHAR(10), IF(AL9=2, " █"&AM9&CHAR(10), AM9&CHAR(10)) ) )&AS9, "") | BB9: FALSE | BC9: ★◎11大重金屬註-砷,鉛,汞,鎘,銻,鋇,鉻,鎳,鈷,鍶,鋯 (Heavy Metal 11 items)(ICP/MS) | CG9: NT | CH9: 6800
B10: 註: 食品藥物管理署公布建議檢驗方法-化粧品中重金屬檢驗方法(RA03H005.002): 鈹,鉻,鈷,鎳,砷,鍶,鋯,鎘,銻,碲,鋇,釹,汞,鉈,鉛,鉍 ICP/MS LOQ: 0.1 ppm | AL10: 3 | AM10: =B10 -> 註: 食品藥物管理署公布建議檢驗方法-化粧品中重金屬檢驗方法(RA03H005.002): 鈹,鉻,鈷,鎳,砷,鍶,鋯,鎘,銻,碲,鋇,釹,汞,鉈,鉛,鉍 ICP/MS LOQ: 0.1 ppm | AN10: =BB9 -> FALSE | AO10: 群組1 | AP10: =OR(BB5:BB9) -> FALSE | AQ10: =AND($AN10,$AP10) -> FALSE | AR10: =IF($AN10=TRUE,$AP10<>TRUE) -> FALSE | AT10: =AT9&IF(AQ10=TRUE, IF(AL10=3, IF(AM10="", "", " "&REPT("-", LEN(AO10) - LEN(SUBSTITUTE(AO10, "-", "")))&AM10&CHAR(10)), IF(AL10=1, ""&AM10&CHAR(10), IF(AL10=2, " █"&AM10&CHAR(10), AM10&CHAR(10)) ) )&AS10, "") | BB10: 註: 食品藥物管理署公布建議檢驗方法-化粧品中重金屬檢驗方法(RA03H005.001): 砷,鉛,汞,鎘,銻,鋇,鉻,鎳,鈷,鍶ICP/MS LOQ:0.1ppm，鋯ICP/MS LOQ:0.2ppm
B11: 2. 微生物 Microorganism: (微生物測試無法以急件或特急件處理) | AK11: =COUNTIF(BB12:BB30,TRUE) -> 0 | AL11: 1 | AM11: =B11 -> 2. 微生物 Microorganism: (微生物測試無法以急件或特急件處理) | AN11: =OR(BB12:BB30) -> FALSE | AO11: 群組2 | AP11: =TRUE -> TRUE | AQ11: =AND($AN11,$AP11) -> FALSE | AR11: =IF($AN11=TRUE,$AP11<>TRUE) -> FALSE | AT11: =AT10&IF(AQ11=TRUE, IF(AL11=3, IF(AM11="", "", " "&REPT("-", LEN(AO11) - LEN(SUBSTITUTE(AO11, "-", "")))&AM11&CHAR(10)), IF(AL11=1, ""&AM11&CHAR(10), IF(AL11=2, " █"&AM11&CHAR(10), AM11&CHAR(10)) ) )&AS11, "") | BB11: 2. 微生物 Microorganism: (微生物測試無法以急件或特急件處理) | CK11: =COUNTIF(BB12:BB30,TRUE) -> 0
B12: 衛生福利部食品藥物管理署114.02.19公布建議檢驗方法-化粧品中微生物之檢驗方法 | AL12: 1 | AM12: =B12 -> 衛生福利部食品藥物管理署114.02.19公布建議檢驗方法-化粧品中微生物之檢驗方法 | AN12: =OR(BB13:BB17) -> FALSE | AO12: 群組2-1 | AP12: =OR(BB13:BB17) -> FALSE | AQ12: =AND($AN12,$AP12) -> FALSE | AR12: =IF($AN12=TRUE,$AP12<>TRUE) -> FALSE | AT12: =AT11&IF(AQ12=TRUE, IF(AL12=3, IF(AM12="", "", " "&REPT("-", LEN(AO12) - LEN(SUBSTITUTE(AO12, "-", "")))&AM12&CHAR(10)), IF(AL12=1, ""&AM12&CHAR(10), IF(AL12=2, " █"&AM12&CHAR(10), AM12&CHAR(10)) ) )&AS12, "") | BB12: FALSE | BC12: ★◎好氣性生菌數 (Aerobic Plate Count) | CG12: NT | CH12: 1000
C13: ★◎生菌數 (Aerobic Plate Count) NT 1000 | AL13: 2 | AM13: =IF(BB13,C13,"") | AN13: =BB13 -> FALSE | AO13: 群組2-2 | AP13: =BB13 -> FALSE | AQ13: =AND($AN13,$AP13) -> FALSE | AR13: =IF($AN13=TRUE,$AP13<>TRUE) -> FALSE | AT13: =AT12&IF(AQ13=TRUE, IF(AL13=3, IF(AM13="", "", " "&REPT("-", LEN(AO13) - LEN(SUBSTITUTE(AO13, "-", "")))&AM13&CHAR(10)), IF(AL13=1, ""&AM13&CHAR(10), IF(AL13=2, " █"&AM13&CHAR(10), AM13&CHAR(10)) ) )&AS13, "") | BB13: FALSE | BC13: ★◎大腸桿菌 (Escherichia coli ) | CG13: NT | CH13: 1650
C14: ★◎大腸桿菌 (Escherichia coli ) NT 1650 | AL14: 2 | AM14: =IF(BB14,C14,"") | AN14: =BB14 -> FALSE | AO14: 群組2-3 | AP14: =BB14 -> FALSE | AQ14: =AND($AN14,$AP14) -> FALSE | AR14: =IF($AN14=TRUE,$AP14<>TRUE) -> FALSE | AT14: =AT13&IF(AQ14=TRUE, IF(AL14=3, IF(AM14="", "", " "&REPT("-", LEN(AO14) - LEN(SUBSTITUTE(AO14, "-", "")))&AM14&CHAR(10)), IF(AL14=1, ""&AM14&CHAR(10), IF(AL14=2, " █"&AM14&CHAR(10), AM14&CHAR(10)) ) )&AS14, "") | BB14: FALSE | BC14: ★◎沙門氏菌 (Salmonella) | BS14: FALSE | CG14: NT | CH14: 1650
C15: ★◎金黃色葡萄球菌 (Staphylococcus aureus) NT1650 | AL15: 2 | AM15: =IF(BB15,C15,"") | AN15: =BB15 -> FALSE | AO15: 群組2-4 | AP15: =BB15 -> FALSE | AQ15: =AND($AN15,$AP15) -> FALSE | AR15: =IF($AN15=TRUE,$AP15<>TRUE) -> FALSE | AT15: =AT14&IF(AQ15=TRUE, IF(AL15=3, IF(AM15="", "", " "&REPT("-", LEN(AO15) - LEN(SUBSTITUTE(AO15, "-", "")))&AM15&CHAR(10)), IF(AL15=1, ""&AM15&CHAR(10), IF(AL15=2, " █"&AM15&CHAR(10), AM15&CHAR(10)) ) )&AS15, "") | BB15: FALSE | BC15: ★◎白色念珠菌 (𝐶𝑎𝑛𝑑𝑖𝑑𝑎 𝑎𝑙𝑏𝑖𝑐𝑎𝑛𝑠)(TFDA 建議方法) | CG15: NT | CH15: 1650
C16: ★◎綠膿桿菌 (Pseudomonas aeruginosa) NT 1650 | AL16: 2 | AM16: =IF(BB16,C16,"") | AN16: =BB16 -> FALSE | AO16: 群組2-5 | AP16: =BB16 -> FALSE | AQ16: =AND($AN16,$AP16) -> FALSE | AR16: =IF($AN16=TRUE,$AP16<>TRUE) -> FALSE | AT16: =AT15&IF(AQ16=TRUE, IF(AL16=3, IF(AM16="", "", " "&REPT("-", LEN(AO16) - LEN(SUBSTITUTE(AO16, "-", "")))&AM16&CHAR(10)), IF(AL16=1, ""&AM16&CHAR(10), IF(AL16=2, " █"&AM16&CHAR(10), AM16&CHAR(10)) ) )&AS16, "") | BB16: FALSE | BC16: 白色念珠菌 (𝐶𝑎𝑛𝑑𝑖𝑑𝑎 𝑎𝑙𝑏𝑖𝑐𝑎𝑛𝑠)( ISO 18416 ) | CG16: NT | CH16: 3500
C17: ★◎白色念珠菌 (Candida albicans) NT 1650 | AL17: 2 | AM17: =IF(BB17,C17,"") | AN17: =BB17 -> FALSE | AO17: 群組2-6 | AP17: =BB17 -> FALSE | AQ17: =AND($AN17,$AP17) -> FALSE | AR17: =IF($AN17=TRUE,$AP17<>TRUE) -> FALSE | AT17: =AT16&IF(AQ17=TRUE, IF(AL17=3, IF(AM17="", "", " "&REPT("-", LEN(AO17) - LEN(SUBSTITUTE(AO17, "-", "")))&AM17&CHAR(10)), IF(AL17=1, ""&AM17&CHAR(10), IF(AL17=2, " █"&AM17&CHAR(10), AM17&CHAR(10)) ) )&AS17, "") | BB17: FALSE | BC17: ★◎金黃色葡萄球菌 (Staphylococcus aureus) | CG17: NT | CH17: 1650
B18: USP-NF, <62> 方法 | AL18: 1 | AM18: =B18 -> USP-NF, <62> 方法 | AN18: =OR(BB19:BB21) -> FALSE | AO18: 群組2-1 | AP18: =OR(BB19:BB21) -> FALSE | AQ18: =AND($AN18,$AP18) -> FALSE | AR18: =IF($AN18=TRUE,$AP18<>TRUE) -> FALSE | AT18: =AT17&IF(AQ18=TRUE, IF(AL18=3, IF(AM18="", "", " "&REPT("-", LEN(AO18) - LEN(SUBSTITUTE(AO18, "-", "")))&AM18&CHAR(10)), IF(AL18=1, ""&AM18&CHAR(10), IF(AL18=2, " █"&AM18&CHAR(10), AM18&CHAR(10)) ) )&AS18, "")
C19: ★◎白色念珠菌 (Candida albicans) (USP<62>) NT 1650 | AL19: 2 | AM19: =IF(BB19,C19,"") | AN19: =BB19 -> FALSE | AO19: 群組2-6 | AP19: =BB19 -> FALSE | AQ19: =AND($AN19,$AP19) -> FALSE | AR19: =IF($AN19=TRUE,$AP19<>TRUE) -> FALSE | AT19: =AT18&IF(AQ19=TRUE, IF(AL19=3, IF(AM19="", "", " "&REPT("-", LEN(AO19) - LEN(SUBSTITUTE(AO19, "-", "")))&AM19&CHAR(10)), IF(AL19=1, ""&AM19&CHAR(10), IF(AL19=2, " █"&AM19&CHAR(10), AM19&CHAR(10)) ) )&AS19, "") | BB19: FALSE
C20: ★黴菌及酵母菌 (Mold and Yeast) (US FDA) NT 1200 | AL20: 2 | AM20: =IF(BB20,C20,"") | AN20: =BB20 -> FALSE | AO20: 群組2-6 | AP20: =BB20 -> FALSE | AQ20: =AND($AN20,$AP20) -> FALSE | AR20: =IF($AN20=TRUE,$AP20<>TRUE) -> FALSE | AT20: =AT19&IF(AQ20=TRUE, IF(AL20=3, IF(AM20="", "", " "&REPT("-", LEN(AO20) - LEN(SUBSTITUTE(AO20, "-", "")))&AM20&CHAR(10)), IF(AL20=1, ""&AM20&CHAR(10), IF(AL20=2, " █"&AM20&CHAR(10), AM20&CHAR(10)) ) )&AS20, "") | BB20: FALSE
C21: ★◎沙門氏菌 (Salmonella) (USP<62>) NT 1650 | AL21: 2 | AM21: =IF(BB21,C21,"") | AN21: =BB21 -> FALSE | AO21: 群組2-6 | AP21: =BB21 -> FALSE | AQ21: =AND($AN21,$AP21) -> FALSE | AR21: =IF($AN21=TRUE,$AP21<>TRUE) -> FALSE | AT21: =AT20&IF(AQ21=TRUE, IF(AL21=3, IF(AM21="", "", " "&REPT("-", LEN(AO21) - LEN(SUBSTITUTE(AO21, "-", "")))&AM21&CHAR(10)), IF(AL21=1, ""&AM21&CHAR(10), IF(AL21=2, " █"&AM21&CHAR(10), AM21&CHAR(10)) ) )&AS21, "") | BB21: FALSE
B22: US FDA BAM Chapter 23 Microbiological Method for Cosmetics 2024 方法 | AK22: =COUNTIF(BB23:BB27,TRUE) -> 0 | AL22: 1 | AM22: =B22 -> US FDA BAM Chapter 23 Microbiological Method for Cosmetics 2024 方法 | AN22: =OR(BB23:BB27) -> FALSE | AO22: 群組2-2 | AP22: =OR(BB23:BB27) -> FALSE | AQ22: =AND($AN22,$AP22) -> FALSE | AR22: =IF($AN22=TRUE,$AP22<>TRUE) -> FALSE | AT22: =AT21&IF(AQ22=TRUE, IF(AL22=3, IF(AM22="", "", " "&REPT("-", LEN(AO22) - LEN(SUBSTITUTE(AO22, "-", "")))&AM22&CHAR(10)), IF(AL22=1, ""&AM22&CHAR(10), IF(AL22=2, " █"&AM22&CHAR(10), AM22&CHAR(10)) ) )&AS22, "")
C23: ◎總生菌數 (Aerobic Plate Count) NT 1000 | AL23: 2 | AM23: =IF(BB23,C23,"") | AN23: =BB23 -> FALSE | AO23: 群組2-2 | AP23: =BB23 -> FALSE | AQ23: =AND($AN23,$AP23) -> FALSE | AR23: =IF($AN23=TRUE,$AP23<>TRUE) -> FALSE | AT23: =AT22&IF(AQ23=TRUE, IF(AL23=3, IF(AM23="", "", " "&REPT("-", LEN(AO23) - LEN(SUBSTITUTE(AO23, "-", "")))&AM23&CHAR(10)), IF(AL23=1, ""&AM23&CHAR(10), IF(AL23=2, " █"&AM23&CHAR(10), AM23&CHAR(10)) ) )&AS23, "") | BB23: FALSE
C24: ◎大腸桿菌 (Escherichia coli ) NT 1650 | AL24: 2 | AM24: =IF(BB24,C24,"") | AN24: =BB24 -> FALSE | AO24: 群組2-3 | AP24: =BB24 -> FALSE | AQ24: =AND($AN24,$AP24) -> FALSE | AR24: =IF($AN24=TRUE,$AP24<>TRUE) -> FALSE | AT24: =AT23&IF(AQ24=TRUE, IF(AL24=3, IF(AM24="", "", " "&REPT("-", LEN(AO24) - LEN(SUBSTITUTE(AO24, "-", "")))&AM24&CHAR(10)), IF(AL24=1, ""&AM24&CHAR(10), IF(AL24=2, " █"&AM24&CHAR(10), AM24&CHAR(10)) ) )&AS24, "") | BB24: FALSE
C25: ◎金黃色葡萄球菌 (Staphylococcus aureus) NT1650 | AL25: 2 | AM25: =IF(BB25,C25,"") | AN25: =BB25 -> FALSE | AO25: 群組2-4 | AP25: =BB25 -> FALSE | AQ25: =AND($AN25,$AP25) -> FALSE | AR25: =IF($AN25=TRUE,$AP25<>TRUE) -> FALSE | AT25: =AT24&IF(AQ25=TRUE, IF(AL25=3, IF(AM25="", "", " "&REPT("-", LEN(AO25) - LEN(SUBSTITUTE(AO25, "-", "")))&AM25&CHAR(10)), IF(AL25=1, ""&AM25&CHAR(10), IF(AL25=2, " █"&AM25&CHAR(10), AM25&CHAR(10)) ) )&AS25, "") | BB25: FALSE
C26: ◎綠膿桿菌 (Pseudomonas aeruginosa) NT 1650 | AL26: 2 | AM26: =IF(BB26,C26,"") | AN26: =BB26 -> FALSE | AO26: 群組2-5 | AP26: =BB26 -> FALSE | AQ26: =AND($AN26,$AP26) -> FALSE | AR26: =IF($AN26=TRUE,$AP26<>TRUE) -> FALSE | AT26: =AT25&IF(AQ26=TRUE, IF(AL26=3, IF(AM26="", "", " "&REPT("-", LEN(AO26) - LEN(SUBSTITUTE(AO26, "-", "")))&AM26&CHAR(10)), IF(AL26=1, ""&AM26&CHAR(10), IF(AL26=2, " █"&AM26&CHAR(10), AM26&CHAR(10)) ) )&AS26, "") | BB26: FALSE
C27: ★◎黴菌及酵母菌 (Mold and Yeast) NT 1200 | AL27: 2 | AM27: =IF(BB27,C27,"") | AN27: =BB27 -> FALSE | AO27: 群組2-6 | AP27: =BB27 -> FALSE | AQ27: =AND($AN27,$AP27) -> FALSE | AR27: =IF($AN27=TRUE,$AP27<>TRUE) -> FALSE | AT27: =AT26&IF(AQ27=TRUE, IF(AL27=3, IF(AM27="", "", " "&REPT("-", LEN(AO27) - LEN(SUBSTITUTE(AO27, "-", "")))&AM27&CHAR(10)), IF(AL27=1, ""&AM27&CHAR(10), IF(AL27=2, " █"&AM27&CHAR(10), AM27&CHAR(10)) ) )&AS27, "") | BB27: FALSE
B28: TAF認證方法 (USP<62>) | AL28: 1 | AM28: =B28 -> TAF認證方法 (USP<62>) | AN28: =OR(BB29:BB30) -> FALSE | AO28: 群組2-3 | AP28: =OR(BB29:BB30) -> FALSE | AQ28: =AND($AN28,$AP28) -> FALSE | AR28: =IF($AN28=TRUE,$AP28<>TRUE) -> FALSE | AT28: =AT27&IF(AQ28=TRUE, IF(AL28=3, IF(AM28="", "", " "&REPT("-", LEN(AO28) - LEN(SUBSTITUTE(AO28, "-", "")))&AM28&CHAR(10)), IF(AL28=1, ""&AM28&CHAR(10), IF(AL28=2, " █"&AM28&CHAR(10), AM28&CHAR(10)) ) )&AS28, "")
C29: ◎白色念珠菌 (Candida albicans) NT 1650 | AL29: 2 | AM29: =IF(BB29,C29,"") | AN29: =BB29 -> FALSE | AO29: 群組2-2 | AP29: =BB29 -> FALSE | AQ29: =AND($AN29,$AP29) -> FALSE | AR29: =IF($AN29=TRUE,$AP29<>TRUE) -> FALSE | AT29: =AT28&IF(AQ29=TRUE, IF(AL29=3, IF(AM29="", "", " "&REPT("-", LEN(AO29) - LEN(SUBSTITUTE(AO29, "-", "")))&AM29&CHAR(10)), IF(AL29=1, ""&AM29&CHAR(10), IF(AL29=2, " █"&AM29&CHAR(10), AM29&CHAR(10)) ) )&AS29, "") | BB29: FALSE
C30: ◎沙門氏菌 (Salmonella) NT 1650 | AL30: 2 | AM30: =IF(BB30,C30,"") | AN30: =BB30 -> FALSE | AO30: 群組2-3 | AP30: =BB30 -> FALSE | AQ30: =AND($AN30,$AP30) -> FALSE | AR30: =IF($AN30=TRUE,$AP30<>TRUE) -> FALSE | AT30: =AT29&IF(AQ30=TRUE, IF(AL30=3, IF(AM30="", "", " "&REPT("-", LEN(AO30) - LEN(SUBSTITUTE(AO30, "-", "")))&AM30&CHAR(10)), IF(AL30=1, ""&AM30&CHAR(10), IF(AL30=2, " █"&AM30&CHAR(10), AM30&CHAR(10)) ) )&AS30, "") | BB30: FALSE
B31: 3. 防腐劑 Preservative : | AK31: =COUNTIF(BB32:BB37,TRUE) -> 0 | AL31: 1 | AM31: =B31 -> 3. 防腐劑 Preservative : | AN31: =OR(BB32:BB37) -> FALSE | AO31: 群組3 | AP31: =TRUE -> TRUE | AQ31: =AND($AN31,$AP31) -> FALSE | AR31: =IF($AN31=TRUE,$AP31<>TRUE) -> FALSE | AT31: =AT30&IF(AQ31=TRUE, IF(AL31=3, IF(AM31="", "", " "&REPT("-", LEN(AO31) - LEN(SUBSTITUTE(AO31, "-", "")))&AM31&CHAR(10)), IF(AL31=1, ""&AM31&CHAR(10), IF(AL31=2, " █"&AM31&CHAR(10), AM31&CHAR(10)) ) )&AS31, "") | BB31: 3. 防腐劑 Preservative : | CK31: =COUNTIF(BB32:BB37,TRUE) -> 0
C32: Methylchloroisothiazolinone (MCI) NT 6050 | AL32: 2 | AM32: =IF(BB32,C32,"") | AN32: =BB32 -> FALSE | AO32: 群組3-1 | AP32: =BB32 -> FALSE | AQ32: =AND($AN32,$AP32) -> FALSE | AR32: =IF($AN32=TRUE,$AP32<>TRUE) -> FALSE | AT32: =AT31&IF(AQ32=TRUE, IF(AL32=3, IF(AM32="", "", " "&REPT("-", LEN(AO32) - LEN(SUBSTITUTE(AO32, "-", "")))&AM32&CHAR(10)), IF(AL32=1, ""&AM32&CHAR(10), IF(AL32=2, " █"&AM32&CHAR(10), AM32&CHAR(10)) ) )&AS32, "") | BB32: FALSE | BC32: Methylchloroisothiazolinone (MCI) | CG32: NT | CH32: 6050
C33: Methylisothiazolinone (MI) NT 6050 | AL33: 2 | AM33: =IF(BB33,C33,"") | AN33: =BB33 -> FALSE | AO33: 群組3-2 | AP33: =BB33 -> FALSE | AQ33: =AND($AN33,$AP33) -> FALSE | AR33: =IF($AN33=TRUE,$AP33<>TRUE) -> FALSE | AT33: =AT32&IF(AQ33=TRUE, IF(AL33=3, IF(AM33="", "", " "&REPT("-", LEN(AO33) - LEN(SUBSTITUTE(AO33, "-", "")))&AM33&CHAR(10)), IF(AL33=1, ""&AM33&CHAR(10), IF(AL33=2, " █"&AM33&CHAR(10), AM33&CHAR(10)) ) )&AS33, "") | BB33: FALSE | BC33: Methylisothiazolinone (MI) | CG33: NT | CH33: 6050
C34: 限用防腐劑MI+ MCI+ Mixture of MCI & MI NT 8250 | AL34: 2 | AM34: =IF(BB34,C34,"") | AN34: =BB34 -> FALSE | AO34: 群組3-3 | AP34: =BB34 -> FALSE | AQ34: =AND($AN34,$AP34) -> FALSE | AR34: =IF($AN34=TRUE,$AP34<>TRUE) -> FALSE | AT34: =AT33&IF(AQ34=TRUE, IF(AL34=3, IF(AM34="", "", " "&REPT("-", LEN(AO34) - LEN(SUBSTITUTE(AO34, "-", "")))&AM34&CHAR(10)), IF(AL34=1, ""&AM34&CHAR(10), IF(AL34=2, " █"&AM34&CHAR(10), AM34&CHAR(10)) ) )&AS34, "") | BB34: FALSE | BC34: 限用防腐劑MI+ MCI+ Mixture of MCI & MI | CG34: NT | CH34: 8250
C35: ◎酸類防腐劑5項 (Preservatives(Acid)5 ltems) NT 4000 | AL35: 2 | AM35: =IF(BB35,C35,"") | AN35: =BB35 -> FALSE | AO35: 群組3-4 | AP35: =BB35 -> FALSE | AQ35: =AND($AN35,$AP35) -> FALSE | AR35: =IF($AN35=TRUE,$AP35<>TRUE) -> FALSE | AT35: =AT34&IF(AQ35=TRUE, IF(AL35=3, IF(AM35="", "", " "&REPT("-", LEN(AO35) - LEN(SUBSTITUTE(AO35, "-", "")))&AM35&CHAR(10)), IF(AL35=1, ""&AM35&CHAR(10), IF(AL35=2, " █"&AM35&CHAR(10), AM35&CHAR(10)) ) )&AS35, "") | BB35: FALSE | BC35: ◎酸類防腐劑5項 (Preservatives(Acid)5 ltems) | CG35: NT | CH35: 4000
C36: ◎酯類7項 (Preservatives(Paraben)7 ltems) NT 5000 | AL36: 2 | AM36: =IF(BB36,C36,"") | AN36: =BB36 -> FALSE | AO36: 群組3-5 | AP36: =BB36 -> FALSE | AQ36: =AND($AN36,$AP36) -> FALSE | AR36: =IF($AN36=TRUE,$AP36<>TRUE) -> FALSE | AT36: =AT35&IF(AQ36=TRUE, IF(AL36=3, IF(AM36="", "", " "&REPT("-", LEN(AO36) - LEN(SUBSTITUTE(AO36, "-", "")))&AM36&CHAR(10)), IF(AL36=1, ""&AM36&CHAR(10), IF(AL36=2, " █"&AM36&CHAR(10), AM36&CHAR(10)) ) )&AS36, "") | BB36: FALSE | BC36: ◎酯類7項 (Preservatives(Paraben)7 ltems) | CG36: NT | CH36: 5000
C37: ★套裝12項 (Preservatives 12 ltems) NT 7000 | AL37: 2 | AM37: =IF(BB37,C37,"") | AN37: =BB37 -> FALSE | AO37: 群組3-6 | AP37: =BB37 -> FALSE | AQ37: =AND($AN37,$AP37) -> FALSE | AR37: =IF($AN37=TRUE,$AP37<>TRUE) -> FALSE | AT37: =AT36&IF(AQ37=TRUE, IF(AL37=3, IF(AM37="", "", " "&REPT("-", LEN(AO37) - LEN(SUBSTITUTE(AO37, "-", "")))&AM37&CHAR(10)), IF(AL37=1, ""&AM37&CHAR(10), IF(AL37=2, " █"&AM37&CHAR(10), AM37&CHAR(10)) ) )&AS37, "") | BB37: FALSE | BC37: ★套裝12項 (Preservatives 12 ltems) | CG37: NT | CH37: 7000
B38: 4. 粧品VOC: | AK38: =COUNTIF(BB39:BB46,TRUE) -> 0 | AL38: 1 | AM38: =B38 -> 4. 粧品VOC: | AN38: =OR(BB39:BB46) -> FALSE | AO38: 群組4 | AP38: =TRUE -> TRUE | AQ38: =AND($AN38,$AP38) -> FALSE | AR38: =IF($AN38=TRUE,$AP38<>TRUE) -> FALSE | AT38: =AT37&IF(AQ38=TRUE, IF(AL38=3, IF(AM38="", "", " "&REPT("-", LEN(AO38) - LEN(SUBSTITUTE(AO38, "-", "")))&AM38&CHAR(10)), IF(AL38=1, ""&AM38&CHAR(10), IF(AL38=2, " █"&AM38&CHAR(10), AM38&CHAR(10)) ) )&AS38, "") | BB38: 4. 粧品VOC: | CK38: =COUNTIF(BB39:BB46,TRUE) -> 0
C39: 甲醇 (Methanol) NT 4400 | AL39: 2 | AM39: =IF(BB39,C39,"") | AN39: =BB39 -> FALSE | AO39: 群組4-1 | AP39: =BB39 -> FALSE | AQ39: =AND($AN39,$AP39) -> FALSE | AR39: =IF($AN39=TRUE,$AP39<>TRUE) -> FALSE | AT39: =AT38&IF(AQ39=TRUE, IF(AL39=3, IF(AM39="", "", " "&REPT("-", LEN(AO39) - LEN(SUBSTITUTE(AO39, "-", "")))&AM39&CHAR(10)), IF(AL39=1, ""&AM39&CHAR(10), IF(AL39=2, " █"&AM39&CHAR(10), AM39&CHAR(10)) ) )&AS39, "") | BB39: FALSE | BC39: 甲醇 (Methanol) | BS39: FALSE | CG39: NT | CH39: 4400
C40: 1,4-Dioxane NT 8800 | AL40: 2 | AM40: =IF(BB40,C40,"") | AN40: =BB40 -> FALSE | AO40: 群組4-2 | AP40: =BB40 -> FALSE | AQ40: =AND($AN40,$AP40) -> FALSE | AR40: =IF($AN40=TRUE,$AP40<>TRUE) -> FALSE | AT40: =AT39&IF(AQ40=TRUE, IF(AL40=3, IF(AM40="", "", " "&REPT("-", LEN(AO40) - LEN(SUBSTITUTE(AO40, "-", "")))&AM40&CHAR(10)), IF(AL40=1, ""&AM40&CHAR(10), IF(AL40=2, " █"&AM40&CHAR(10), AM40&CHAR(10)) ) )&AS40, "") | BB40: FALSE | BC40: 1,4-Dioxane | CG40: NT | CH40: 8800
C41: 二氯甲烷 (Methylene Chloride) NT 4400 | AL41: 2 | AM41: =IF(BB41,C41,"") | AN41: =BB41 -> FALSE | AO41: 群組4-3 | AP41: =BB41 -> FALSE | AQ41: =AND($AN41,$AP41) -> FALSE | AR41: =IF($AN41=TRUE,$AP41<>TRUE) -> FALSE | AT41: =AT40&IF(AQ41=TRUE, IF(AL41=3, IF(AM41="", "", " "&REPT("-", LEN(AO41) - LEN(SUBSTITUTE(AO41, "-", "")))&AM41&CHAR(10)), IF(AL41=1, ""&AM41&CHAR(10), IF(AL41=2, " █"&AM41&CHAR(10), AM41&CHAR(10)) ) )&AS41, "") | BB41: FALSE | BC41: 二氯甲烷 (Methylene Chloride) | CG41: NT | CH41: 4400
C42: 甲苯 (Toluene) NT 4400 | AL42: 2 | AM42: =IF(BB42,C42,"") | AN42: =BB42 -> FALSE | AO42: 群組4-4 | AP42: =BB42 -> FALSE | AQ42: =AND($AN42,$AP42) -> FALSE | AR42: =IF($AN42=TRUE,$AP42<>TRUE) -> FALSE | AT42: =AT41&IF(AQ42=TRUE, IF(AL42=3, IF(AM42="", "", " "&REPT("-", LEN(AO42) - LEN(SUBSTITUTE(AO42, "-", "")))&AM42&CHAR(10)), IF(AL42=1, ""&AM42&CHAR(10), IF(AL42=2, " █"&AM42&CHAR(10), AM42&CHAR(10)) ) )&AS42, "") | BB42: FALSE | BC42: 甲苯 (Toluene) | CG42: NT | CH42: 4400
C43: 乙腈 (Acetonitrile) NT 4400 | AL43: 2 | AM43: =IF(BB43,C43,"") | AN43: =BB43 -> FALSE | AO43: 群組4-5 | AP43: =BB43 -> FALSE | AQ43: =AND($AN43,$AP43) -> FALSE | AR43: =IF($AN43=TRUE,$AP43<>TRUE) -> FALSE | AT43: =AT42&IF(AQ43=TRUE, IF(AL43=3, IF(AM43="", "", " "&REPT("-", LEN(AO43) - LEN(SUBSTITUTE(AO43, "-", "")))&AM43&CHAR(10)), IF(AL43=1, ""&AM43&CHAR(10), IF(AL43=2, " █"&AM43&CHAR(10), AM43&CHAR(10)) ) )&AS43, "") | BB43: FALSE | BC43: 乙腈 (Acetonitrile) | CG43: NT | CH43: 4400
C44: ★甲醛 (Formaldehyde) NT 2800 | AL44: 2 | AM44: =IF(BB44,C44,"") | AN44: =BB44 -> FALSE | AO44: 群組4-6 | AP44: =BB44 -> FALSE | AQ44: =AND($AN44,$AP44) -> FALSE | AR44: =IF($AN44=TRUE,$AP44<>TRUE) -> FALSE | AT44: =AT43&IF(AQ44=TRUE, IF(AL44=3, IF(AM44="", "", " "&REPT("-", LEN(AO44) - LEN(SUBSTITUTE(AO44, "-", "")))&AM44&CHAR(10)), IF(AL44=1, ""&AM44&CHAR(10), IF(AL44=2, " █"&AM44&CHAR(10), AM44&CHAR(10)) ) )&AS44, "") | BB44: FALSE | BC44: ★甲醛 (Formaldehyde) | CG44: NT | CH44: 2800
C45: 三氯甲烷 (Chloroform) NT 4400 | AL45: 2 | AM45: =IF(BB45,C45,"") | AN45: =BB45 -> FALSE | AO45: 群組4-7 | AP45: =BB45 -> FALSE | AQ45: =AND($AN45,$AP45) -> FALSE | AR45: =IF($AN45=TRUE,$AP45<>TRUE) -> FALSE | AT45: =AT44&IF(AQ45=TRUE, IF(AL45=3, IF(AM45="", "", " "&REPT("-", LEN(AO45) - LEN(SUBSTITUTE(AO45, "-", "")))&AM45&CHAR(10)), IF(AL45=1, ""&AM45&CHAR(10), IF(AL45=2, " █"&AM45&CHAR(10), AM45&CHAR(10)) ) )&AS45, "") | BB45: FALSE | BC45: 三氯甲烷 (Chloroform) | CG45: NT | CH45: 4400
C46: 苯 (Benzene) NT 4400 | AL46: 2 | AM46: =IF(BB46,C46,"") | AN46: =BB46 -> FALSE | AO46: 群組4-8 | AP46: =BB46 -> FALSE | AQ46: =AND($AN46,$AP46) -> FALSE | AR46: =IF($AN46=TRUE,$AP46<>TRUE) -> FALSE | AT46: =AT45&IF(AQ46=TRUE, IF(AL46=3, IF(AM46="", "", " "&REPT("-", LEN(AO46) - LEN(SUBSTITUTE(AO46, "-", "")))&AM46&CHAR(10)), IF(AL46=1, ""&AM46&CHAR(10), IF(AL46=2, " █"&AM46&CHAR(10), AM46&CHAR(10)) ) )&AS46, "") | BB46: FALSE | BC46: 苯 (Benzene) | CG46: NT | CH46: 4400
B47: 5. 可塑劑 Phthalates: | AK47: =COUNTIF(BB48:BB53,TRUE) -> 0 | AL47: 1 | AM47: =B47 -> 5. 可塑劑 Phthalates: | AN47: =OR(BB49:BB50,BB52:BB53) -> FALSE | AO47: 群組5 | AP47: =TRUE -> TRUE | AQ47: =AND($AN47,$AP47) -> FALSE | AR47: =IF($AN47=TRUE,$AP47<>TRUE) -> FALSE | AT47: =AT46&IF(AQ47=TRUE, IF(AL47=3, IF(AM47="", "", " "&REPT("-", LEN(AO47) - LEN(SUBSTITUTE(AO47, "-", "")))&AM47&CHAR(10)), IF(AL47=1, ""&AM47&CHAR(10), IF(AL47=2, " █"&AM47&CHAR(10), AM47&CHAR(10)) ) )&AS47, "") | BB47: 5. 可塑劑 Phthalates： | CK47: =COUNTIF(BB48:BB53,TRUE) -> 0
B48: 指甲油/口紅/染、燙髮劑類/香水,香精,精油類等產品：Nail polish/lipstick/hair dye/perm/perfume, essence, essential oil and other products： | AL48: 3 | AM48: =B48 -> 指甲油/口紅/染、燙髮劑類/香水,香精,精油類等產品：Nail polish/lipstick/hair dye/perm/perfume, essence, essential oil and other products： | AN48: =OR(BB49:BB50) -> FALSE | AO48: 群組5-1 | AP48: =OR(BB49:BB50) -> FALSE | AQ48: =AND($AN48,$AP48) -> FALSE | AR48: =IF($AN48=TRUE,$AP48<>TRUE) -> FALSE | AT48: =AT47&IF(AQ48=TRUE, IF(AL48=3, IF(AM48="", "", " "&REPT("-", LEN(AO48) - LEN(SUBSTITUTE(AO48, "-", "")))&AM48&CHAR(10)), IF(AL48=1, ""&AM48&CHAR(10), IF(AL48=2, " █"&AM48&CHAR(10), AM48&CHAR(10)) ) )&AS48, "") | BB48: 指甲油/口紅/染、燙髮劑類/香水,香精,精油類等產品：Nail polish/lipstick/hair dye/perm/perfume, essence, essential oil and other products：
C49: ★七項塑化劑 (Phthalate 7 Items)(特殊基質) NT 5500 | AL49: 2 | AM49: =IF(BB49,C49,"") | AN49: =BB49 -> FALSE | AO49: 群組5-1-1 | AP49: =BB49 -> FALSE | AQ49: =AND($AN49,$AP49) -> FALSE | AR49: =IF($AN49=TRUE,$AP49<>TRUE) -> FALSE | AT49: =AT48&IF(AQ49=TRUE, IF(AL49=3, IF(AM49="", "", " "&REPT("-", LEN(AO49) - LEN(SUBSTITUTE(AO49, "-", "")))&AM49&CHAR(10)), IF(AL49=1, ""&AM49&CHAR(10), IF(AL49=2, " █"&AM49&CHAR(10), AM49&CHAR(10)) ) )&AS49, "") | BB49: FALSE | BC49: ★七項塑化劑 (Phthalate 7 Items)(特殊基質) | BS49: FALSE | CG49: NT | CH49: 5500
C50: 十項塑化劑 (Phthalate 10 Items)(特殊基質) NT 7200 | AL50: 2 | AM50: =IF(BB50,C50,"") | AN50: =BB50 -> FALSE | AO50: 群組5-1-2 | AP50: =BB50 -> FALSE | AQ50: =AND($AN50,$AP50) -> FALSE | AR50: =IF($AN50=TRUE,$AP50<>TRUE) -> FALSE | AT50: =AT49&IF(AQ50=TRUE, IF(AL50=3, IF(AM50="", "", " "&REPT("-", LEN(AO50) - LEN(SUBSTITUTE(AO50, "-", "")))&AM50&CHAR(10)), IF(AL50=1, ""&AM50&CHAR(10), IF(AL50=2, " █"&AM50&CHAR(10), AM50&CHAR(10)) ) )&AS50, "") | BB50: FALSE | BC50: 十項塑化劑 (Phthalate 10 Items)(特殊基質) | CG50: NT | CH50: 7200
B51: 非上述類型之化粧保養品: Cosmetics other than the above types: | AL51: 3 | AM51: =B51 -> 非上述類型之化粧保養品: Cosmetics other than the above types: | AN51: =OR(BB52:BB53) -> FALSE | AO51: 群組5-2 | AP51: =OR(BB52:BB53) -> FALSE | AQ51: =AND($AN51,$AP51) -> FALSE | AR51: =IF($AN51=TRUE,$AP51<>TRUE) -> FALSE | AT51: =AT50&IF(AQ51=TRUE, IF(AL51=3, IF(AM51="", "", " "&REPT("-", LEN(AO51) - LEN(SUBSTITUTE(AO51, "-", "")))&AM51&CHAR(10)), IF(AL51=1, ""&AM51&CHAR(10), IF(AL51=2, " █"&AM51&CHAR(10), AM51&CHAR(10)) ) )&AS51, "") | BB51: 非上述類型之化粧保養品: Cosmetics other than the above types:
C52: ★七項塑化劑 (Phthalate 7 Items) NT 4000 | AL52: 2 | AM52: =IF(BB52,C52,"") | AN52: =BB52 -> FALSE | AO52: 群組5-2-1 | AP52: =BB52 -> FALSE | AQ52: =AND($AN52,$AP52) -> FALSE | AR52: =IF($AN52=TRUE,$AP52<>TRUE) -> FALSE | AT52: =AT51&IF(AQ52=TRUE, IF(AL52=3, IF(AM52="", "", " "&REPT("-", LEN(AO52) - LEN(SUBSTITUTE(AO52, "-", "")))&AM52&CHAR(10)), IF(AL52=1, ""&AM52&CHAR(10), IF(AL52=2, " █"&AM52&CHAR(10), AM52&CHAR(10)) ) )&AS52, "") | BB52: FALSE | BC52: ★七項塑化劑 (Phthalate 7 Items) | BS52: FALSE | CG52: NT | CH52: 4000
C53: 十項塑化劑 (Phthalate 10 Items) NT 5500 | AL53: 2 | AM53: =IF(BB53,C53,"") | AN53: =BB53 -> FALSE | AO53: 群組5-2-2 | AP53: =BB53 -> FALSE | AQ53: =AND($AN53,$AP53) -> FALSE | AR53: =IF($AN53=TRUE,$AP53<>TRUE) -> FALSE | AT53: =AT52&IF(AQ53=TRUE, IF(AL53=3, IF(AM53="", "", " "&REPT("-", LEN(AO53) - LEN(SUBSTITUTE(AO53, "-", "")))&AM53&CHAR(10)), IF(AL53=1, ""&AM53&CHAR(10), IF(AL53=2, " █"&AM53&CHAR(10), AM53&CHAR(10)) ) )&AS53, "") | BB53: FALSE | BC53: 十項塑化劑 (Phthalate 10 Items) | CG53: NT | CH53: 5500
B54: 6. 美白/抗氧化劑 Whitening / Antioxidant : | AK54: =COUNTIF(BB55:BB66,TRUE) -> 0 | AL54: 1 | AM54: =B54 -> 6. 美白/抗氧化劑 Whitening / Antioxidant : | AN54: =OR(BB55:BB66) -> FALSE | AO54: 群組6 | AP54: =TRUE -> TRUE | AQ54: =AND($AN54,$AP54) -> FALSE | AR54: =IF($AN54=TRUE,$AP54<>TRUE) -> FALSE | AT54: =AT53&IF(AQ54=TRUE, IF(AL54=3, IF(AM54="", "", " "&REPT("-", LEN(AO54) - LEN(SUBSTITUTE(AO54, "-", "")))&AM54&CHAR(10)), IF(AL54=1, ""&AM54&CHAR(10), IF(AL54=2, " █"&AM54&CHAR(10), AM54&CHAR(10)) ) )&AS54, "") | BB54: 6. 美白/抗氧化劑 Whitening / Antioxidant : | CK54: =COUNTIF(BB55:BB66,TRUE) -> 0
C55: ★對苯二酚 (Hydroquinone) NT 4000 | AL55: 2 | AM55: =IF(BB55,C55,"") | AN55: =BB55 -> FALSE | AO55: 群組6-1 | AP55: =BB55 -> FALSE | AQ55: =AND($AN55,$AP55) -> FALSE | AR55: =IF($AN55=TRUE,$AP55<>TRUE) -> FALSE | AT55: =AT54&IF(AQ55=TRUE, IF(AL55=3, IF(AM55="", "", " "&REPT("-", LEN(AO55) - LEN(SUBSTITUTE(AO55, "-", "")))&AM55&CHAR(10)), IF(AL55=1, ""&AM55&CHAR(10), IF(AL55=2, " █"&AM55&CHAR(10), AM55&CHAR(10)) ) )&AS55, "") | BB55: FALSE | BC55: ★◎對苯二酚 (Hydroquinone) | BS55: FALSE | CG55: NT | CH55: 4000
C56: ★對苯二酚單苄醚 (Hydroquinone monobenzyl ether) NT 5000 | AL56: 2 | AM56: =IF(BB56,C56,"") | AN56: =BB56 -> FALSE | AO56: 群組6-2 | AP56: =BB56 -> FALSE | AQ56: =AND($AN56,$AP56) -> FALSE | AR56: =IF($AN56=TRUE,$AP56<>TRUE) -> FALSE | AT56: =AT55&IF(AQ56=TRUE, IF(AL56=3, IF(AM56="", "", " "&REPT("-", LEN(AO56) - LEN(SUBSTITUTE(AO56, "-", "")))&AM56&CHAR(10)), IF(AL56=1, ""&AM56&CHAR(10), IF(AL56=2, " █"&AM56&CHAR(10), AM56&CHAR(10)) ) )&AS56, "") | BB56: FALSE | BC56: 檸檬酸 (Citric acid) | CG56: NT | CH56: 3300
C57: 檸檬酸 (Citric acid) NT 3300 | AL57: 2 | AM57: =IF(BB57,C57,"") | AN57: =BB57 -> FALSE | AO57: 群組6-3 | AP57: =BB57 -> FALSE | AQ57: =AND($AN57,$AP57) -> FALSE | AR57: =IF($AN57=TRUE,$AP57<>TRUE) -> FALSE | AT57: =AT56&IF(AQ57=TRUE, IF(AL57=3, IF(AM57="", "", " "&REPT("-", LEN(AO57) - LEN(SUBSTITUTE(AO57, "-", "")))&AM57&CHAR(10)), IF(AL57=1, ""&AM57&CHAR(10), IF(AL57=2, " █"&AM57&CHAR(10), AM57&CHAR(10)) ) )&AS57, "") | BB57: FALSE | BC57: ★◎維他命A酸 (Tretinoin) | CG57: NT | CH57: 4000
C58: ★維他命A酸 (Tretinoin) NT 4000 | AL58: 2 | AM58: =IF(BB58,C58,"") | AN58: =BB58 -> FALSE | AO58: 群組6-4 | AP58: =BB58 -> FALSE | AQ58: =AND($AN58,$AP58) -> FALSE | AR58: =IF($AN58=TRUE,$AP58<>TRUE) -> FALSE | AT58: =AT57&IF(AQ58=TRUE, IF(AL58=3, IF(AM58="", "", " "&REPT("-", LEN(AO58) - LEN(SUBSTITUTE(AO58, "-", "")))&AM58&CHAR(10)), IF(AL58=1, ""&AM58&CHAR(10), IF(AL58=2, " █"&AM58&CHAR(10), AM58&CHAR(10)) ) )&AS58, "") | BB58: FALSE | BC58: ★◎杜鵑醇 (Rhododendrol) | CG58: NT | CH58: 5000
C59: ★杜鵑醇 (Rhododendrol) NT 5000 | AL59: 2 | AM59: =IF(BB59,C59,"") | AN59: =BB59 -> FALSE | AO59: 群組6-5 | AP59: =BB59 -> FALSE | AQ59: =AND($AN59,$AP59) -> FALSE | AR59: =IF($AN59=TRUE,$AP59<>TRUE) -> FALSE | AT59: =AT58&IF(AQ59=TRUE, IF(AL59=3, IF(AM59="", "", " "&REPT("-", LEN(AO59) - LEN(SUBSTITUTE(AO59, "-", "")))&AM59&CHAR(10)), IF(AL59=1, ""&AM59&CHAR(10), IF(AL59=2, " █"&AM59&CHAR(10), AM59&CHAR(10)) ) )&AS59, "") | BB59: FALSE | BC59: 維生素C葡萄糖苷 (Ascorbyl glucoside) | CG59: NT | CH59: 4000
C60: 蘋果酸 (dl-Malic acid) NT 3300 | AL60: 2 | AM60: =IF(BB60,C60,"") | AN60: =BB60 -> FALSE | AO60: 群組6-6 | AP60: =BB60 -> FALSE | AQ60: =AND($AN60,$AP60) -> FALSE | AR60: =IF($AN60=TRUE,$AP60<>TRUE) -> FALSE | AT60: =AT59&IF(AQ60=TRUE, IF(AL60=3, IF(AM60="", "", " "&REPT("-", LEN(AO60) - LEN(SUBSTITUTE(AO60, "-", "")))&AM60&CHAR(10)), IF(AL60=1, ""&AM60&CHAR(10), IF(AL60=2, " █"&AM60&CHAR(10), AM60&CHAR(10)) ) )&AS60, "") | BB60: FALSE | BC60: 生育酚 (DL-α-Tocopherol) | CG60: NT | CH60: 6600
C61: 傳明酸 (Tranexamic acid) NT 5500 | AL61: 2 | AM61: =IF(BB61,C61,"") | AN61: =BB61 -> FALSE | AO61: 群組6-7 | AP61: =BB61 -> FALSE | AQ61: =AND($AN61,$AP61) -> FALSE | AR61: =IF($AN61=TRUE,$AP61<>TRUE) -> FALSE | AT61: =AT60&IF(AQ61=TRUE, IF(AL61=3, IF(AM61="", "", " "&REPT("-", LEN(AO61) - LEN(SUBSTITUTE(AO61, "-", "")))&AM61&CHAR(10)), IF(AL61=1, ""&AM61&CHAR(10), IF(AL61=2, " █"&AM61&CHAR(10), AM61&CHAR(10)) ) )&AS61, "") | BB61: FALSE | BC61: 熊果素 (Arbutin) | CG61: NT | CH61: 4000
C62: 維生素C葡萄糖苷 (Ascorbyl glucoside) NT 4000 | AL62: 2 | AM62: =IF(BB62,C62,"") | AN62: =BB62 -> FALSE | AO62: 群組6-8 | AP62: =BB62 -> FALSE | AQ62: =AND($AN62,$AP62) -> FALSE | AR62: =IF($AN62=TRUE,$AP62<>TRUE) -> FALSE | AT62: =AT61&IF(AQ62=TRUE, IF(AL62=3, IF(AM62="", "", " "&REPT("-", LEN(AO62) - LEN(SUBSTITUTE(AO62, "-", "")))&AM62&CHAR(10)), IF(AL62=1, ""&AM62&CHAR(10), IF(AL62=2, " █"&AM62&CHAR(10), AM62&CHAR(10)) ) )&AS62, "") | BB62: FALSE | BC62: 蘋果酸 (dl-Malic acid) | CG62: NT | CH62: 3300
C63: 熊果素 (Arbutin) NT 4000 | AL63: 2 | AM63: =IF(BB63,C63,"") | AN63: =BB63 -> FALSE | AO63: 群組6-9 | AP63: =BB63 -> FALSE | AQ63: =AND($AN63,$AP63) -> FALSE | AR63: =IF($AN63=TRUE,$AP63<>TRUE) -> FALSE | AT63: =AT62&IF(AQ63=TRUE, IF(AL63=3, IF(AM63="", "", " "&REPT("-", LEN(AO63) - LEN(SUBSTITUTE(AO63, "-", "")))&AM63&CHAR(10)), IF(AL63=1, ""&AM63&CHAR(10), IF(AL63=2, " █"&AM63&CHAR(10), AM63&CHAR(10)) ) )&AS63, "") | BB63: FALSE | BC63: 傳明酸 (Tranexamic acid) | CG63: NT | CH63: 5500
C64: 尿囊素 (Allantoin) NT 5000 | AL64: 2 | AM64: =IF(BB64,C64,"") | AN64: =BB64 -> FALSE | AO64: 群組6-10 | AP64: =BB64 -> FALSE | AQ64: =AND($AN64,$AP64) -> FALSE | AR64: =IF($AN64=TRUE,$AP64<>TRUE) -> FALSE | AT64: =AT63&IF(AQ64=TRUE, IF(AL64=3, IF(AM64="", "", " "&REPT("-", LEN(AO64) - LEN(SUBSTITUTE(AO64, "-", "")))&AM64&CHAR(10)), IF(AL64=1, ""&AM64&CHAR(10), IF(AL64=2, " █"&AM64&CHAR(10), AM64&CHAR(10)) ) )&AS64, "") | BB64: FALSE | BC64: ★◎對苯二酚單苄醚 (Hydroquinone monobenzyl ether) | CG64: NT | CH64: 5000
C65: 生育酚 (DL-α-Tocopherol) NT 6600 | AL65: 2 | AM65: =IF(BB65,C65,"") | AN65: =BB65 -> FALSE | AO65: 群組6-11 | AP65: =BB65 -> FALSE | AQ65: =AND($AN65,$AP65) -> FALSE | AR65: =IF($AN65=TRUE,$AP65<>TRUE) -> FALSE | AT65: =AT64&IF(AQ65=TRUE, IF(AL65=3, IF(AM65="", "", " "&REPT("-", LEN(AO65) - LEN(SUBSTITUTE(AO65, "-", "")))&AM65&CHAR(10)), IF(AL65=1, ""&AM65&CHAR(10), IF(AL65=2, " █"&AM65&CHAR(10), AM65&CHAR(10)) ) )&AS65, "") | BB65: FALSE | BC65: 尿囊素 (Allantoin) | CG65: NT | CH65: 5000
C66: dl-α-生育醇醋酸酯 (DL-α-Tocopheryl Acetate) NT 6600 | AL66: 2 | AM66: =IF(BB66,C66,"") | AN66: =BB66 -> FALSE | AO66: 群組6-12 | AP66: =BB66 -> FALSE | AQ66: =AND($AN66,$AP66) -> FALSE | AR66: =IF($AN66=TRUE,$AP66<>TRUE) -> FALSE | AT66: =AT65&IF(AQ66=TRUE, IF(AL66=3, IF(AM66="", "", " "&REPT("-", LEN(AO66) - LEN(SUBSTITUTE(AO66, "-", "")))&AM66&CHAR(10)), IF(AL66=1, ""&AM66&CHAR(10), IF(AL66=2, " █"&AM66&CHAR(10), AM66&CHAR(10)) ) )&AS66, "") | BB66: FALSE | BC66: dl-α-生育醇醋酸酯 (DL-α-Tocopheryl Acetate) | CG66: NT | CH66: 6600
B67: 7. 肥皂 Soap : | AK67: =COUNTIF(BB68:BB74,TRUE) -> 0 | AL67: 1 | AM67: =B67 -> 7. 肥皂 Soap : | AN67: =OR(BB68:BB74) -> FALSE | AO67: 群組7 | AP67: =TRUE -> TRUE | AQ67: =AND($AN67,$AP67) -> FALSE | AR67: =IF($AN67=TRUE,$AP67<>TRUE) -> FALSE | AT67: =AT66&IF(AQ67=TRUE, IF(AL67=3, IF(AM67="", "", " "&REPT("-", LEN(AO67) - LEN(SUBSTITUTE(AO67, "-", "")))&AM67&CHAR(10)), IF(AL67=1, ""&AM67&CHAR(10), IF(AL67=2, " █"&AM67&CHAR(10), AM67&CHAR(10)) ) )&AS67, "") | BB67: 7. 香皂 Toilet Soap : | CK67: =COUNTIF(BB68:BB74,TRUE) -> 0
C68: 含水量 (Water content) NT 1650 | AL68: 2 | AM68: =IF(BB68,C68,"") | AN68: =BB68 -> FALSE | AO68: 群組7-1 | AP68: =BB68 -> FALSE | AQ68: =AND($AN68,$AP68) -> FALSE | AR68: =IF($AN68=TRUE,$AP68<>TRUE) -> FALSE | AT68: =AT67&IF(AQ68=TRUE, IF(AL68=3, IF(AM68="", "", " "&REPT("-", LEN(AO68) - LEN(SUBSTITUTE(AO68, "-", "")))&AM68&CHAR(10)), IF(AL68=1, ""&AM68&CHAR(10), IF(AL68=2, " █"&AM68&CHAR(10), AM68&CHAR(10)) ) )&AS68, "") | BB68: FALSE | BC68: 含水量 (Water content) | CG68: NT | CH68: 1650
C69: 純皂分 (Saponifiable Matter) NT 2750 | AL69: 2 | AM69: =IF(BB69,C69,"") | AN69: =BB69 -> FALSE | AO69: 群組7-2 | AP69: =BB69 -> FALSE | AQ69: =AND($AN69,$AP69) -> FALSE | AR69: =IF($AN69=TRUE,$AP69<>TRUE) -> FALSE | AT69: =AT68&IF(AQ69=TRUE, IF(AL69=3, IF(AM69="", "", " "&REPT("-", LEN(AO69) - LEN(SUBSTITUTE(AO69, "-", "")))&AM69&CHAR(10)), IF(AL69=1, ""&AM69&CHAR(10), IF(AL69=2, " █"&AM69&CHAR(10), AM69&CHAR(10)) ) )&AS69, "") | BB69: FALSE | BC69: 純皂分 (Saponifiable Matter) | CG69: NT | CH69: 2750
C70: 乙醇不溶物 (Ethanol Insoluble Matter) NT 1650 | AL70: 2 | AM70: =IF(BB70,C70,"") | AN70: =BB70 -> FALSE | AO70: 群組7-3 | AP70: =BB70 -> FALSE | AQ70: =AND($AN70,$AP70) -> FALSE | AR70: =IF($AN70=TRUE,$AP70<>TRUE) -> FALSE | AT70: =AT69&IF(AQ70=TRUE, IF(AL70=3, IF(AM70="", "", " "&REPT("-", LEN(AO70) - LEN(SUBSTITUTE(AO70, "-", "")))&AM70&CHAR(10)), IF(AL70=1, ""&AM70&CHAR(10), IF(AL70=2, " █"&AM70&CHAR(10), AM70&CHAR(10)) ) )&AS70, "") | BB70: FALSE | BC70: 乙醇不溶物 (Ethanol Insoluble Matter) | CG70: NT | CH70: 1650
C71: 總游離鹼 (Total Free Alkali) NT 1650 | AL71: 2 | AM71: =IF(BB71,C71,"") | AN71: =BB71 -> FALSE | AO71: 群組7-4 | AP71: =BB71 -> FALSE | AQ71: =AND($AN71,$AP71) -> FALSE | AR71: =IF($AN71=TRUE,$AP71<>TRUE) -> FALSE | AT71: =AT70&IF(AQ71=TRUE, IF(AL71=3, IF(AM71="", "", " "&REPT("-", LEN(AO71) - LEN(SUBSTITUTE(AO71, "-", "")))&AM71&CHAR(10)), IF(AL71=1, ""&AM71&CHAR(10), IF(AL71=2, " █"&AM71&CHAR(10), AM71&CHAR(10)) ) )&AS71, "") | BB71: FALSE | BC71: 總游離鹼 (Total Free Alkali) | CG71: NT | CH71: 1650
C72: 石油醚可溶物 (Petroleum Ether Soluble Matter) NT 2750 | AL72: 2 | AM72: =IF(BB72,C72,"") | AN72: =BB72 -> FALSE | AO72: 群組7-5 | AP72: =BB72 -> FALSE | AQ72: =AND($AN72,$AP72) -> FALSE | AR72: =IF($AN72=TRUE,$AP72<>TRUE) -> FALSE | AT72: =AT71&IF(AQ72=TRUE, IF(AL72=3, IF(AM72="", "", " "&REPT("-", LEN(AO72) - LEN(SUBSTITUTE(AO72, "-", "")))&AM72&CHAR(10)), IF(AL72=1, ""&AM72&CHAR(10), IF(AL72=2, " █"&AM72&CHAR(10), AM72&CHAR(10)) ) )&AS72, "") | BB72: FALSE | BC72: 石油醚可溶物 (Petroleum Ether Soluble Matter) | CG72: NT | CH72: 2750
C73: 游離鹼 (Free Alkali) NT 1650 | AL73: 2 | AM73: =IF(BB73,C73,"") | AN73: =BB73 -> FALSE | AO73: 群組7-6 | AP73: =BB73 -> FALSE | AQ73: =AND($AN73,$AP73) -> FALSE | AR73: =IF($AN73=TRUE,$AP73<>TRUE) -> FALSE | AT73: =AT72&IF(AQ73=TRUE, IF(AL73=3, IF(AM73="", "", " "&REPT("-", LEN(AO73) - LEN(SUBSTITUTE(AO73, "-", "")))&AM73&CHAR(10)), IF(AL73=1, ""&AM73&CHAR(10), IF(AL73=2, " █"&AM73&CHAR(10), AM73&CHAR(10)) ) )&AS73, "") | BB73: FALSE | BC73: 游離鹼 (Free Alkali) | CG73: NT | CH73: 1650
C74: 水不溶物 (Water Insoluble Matter) NT 1800 | AL74: 2 | AM74: =IF(BB74,C74,"") | AN74: =BB74 -> FALSE | AO74: 群組7-7 | AP74: =BB74 -> FALSE | AQ74: =AND($AN74,$AP74) -> FALSE | AR74: =IF($AN74=TRUE,$AP74<>TRUE) -> FALSE | AT74: =AT73&IF(AQ74=TRUE, IF(AL74=3, IF(AM74="", "", " "&REPT("-", LEN(AO74) - LEN(SUBSTITUTE(AO74, "-", "")))&AM74&CHAR(10)), IF(AL74=1, ""&AM74&CHAR(10), IF(AL74=2, " █"&AM74&CHAR(10), AM74&CHAR(10)) ) )&AS74, "") | BB74: FALSE | BC74: 水不溶物 (Water Insoluble Matter) | CG74: NT | CH74: 1800
B75: 8. 常見測項 Common items: | AK75: =COUNTIF(BB76:BB93,TRUE) -> 0 | AL75: 1 | AM75: =B75 -> 8. 常見測項 Common items: | AN75: =OR(BB76:BB93) -> FALSE | AO75: 群組8 | AP75: =TRUE -> TRUE | AQ75: =AND($AN75,$AP75) -> FALSE | AR75: =IF($AN75=TRUE,$AP75<>TRUE) -> FALSE | AT75: =AT74&IF(AQ75=TRUE, IF(AL75=3, IF(AM75="", "", " "&REPT("-", LEN(AO75) - LEN(SUBSTITUTE(AO75, "-", "")))&AM75&CHAR(10)), IF(AL75=1, ""&AM75&CHAR(10), IF(AL75=2, " █"&AM75&CHAR(10), AM75&CHAR(10)) ) )&AS75, "") | BB75: 8. 常見測項 Common items： | CK75: =COUNTIF(BB76:BB89,TRUE) -> 0
C76: pH值 (pH) NT 1000 | I76: 直讀 | L76: 稀釋條件: | AL76: 2 | AM76: =IF(BB76,C76&" - "&IF(BH76=TRUE,I76,"")&IF(BK76=TRUE,L76&O76,""),"") | AN76: =BB76 -> FALSE | AO76: 群組8-1 | AP76: =BB76 -> FALSE | AQ76: =AND($AN76,$AP76) -> FALSE | AR76: =IF($AN76=TRUE,$AP76<>TRUE) -> FALSE | AT76: =AT75&IF(AQ76=TRUE, IF(AL76=3, IF(AM76="", "", " "&REPT("-", LEN(AO76) - LEN(SUBSTITUTE(AO76, "-", "")))&AM76&CHAR(10)), IF(AL76=1, ""&AM76&CHAR(10), IF(AL76=2, " █"&AM76&CHAR(10), AM76&CHAR(10)) ) )&AS76, "") | BB76: FALSE | BC76: pH值 (pH) | BH76: FALSE | BK76: FALSE | CG76: NT | CH76: 1000
C77: 三氯沙 (Triclosan) NT 4000 | AL77: 2 | AM77: =IF(BB77,C77,"") | AN77: =BB77 -> FALSE | AO77: 群組8-2 | AP77: =BB77 -> FALSE | AQ77: =AND($AN77,$AP77) -> FALSE | AR77: =IF($AN77=TRUE,$AP77<>TRUE) -> FALSE | AT77: =AT76&IF(AQ77=TRUE, IF(AL77=3, IF(AM77="", "", " "&REPT("-", LEN(AO77) - LEN(SUBSTITUTE(AO77, "-", "")))&AM77&CHAR(10)), IF(AL77=1, ""&AM77&CHAR(10), IF(AL77=2, " █"&AM77&CHAR(10), AM77&CHAR(10)) ) )&AS77, "") | BB77: FALSE | BC77: 三氯沙 (Triclosan) | CG77: NT | CH77: 4000
C78: Chlorhexidine digluconate (CHG) NT 5500 | AL78: 2 | AM78: =IF(BB78,C78,"") | AN78: =BB78 -> FALSE | AO78: 群組8-3 | AP78: =BB78 -> FALSE | AQ78: =AND($AN78,$AP78) -> FALSE | AR78: =IF($AN78=TRUE,$AP78<>TRUE) -> FALSE | AT78: =AT77&IF(AQ78=TRUE, IF(AL78=3, IF(AM78="", "", " "&REPT("-", LEN(AO78) - LEN(SUBSTITUTE(AO78, "-", "")))&AM78&CHAR(10)), IF(AL78=1, ""&AM78&CHAR(10), IF(AL78=2, " █"&AM78&CHAR(10), AM78&CHAR(10)) ) )&AS78, "") | BB78: FALSE | BC78: Chlorhexidine digluconate (CHG) | CG78: NT | CH78: 5500
C79: Cetylpyridinium chloride (CPC) NT 5500 | AL79: 2 | AM79: =IF(BB79,C79,"") | AN79: =BB79 -> FALSE | AO79: 群組8-4 | AP79: =BB79 -> FALSE | AQ79: =AND($AN79,$AP79) -> FALSE | AR79: =IF($AN79=TRUE,$AP79<>TRUE) -> FALSE | AT79: =AT78&IF(AQ79=TRUE, IF(AL79=3, IF(AM79="", "", " "&REPT("-", LEN(AO79) - LEN(SUBSTITUTE(AO79, "-", "")))&AM79&CHAR(10)), IF(AL79=1, ""&AM79&CHAR(10), IF(AL79=2, " █"&AM79&CHAR(10), AM79&CHAR(10)) ) )&AS79, "") | BB79: FALSE | BC79: ★壬基苯酚 (Nonylphenol (NP)) | CG79: NT | CH79: 3300
C80: Benzethonium Chloride (BZC) NT 5500 | AL80: 2 | AM80: =IF(BB80,C80,"") | AN80: =BB80 -> FALSE | AO80: 群組8-5 | AP80: =BB80 -> FALSE | AQ80: =AND($AN80,$AP80) -> FALSE | AR80: =IF($AN80=TRUE,$AP80<>TRUE) -> FALSE | AT80: =AT79&IF(AQ80=TRUE, IF(AL80=3, IF(AM80="", "", " "&REPT("-", LEN(AO80) - LEN(SUBSTITUTE(AO80, "-", "")))&AM80&CHAR(10)), IF(AL80=1, ""&AM80&CHAR(10), IF(AL80=2, " █"&AM80&CHAR(10), AM80&CHAR(10)) ) )&AS80, "") | BB80: FALSE | BC80: ★壬基苯酚聚乙氧基醇類 (Nonyl Phenol Ethoxylates (NPEO)) | CG80: NT | CH80: 4400
C81: Benzalkonium chloride (BAC) NT 5500 | AL81: 2 | AM81: =IF(BB81,C81,"") | AN81: =BB81 -> FALSE | AO81: 群組8-6 | AP81: =BB81 -> FALSE | AQ81: =AND($AN81,$AP81) -> FALSE | AR81: =IF($AN81=TRUE,$AP81<>TRUE) -> FALSE | AT81: =AT80&IF(AQ81=TRUE, IF(AL81=3, IF(AM81="", "", " "&REPT("-", LEN(AO81) - LEN(SUBSTITUTE(AO81, "-", "")))&AM81&CHAR(10)), IF(AL81=1, ""&AM81&CHAR(10), IF(AL81=2, " █"&AM81&CHAR(10), AM81&CHAR(10)) ) )&AS81, "") | BB81: FALSE | BC81: 矽靈 (Dimethicone) | CG81: NT | CH81: 4400
C82: ★壬基苯酚 (Nonylphenol (NP)) NT 3300 | AL82: 2 | AM82: =IF(BB82,C82,"") | AN82: =BB82 -> FALSE | AO82: 群組8-7 | AP82: =BB82 -> FALSE | AQ82: =AND($AN82,$AP82) -> FALSE | AR82: =IF($AN82=TRUE,$AP82<>TRUE) -> FALSE | AT82: =AT81&IF(AQ82=TRUE, IF(AL82=3, IF(AM82="", "", " "&REPT("-", LEN(AO82) - LEN(SUBSTITUTE(AO82, "-", "")))&AM82&CHAR(10)), IF(AL82=1, ""&AM82&CHAR(10), IF(AL82=2, " █"&AM82&CHAR(10), AM82&CHAR(10)) ) )&AS82, "") | BB82: FALSE | BC82: Cetylpyridinium chloride (CPC) | CG82: NT | CH82: 5500
C83: ★壬基苯酚聚乙氧基醇類 (Nonyl Phenol Ethoxylates (NPEO)) NT 4400 | AL83: 2 | AM83: =IF(BB83,C83,"") | AN83: =BB83 -> FALSE | AO83: 群組8-8 | AP83: =BB83 -> FALSE | AQ83: =AND($AN83,$AP83) -> FALSE | AR83: =IF($AN83=TRUE,$AP83<>TRUE) -> FALSE | AT83: =AT82&IF(AQ83=TRUE, IF(AL83=3, IF(AM83="", "", " "&REPT("-", LEN(AO83) - LEN(SUBSTITUTE(AO83, "-", "")))&AM83&CHAR(10)), IF(AL83=1, ""&AM83&CHAR(10), IF(AL83=2, " █"&AM83&CHAR(10), AM83&CHAR(10)) ) )&AS83, "") | BB83: FALSE | BC83: Benzethonium Chloride (BZC) | CG83: NT | CH83: 5500
C84: 矽靈 (Dimethicone) NT 4400 | AL84: 2 | AM84: =IF(BB84,C84,"") | AN84: =BB84 -> FALSE | AO84: 群組8-9 | AP84: =BB84 -> FALSE | AQ84: =AND($AN84,$AP84) -> FALSE | AR84: =IF($AN84=TRUE,$AP84<>TRUE) -> FALSE | AT84: =AT83&IF(AQ84=TRUE, IF(AL84=3, IF(AM84="", "", " "&REPT("-", LEN(AO84) - LEN(SUBSTITUTE(AO84, "-", "")))&AM84&CHAR(10)), IF(AL84=1, ""&AM84&CHAR(10), IF(AL84=2, " █"&AM84&CHAR(10), AM84&CHAR(10)) ) )&AS84, "") | BB84: FALSE | BC84: Benzalkonium chloride (BAC) | CG84: NT | CH84: 5500
C85: 粧品四項PFAS測試套組：化粧品中全氟烷基物質之檢驗方法-4項(PFOA、PFNA、PFOS、PFDA) NT 8000 | AL85: 2 | AM85: =IF(BB85,C85,"") | AN85: =BB85 -> FALSE | AO85: 群組8-9 | AP85: =BB85 -> FALSE | AQ85: =AND($AN85,$AP85) -> FALSE | AR85: =IF($AN85=TRUE,$AP85<>TRUE) -> FALSE | AT85: =AT84&IF(AQ85=TRUE, IF(AL85=3, IF(AM85="", "", " "&REPT("-", LEN(AO85) - LEN(SUBSTITUTE(AO85, "-", "")))&AM85&CHAR(10)), IF(AL85=1, ""&AM85&CHAR(10), IF(AL85=2, " █"&AM85&CHAR(10), AM85&CHAR(10)) ) )&AS85, "") | BB85: FALSE
C86: 遷移性螢光劑(面膜紙)(Migratable fluorescent substance) NT 1650 | AL86: 2 | AM86: =IF(BB86,C86,"") | AN86: =BB86 -> FALSE | AO86: 群組8-10 | AP86: =BB86 -> FALSE | AQ86: =AND($AN86,$AP86) -> FALSE | AR86: =IF($AN86=TRUE,$AP86<>TRUE) -> FALSE | AT86: =AT85&IF(AQ86=TRUE, IF(AL86=3, IF(AM86="", "", " "&REPT("-", LEN(AO86) - LEN(SUBSTITUTE(AO86, "-", "")))&AM86&CHAR(10)), IF(AL86=1, ""&AM86&CHAR(10), IF(AL86=2, " █"&AM86&CHAR(10), AM86&CHAR(10)) ) )&AS86, "") | BB86: FALSE | BC86: 遷移性螢光劑(面膜紙)(Migratable fluorescent substance) | CG86: NT | CH86: 1650
C87: 化粧品中10項類固醇定量分析 (Cosmetic 10 item Steroid) NT 6500 | AL87: 2 | AM87: =IF(BB87,C87,"") | AN87: =BB87 -> FALSE | AO87: 群組8-11 | AP87: =BB87 -> FALSE | AQ87: =AND($AN87,$AP87) -> FALSE | AR87: =IF($AN87=TRUE,$AP87<>TRUE) -> FALSE | AT87: =AT86&IF(AQ87=TRUE, IF(AL87=3, IF(AM87="", "", " "&REPT("-", LEN(AO87) - LEN(SUBSTITUTE(AO87, "-", "")))&AM87&CHAR(10)), IF(AL87=1, ""&AM87&CHAR(10), IF(AL87=2, " █"&AM87&CHAR(10), AM87&CHAR(10)) ) )&AS87, "") | BB87: FALSE | BC87: 化粧品中10項類固醇定量分析 (Cosmetic 10 item Steroid) | CG87: NT | CH87: 6500
C88: 化粧品中雌激素8項定量分析 (Cosmetic Estrogens 8 item) NT 6500 | AL88: 2 | AM88: =IF(BB88,C88,"") | AN88: =BB88 -> FALSE | AO88: 群組8-12 | AP88: =BB88 -> FALSE | AQ88: =AND($AN88,$AP88) -> FALSE | AR88: =IF($AN88=TRUE,$AP88<>TRUE) -> FALSE | AT88: =AT87&IF(AQ88=TRUE, IF(AL88=3, IF(AM88="", "", " "&REPT("-", LEN(AO88) - LEN(SUBSTITUTE(AO88, "-", "")))&AM88&CHAR(10)), IF(AL88=1, ""&AM88&CHAR(10), IF(AL88=2, " █"&AM88&CHAR(10), AM88&CHAR(10)) ) )&AS88, "") | BB88: FALSE | BC88: 化粧品中雌激素8項定量分析 (Cosmetic Estrogens 8 item) | CG88: NT | CH88: 6500
C89: 西藥408項定性分析 (408 Chemicals for clinical use) NT 7500 | AL89: 2 | AM89: =IF(BB89,C89,"") | AN89: =BB89 -> FALSE | AO89: 群組8-13 | AP89: =BB89 -> FALSE | AQ89: =AND($AN89,$AP89) -> FALSE | AR89: =IF($AN89=TRUE,$AP89<>TRUE) -> FALSE | AT89: =AT88&IF(AQ89=TRUE, IF(AL89=3, IF(AM89="", "", " "&REPT("-", LEN(AO89) - LEN(SUBSTITUTE(AO89, "-", "")))&AM89&CHAR(10)), IF(AL89=1, ""&AM89&CHAR(10), IF(AL89=2, " █"&AM89&CHAR(10), AM89&CHAR(10)) ) )&AS89, "") | BB89: FALSE | BC89: 西藥365項定性分析 (365 Chemicals for clinical use) | CG89: NT | CH89: 7500
C90: 化粧品中農藥之鑑別(TFDA建議檢驗方法-19項農藥) NT 8500 | AL90: 2 | AM90: =IF(BB90,C90,"") | AN90: =BB90 -> FALSE | AO90: 群組8-14 | AP90: =BB90 -> FALSE | AQ90: =AND($AN90,$AP90) -> FALSE | AR90: =IF($AN90=TRUE,$AP90<>TRUE) -> FALSE | AT90: =AT89&IF(AQ90=TRUE, IF(AL90=3, IF(AM90="", "", " "&REPT("-", LEN(AO90) - LEN(SUBSTITUTE(AO90, "-", "")))&AM90&CHAR(10)), IF(AL90=1, ""&AM90&CHAR(10), IF(AL90=2, " █"&AM90&CHAR(10), AM90&CHAR(10)) ) )&AS90, "") | BB90: FALSE
C91: 26項香精過敏原測試 NT 26000 | AL91: 2 | AM91: =IF(BB91,C91,"") | AN91: =BB91 -> FALSE | AO91: 群組8-14 | AP91: =BB91 -> FALSE | AQ91: =AND($AN91,$AP91) -> FALSE | AR91: =IF($AN91=TRUE,$AP91<>TRUE) -> FALSE | AT91: =AT90&IF(AQ91=TRUE, IF(AL91=3, IF(AM91="", "", " "&REPT("-", LEN(AO91) - LEN(SUBSTITUTE(AO91, "-", "")))&AM91&CHAR(10)), IF(AL91=1, ""&AM91&CHAR(10), IF(AL91=2, " █"&AM91&CHAR(10), AM91&CHAR(10)) ) )&AS91, "") | BB91: FALSE
C92: 西藥232項定性分析方法(分析儀器TLC+ LC/MS/MS or GC/MS) NT 25000 | AL92: 2 | AM92: =IF(BB92,C92,"") | AN92: =BB92 -> FALSE | AO92: 群組8-14 | AP92: =BB92 -> FALSE | AQ92: =AND($AN92,$AP92) -> FALSE | AR92: =IF($AN92=TRUE,$AP92<>TRUE) -> FALSE | AT92: =AT91&IF(AQ92=TRUE, IF(AL92=3, IF(AM92="", "", " "&REPT("-", LEN(AO92) - LEN(SUBSTITUTE(AO92, "-", "")))&AM92&CHAR(10)), IF(AL92=1, ""&AM92&CHAR(10), IF(AL92=2, " █"&AM92&CHAR(10), AM92&CHAR(10)) ) )&AS92, "") | BB92: FALSE
AL93: 2 | AM93: =IF(BB93,C93,"") | AN93: =BB93 -> FALSE | AO93: 群組8-14 | AP93: =BB93 -> FALSE | AQ93: =AND($AN93,$AP93) -> FALSE | AR93: =IF($AN93=TRUE,$AP93<>TRUE) -> FALSE | AT93: =AT92&IF(AQ93=TRUE, IF(AL93=3, IF(AM93="", "", " "&REPT("-", LEN(AO93) - LEN(SUBSTITUTE(AO93, "-", "")))&AM93&CHAR(10)), IF(AL93=1, ""&AM93&CHAR(10), IF(AL93=2, " █"&AM93&CHAR(10), AM93&CHAR(10)) ) )&AS93, "") | BB93: FALSE
B94: 9. CNS 15492牙膏與牙粉 CNS 15492 Toothpastes (Dentifrices): | AK94: =COUNTIF(BB95:BB101,TRUE) -> 0 | AL94: 1 | AM94: =B94 -> 9. CNS 15492牙膏與牙粉 CNS 15492 Toothpastes (Dentifrices): | AN94: =OR(BB95:BB101) -> FALSE | AO94: 群組9 | AP94: =TRUE -> TRUE | AQ94: =AND($AN94,$AP94) -> FALSE | AR94: =IF($AN94=TRUE,$AP94<>TRUE) -> FALSE | AT94: =AT93&IF(AQ94=TRUE, IF(AL94=3, IF(AM94="", "", " "&REPT("-", LEN(AO94) - LEN(SUBSTITUTE(AO94, "-", "")))&AM94&CHAR(10)), IF(AL94=1, ""&AM94&CHAR(10), IF(AL94=2, " █"&AM94&CHAR(10), AM94&CHAR(10)) ) )&AS94, "") | BB94: 9. CNS 15492牙膏與牙粉 CNS 15492 Toothpastes (Dentifrices): | CK94: =COUNTIF(BB95:BB101,TRUE) -> 0
C95: 重金屬(以鉛計)(Heavy Metal as Pb) NT 1650 | AL95: 2 | AM95: =IF(BB95,C95,"") | AN95: =BB95 -> FALSE | AO95: 群組9-1 | AP95: =BB95 -> FALSE | AQ95: =AND($AN95,$AP95) -> FALSE | AR95: =IF($AN95=TRUE,$AP95<>TRUE) -> FALSE | AT95: =AT94&IF(AQ95=TRUE, IF(AL95=3, IF(AM95="", "", " "&REPT("-", LEN(AO95) - LEN(SUBSTITUTE(AO95, "-", "")))&AM95&CHAR(10)), IF(AL95=1, ""&AM95&CHAR(10), IF(AL95=2, " █"&AM95&CHAR(10), AM95&CHAR(10)) ) )&AS95, "") | BB95: FALSE | BC95: 重金屬(以鉛計)(Heavy Metal as Pb) | CG95: NT | CH95: 1650
C96: 三氯沙 (Triclosan) NT 4000 | AL96: 2 | AM96: =IF(BB96,C96,"") | AN96: =BB96 -> FALSE | AO96: 群組9-2 | AP96: =BB96 -> FALSE | AQ96: =AND($AN96,$AP96) -> FALSE | AR96: =IF($AN96=TRUE,$AP96<>TRUE) -> FALSE | AT96: =AT95&IF(AQ96=TRUE, IF(AL96=3, IF(AM96="", "", " "&REPT("-", LEN(AO96) - LEN(SUBSTITUTE(AO96, "-", "")))&AM96&CHAR(10)), IF(AL96=1, ""&AM96&CHAR(10), IF(AL96=2, " █"&AM96&CHAR(10), AM96&CHAR(10)) ) )&AS96, "") | BB96: FALSE | BC96: 三氯沙 (Triclosan) | CG96: NT | CH96: 4000
C97: 水不溶物 (Water insoluble matter in toothpaste) NT 1800 | AL97: 2 | AM97: =IF(BB97,C97,"") | AN97: =BB97 -> FALSE | AO97: 群組9-3 | AP97: =BB97 -> FALSE | AQ97: =AND($AN97,$AP97) -> FALSE | AR97: =IF($AN97=TRUE,$AP97<>TRUE) -> FALSE | AT97: =AT96&IF(AQ97=TRUE, IF(AL97=3, IF(AM97="", "", " "&REPT("-", LEN(AO97) - LEN(SUBSTITUTE(AO97, "-", "")))&AM97&CHAR(10)), IF(AL97=1, ""&AM97&CHAR(10), IF(AL97=2, " █"&AM97&CHAR(10), AM97&CHAR(10)) ) )&AS97, "") | BB97: FALSE | BC97: 水不溶物 (Water insoluble matter in toothpaste) | CG97: NT | CH97: 1800
C98: 氟 (Fluorine (F)) NT 4000 | AL98: 2 | AM98: =IF(BB98,C98,"") | AN98: =BB98 -> FALSE | AO98: 群組9-4 | AP98: =BB98 -> FALSE | AQ98: =AND($AN98,$AP98) -> FALSE | AR98: =IF($AN98=TRUE,$AP98<>TRUE) -> FALSE | AT98: =AT97&IF(AQ98=TRUE, IF(AL98=3, IF(AM98="", "", " "&REPT("-", LEN(AO98) - LEN(SUBSTITUTE(AO98, "-", "")))&AM98&CHAR(10)), IF(AL98=1, ""&AM98&CHAR(10), IF(AL98=2, " █"&AM98&CHAR(10), AM98&CHAR(10)) ) )&AS98, "") | BB98: FALSE | BC98: 氟 (Fluorine (F)) | CG98: NT | CH98: 4000
C99: pH值 (pH) NT 1000 | AL99: 2 | AM99: =IF(BB99,C99,"") | AN99: =BB99 -> FALSE | AO99: 群組9-5 | AP99: =BB99 -> FALSE | AQ99: =AND($AN99,$AP99) -> FALSE | AR99: =IF($AN99=TRUE,$AP99<>TRUE) -> FALSE | AT99: =AT98&IF(AQ99=TRUE, IF(AL99=3, IF(AM99="", "", " "&REPT("-", LEN(AO99) - LEN(SUBSTITUTE(AO99, "-", "")))&AM99&CHAR(10)), IF(AL99=1, ""&AM99&CHAR(10), IF(AL99=2, " █"&AM99&CHAR(10), AM99&CHAR(10)) ) )&AS99, "") | BB99: FALSE | BC99: pH值 (pH) | CG99: NT | CH99: 1000
C100: 二甘醇 (Diethylene Glycol (DEG)) NT 6600 | AL100: 2 | AM100: =IF(BB100,C100,"") | AN100: =BB100 -> FALSE | AO100: 群組9-6 | AP100: =BB100 -> FALSE | AQ100: =AND($AN100,$AP100) -> FALSE | AR100: =IF($AN100=TRUE,$AP100<>TRUE) -> FALSE | AT100: =AT99&IF(AQ100=TRUE, IF(AL100=3, IF(AM100="", "", " "&REPT("-", LEN(AO100) - LEN(SUBSTITUTE(AO100, "-", "")))&AM100&CHAR(10)), IF(AL100=1, ""&AM100&CHAR(10), IF(AL100=2, " █"&AM100&CHAR(10), AM100&CHAR(10)) ) )&AS100, "") | BB100: FALSE | BC100: 二甘醇 (Diethylene Glycol (DEG)) | CG100: NT | CH100: 6600
...

Sheet 特定功能化粧品 測試項目
B1: 特定功能化粧品 (Specific Functional Cosmetics)： | AN1: AND(前端需求+前V) | AP1: OR(自己V或同層完成需求) | AY1: =IF(COUNTIF(BB1:BB132,TRUE),"《"&B1&"》"&CHAR(10)&B3,"")
B2: ※ 項目前有標示★符號表示為TFDA認證項目，◎符號表示為TAF認證項目。★ Indicated as TFDA Accreditation Testing Field. ◎ Indicated as TAF Accreditation Testing Field. | AL2: 層級 | AM2: 顯示內容 | AN2: 需求開啟 | AO2: "-"個數 | AP2: 需求完成 | AQ2: 顯示篩選 | AR2: 必填未填 | AS2: 未填提醒 | AT2: 顯示內容 | AY2: {=IF(AY1<>"",LOOKUP(2,1/(AT4:AT1001<>""),AT4:AT1001),"")}
B3: ※樣品特殊處理需求 (Sample Preparation)凡屬噴霧罐（Aerosol Can）樣品，因檢測前可能需進行洩壓、破罐或開罐等特殊前處理作業，將另收取樣品處理費用 NT$1,500／件。For aerosol can samples, special sample preparation procedures, including depressurization and/or opening of the container, may be required prior to testing. An additional handling fee of NT$1,500 per sample will be charged.
B4: **測試前務請提供產品全成分比例表供實驗室比對；如未提供，測試結果僅依實驗室分析數據為主出具報告** | AL4: 1 | AM4: =B4 -> **測試前務請提供產品全成分比例表供實驗室比對；如未提供，測試結果僅依實驗室分析數據為主出具報告** | AN4: =OR(BB5,BB6,BB7,BB8,BB9) -> FALSE | AO4: 群組1 | AP4: =TRUE -> TRUE | AQ4: =AND($AN4,$AP4) -> FALSE | AR4: =IF($AN4=TRUE,$AP4<>TRUE) -> FALSE | AT4: =IF(AQ4=TRUE, IF(AL4=3, IF(AM4="", "", " "&REPT("-", LEN(AO4) - LEN(SUBSTITUTE(AO4, "-", "")))&AM4&CHAR(10)), IF(AL4=1, ""&AM4&CHAR(10), IF(AL4=2, " █"&AM4&CHAR(10), AM4&CHAR(10)) ) )&AS4, "") | AY4: =IF(AY1="","",AY1&CHAR(10)&AY2) &IF(OR(ISNUMBER(SEARCH("★",AY2)),ISNUMBER(SEARCH("◎",AY2)),ISNUMBER(SEARCH("#",AY2))),"※以上項目前有標示" &IF(ISNUMBER(SEARCH("★",AY2)),"標示★符號表示為TFDA認證項目。","") &IF(ISNUMBER(SEARCH("◎",AY2)),"標示◎符號表示為TAF認證項目。","") &IF(ISNUMBER(SEARCH("#",AY2)),"#表示為外部服務項目。",""),"") &IF(OR(ISNUMBER(SEARCH("★",AY2)),ISNUMBER(SEARCH("◎",AY2)),ISNUMBER(SEARCH("#",AY2))),"※Items marked with " &IF(ISNUMBER(SEARCH("★",AY2)),"★ Indicated as TFDA Accreditation Testing Field.","") &IF(ISNUMBER(SEARCH("◎",AY2)),"◎ Indicated as TAF Accreditation Testing Field.","") &IF(ISNUMBER(SEARCH("#",AY2)),"# stands for subcontract.",""),"") &IF(OR(ISNUMBER(SEARCH("★",AY2)),ISNUMBER(SEARCH("◎",AY2)),ISNUMBER(SEARCH("#",AY2))),CHAR(10),"")
B5: 1. 常見項目 | AK5: =COUNTIF(BB6:BB9,TRUE) -> 0 | AL5: 1 | AM5: =B5 -> 1. 常見項目 | AN5: =OR(BB6:BB9) -> FALSE | AO5: 群組1 | AP5: =OR(BB6:BB9) -> FALSE | AQ5: =AND($AN5,$AP5) -> FALSE | AR5: =IF($AN5=TRUE,$AP5<>TRUE) -> FALSE | AT5: =AT4&IF(AQ5=TRUE, IF(AL5=3, IF(AM5="", "", " "&REPT("-", LEN(AO5) - LEN(SUBSTITUTE(AO5, "-", "")))&AM5&CHAR(10)), IF(AL5=1, ""&AM5&CHAR(10), IF(AL5=2, " █"&AM5&CHAR(10), AM5&CHAR(10)) ) )&AS5, "")
C6: 性狀(含結果、流程方法) | AL6: 2 | AM6: =IF(BB6,C6,"") | AN6: =BB6 -> FALSE | AO6: 群組1-1 | AP6: =BB6 -> FALSE | AQ6: =AND($AN6,$AP6) -> FALSE | AR6: =IF($AN6=TRUE,$AP6<>TRUE) -> FALSE | AT6: =AT5&IF(AQ6=TRUE, IF(AL6=3, IF(AM6="", "", " "&REPT("-", LEN(AO6) - LEN(SUBSTITUTE(AO6, "-", "")))&AM6&CHAR(10)), IF(AL6=1, ""&AM6&CHAR(10), IF(AL6=2, " █"&AM6&CHAR(10), AM6&CHAR(10)) ) )&AS6, "") | BB6: FALSE
C7: 鹼度(含結果、流程方法) | AL7: 2 | AM7: =IF(BB7,C7,"") | AN7: =BB7 -> FALSE | AO7: 群組1-2 | AP7: =BB7 -> FALSE | AQ7: =AND($AN7,$AP7) -> FALSE | AR7: =IF($AN7=TRUE,$AP7<>TRUE) -> FALSE | AT7: =AT6&IF(AQ7=TRUE, IF(AL7=3, IF(AM7="", "", " "&REPT("-", LEN(AO7) - LEN(SUBSTITUTE(AO7, "-", "")))&AM7&CHAR(10)), IF(AL7=1, ""&AM7&CHAR(10), IF(AL7=2, " █"&AM7&CHAR(10), AM7&CHAR(10)) ) )&AS7, "") | BB7: FALSE
C8: pH值(含數據、流程方法) | AL8: 2 | AM8: =IF(BB8,C8,"") | AN8: =BB8 -> FALSE | AO8: 群組1-3 | AP8: =BB8 -> FALSE | AQ8: =AND($AN8,$AP8) -> FALSE | AR8: =IF($AN8=TRUE,$AP8<>TRUE) -> FALSE | AT8: =AT7&IF(AQ8=TRUE, IF(AL8=3, IF(AM8="", "", " "&REPT("-", LEN(AO8) - LEN(SUBSTITUTE(AO8, "-", "")))&AM8&CHAR(10)), IF(AL8=1, ""&AM8&CHAR(10), IF(AL8=2, " █"&AM8&CHAR(10), AM8&CHAR(10)) ) )&AS8, "") | BB8: FALSE
C9: Ammonia solution（以NH3計，含數據、圖譜、流程方法) | AL9: 2 | AM9: =IF(BB9,C9,"") | AN9: =BB9 -> FALSE | AO9: 群組1-4 | AP9: =BB9 -> FALSE | AQ9: =AND($AN9,$AP9) -> FALSE | AR9: =IF($AN9=TRUE,$AP9<>TRUE) -> FALSE | AT9: =AT8&IF(AQ9=TRUE, IF(AL9=3, IF(AM9="", "", " "&REPT("-", LEN(AO9) - LEN(SUBSTITUTE(AO9, "-", "")))&AM9&CHAR(10)), IF(AL9=1, ""&AM9&CHAR(10), IF(AL9=2, " █"&AM9&CHAR(10), AM9&CHAR(10)) ) )&AS9, "") | BB9: FALSE
B10: 2. 牙齒美白劑 (含數據、圖譜、流程方法): | AK10: =COUNTIF(BB11:BB15,TRUE) -> 0 | AL10: 1 | AM10: =B10 -> 2. 牙齒美白劑 (含數據、圖譜、流程方法): | AN10: =OR(BB12:BB13,BB15) -> FALSE | AO10: 群組2 | AP10: =OR(BB12:BB13,BB15) -> FALSE | AQ10: =AND($AN10,$AP10) -> FALSE | AR10: =IF($AN10=TRUE,$AP10<>TRUE) -> FALSE | AT10: =AT9&IF(AQ10=TRUE, IF(AL10=3, IF(AM10="", "", " "&REPT("-", LEN(AO10) - LEN(SUBSTITUTE(AO10, "-", "")))&AM10&CHAR(10)), IF(AL10=1, ""&AM10&CHAR(10), IF(AL10=2, " █"&AM10&CHAR(10), AM10&CHAR(10)) ) )&AS10, "")
C11: INCI 名稱 | S11: CAS No. | AT11: =AT10&IF(AQ11=TRUE, IF(AL11=3, IF(AM11="", "", " "&REPT("-", LEN(AO11) - LEN(SUBSTITUTE(AO11, "-", "")))&AM11&CHAR(10)), IF(AL11=1, ""&AM11&CHAR(10), IF(AL11=2, " █"&AM11&CHAR(10), AM11&CHAR(10)) ) )&AS11, "")
C12: Hydrogen Peroxide註(含鑑別測試) | S12: 7722-84-1 | AL12: 2 | AM12: =IF(AL12=1,BB12,IF(AL12=2,C12&IF(S12<>"",","&S12,""),"")) -> Hydrogen Peroxide註(含鑑別測試),7722-84-1 | AN12: =BB12 -> FALSE | AO12: 群組2-1 | AP12: =BB12 -> FALSE | AQ12: =AND($AN12,$AP12) -> FALSE | AR12: =IF($AN12=TRUE,$AP12<>TRUE) -> FALSE | AT12: =AT11&IF(AQ12=TRUE, IF(AL12=3, IF(AM12="", "", " "&REPT("-", LEN(AO12) - LEN(SUBSTITUTE(AO12, "-", "")))&AM12&CHAR(10)), IF(AL12=1, ""&AM12&CHAR(10), IF(AL12=2, " █"&AM12&CHAR(10), AM12&CHAR(10)) ) )&AS12, "") | BB12: FALSE
C13: Total Peroxide註 | AL13: 2 | AM13: =IF(AL13=1,BB13,IF(AL13=2,C13&IF(S13<>"",","&S13,""),"")) -> Total Peroxide註 | AN13: =BB13 -> FALSE | AO13: 群組2-2 | AP13: =BB13 -> FALSE | AQ13: =AND($AN13,$AP13) -> FALSE | AR13: =IF($AN13=TRUE,$AP13<>TRUE) -> FALSE | AT13: =AT12&IF(AQ13=TRUE, IF(AL13=3, IF(AM13="", "", " "&REPT("-", LEN(AO13) - LEN(SUBSTITUTE(AO13, "-", "")))&AM13&CHAR(10)), IF(AL13=1, ""&AM13&CHAR(10), IF(AL13=2, " █"&AM13&CHAR(10), AM13&CHAR(10)) ) )&AS13, "") | BB13: FALSE
B14: 註: 牙齒美白產品，如同時2項成份(含)以上，因方法無法區分，報告將呈現"各項成份鑑別"與"Peroxid 總量"。 | AL14: 3 | AM14: =B14 -> 註: 牙齒美白產品，如同時2項成份(含)以上，因方法無法區分，報告將呈現"各項成份鑑別"與"Peroxid 總量"。 | AN14: =OR(BB12:BB13) -> FALSE | AO14: 群組2-2-1 | AP14: =TRUE -> TRUE | AQ14: =AND($AN14,$AP14) -> FALSE | AR14: =IF($AN14=TRUE,$AP14<>TRUE) -> FALSE | AT14: =AT13&IF(AQ14=TRUE, IF(AL14=3, IF(AM14="", "", " "&REPT("-", LEN(AO14) - LEN(SUBSTITUTE(AO14, "-", "")))&AM14&CHAR(10)), IF(AL14=1, ""&AM14&CHAR(10), IF(AL14=2, " █"&AM14&CHAR(10), AM14&CHAR(10)) ) )&AS14, "")
C15: Carbamide Peroxide註(含鑑別) | S15: 124-43-6 | AL15: 2 | AM15: =IF(AL15=1,BB15,IF(AL15=2,C15&IF(S15<>"",","&S15,""),"")) -> Carbamide Peroxide註(含鑑別),124-43-6 | AN15: =BB15 -> FALSE | AO15: 群組2-3 | AP15: =BB15 -> FALSE | AQ15: =AND($AN15,$AP15) -> FALSE | AR15: =IF($AN15=TRUE,$AP15<>TRUE) -> FALSE | AT15: =AT14&IF(AQ15=TRUE, IF(AL15=3, IF(AM15="", "", " "&REPT("-", LEN(AO15) - LEN(SUBSTITUTE(AO15, "-", "")))&AM15&CHAR(10)), IF(AL15=1, ""&AM15&CHAR(10), IF(AL15=2, " █"&AM15&CHAR(10), AM15&CHAR(10)) ) )&AS15, "") | BB15: FALSE
B16: 3. 止汗制臭劑(含鑑別、數據、圖譜、流程方法): | AK16: =COUNTIF(BB17:BB18,TRUE) -> 0 | AL16: 1 | AM16: =B16 -> 3. 止汗制臭劑(含鑑別、數據、圖譜、流程方法): | AN16: =OR(BB18) -> FALSE | AO16: 群組3 | AP16: =BB18 -> FALSE | AQ16: =AND($AN16,$AP16) -> FALSE | AR16: =IF($AN16=TRUE,$AP16<>TRUE) -> FALSE | AT16: =AT15&IF(AQ16=TRUE, IF(AL16=3, IF(AM16="", "", " "&REPT("-", LEN(AO16) - LEN(SUBSTITUTE(AO16, "-", "")))&AM16&CHAR(10)), IF(AL16=1, ""&AM16&CHAR(10), IF(AL16=2, " █"&AM16&CHAR(10), AM16&CHAR(10)) ) )&AS16, "")
C17: INCI 名稱 | S17: CAS No. | AT17: =AT16&IF(AQ17=TRUE, IF(AL17=3, IF(AM17="", "", " "&REPT("-", LEN(AO17) - LEN(SUBSTITUTE(AO17, "-", "")))&AM17&CHAR(10)), IF(AL17=1, ""&AM17&CHAR(10), IF(AL17=2, " █"&AM17&CHAR(10), AM17&CHAR(10)) ) )&AS17, "")
C18: Aluminum chlorohydrate | S18: 12042-91-0 | AL18: 2 | AM18: =IF(AL18=1,BB18,IF(AL18=2,C18&IF(S18<>"",","&S18,""),"")) -> Aluminum chlorohydrate,12042-91-0 | AN18: =BB18 -> FALSE | AO18: 群組3-1 | AP18: =BB18 -> FALSE | AQ18: =AND($AN18,$AP18) -> FALSE | AR18: =IF($AN18=TRUE,$AP18<>TRUE) -> FALSE | AT18: =AT17&IF(AQ18=TRUE, IF(AL18=3, IF(AM18="", "", " "&REPT("-", LEN(AO18) - LEN(SUBSTITUTE(AO18, "-", "")))&AM18&CHAR(10)), IF(AL18=1, ""&AM18&CHAR(10), IF(AL18=2, " █"&AM18&CHAR(10), AM18&CHAR(10)) ) )&AS18, "") | BB18: FALSE
B19: 4. 抗痘(含數據、圖譜、流程方法): | AK19: =COUNTIF(BB20:BB22,TRUE) -> 0 | AL19: 1 | AM19: =B19 -> 4. 抗痘(含數據、圖譜、流程方法): | AN19: =OR(BB21:BB22) -> FALSE | AO19: 群組4 | AP19: =OR(BB21:BB22) -> FALSE | AQ19: =AND($AN19,$AP19) -> FALSE | AR19: =IF($AN19=TRUE,$AP19<>TRUE) -> FALSE | AT19: =AT18&IF(AQ19=TRUE, IF(AL19=3, IF(AM19="", "", " "&REPT("-", LEN(AO19) - LEN(SUBSTITUTE(AO19, "-", "")))&AM19&CHAR(10)), IF(AL19=1, ""&AM19&CHAR(10), IF(AL19=2, " █"&AM19&CHAR(10), AM19&CHAR(10)) ) )&AS19, "")
C20: INCI 名稱 | S20: CAS No. | AR20: =IFERROR(VLOOKUP(AO20,$AU$4:$AV$136,2,FALSE),FALSE) -> FALSE | AT20: =AT19&IF(AQ20=TRUE, IF(AL20=3, IF(AM20="", "", " "&REPT("-", LEN(AO20) - LEN(SUBSTITUTE(AO20, "-", "")))&AM20&CHAR(10)), IF(AL20=1, ""&AM20&CHAR(10), IF(AL20=2, " █"&AM20&CHAR(10), AM20&CHAR(10)) ) )&AS20, "")
C21: Salicylic acid | S21: 69-72-7 | AL21: 2 | AM21: =IF(AL21=1,BB21,IF(AL21=2,C21&IF(S21<>"",","&S21,""),"")) -> Salicylic acid,69-72-7 | AN21: =BB21 -> FALSE | AO21: 群組4-1 | AP21: =BB21 -> FALSE | AQ21: =AND($AN21,$AP21) -> FALSE | AR21: =IF($AN21=TRUE,$AP21<>TRUE) -> FALSE | AT21: =AT20&IF(AQ21=TRUE, IF(AL21=3, IF(AM21="", "", " "&REPT("-", LEN(AO21) - LEN(SUBSTITUTE(AO21, "-", "")))&AM21&CHAR(10)), IF(AL21=1, ""&AM21&CHAR(10), IF(AL21=2, " █"&AM21&CHAR(10), AM21&CHAR(10)) ) )&AS21, "") | BB21: FALSE
C22: Sulfur | S22: 7704-34-9 | AL22: 2 | AM22: =IF(AL22=1,BB22,IF(AL22=2,C22&IF(S22<>"",","&S22,""),"")) -> Sulfur,7704-34-9 | AN22: =BB22 -> FALSE | AO22: 群組4-2 | AP22: =BB22 -> FALSE | AQ22: =AND($AN22,$AP22) -> FALSE | AR22: =IF($AN22=TRUE,$AP22<>TRUE) -> FALSE | AT22: =AT21&IF(AQ22=TRUE, IF(AL22=3, IF(AM22="", "", " "&REPT("-", LEN(AO22) - LEN(SUBSTITUTE(AO22, "-", "")))&AM22&CHAR(10)), IF(AL22=1, ""&AM22&CHAR(10), IF(AL22=2, " █"&AM22&CHAR(10), AM22&CHAR(10)) ) )&AS22, "") | BB22: FALSE
B23: 5. 防曬劑- 物、化性項目(含數據、圖譜、流程方法): | AK23: =COUNTIF(BB24:BB48,TRUE) -> 0 | AL23: 1 | AM23: =B23 -> 5. 防曬劑- 物、化性項目(含數據、圖譜、流程方法): | AN23: =OR(BB25:BB48) -> FALSE | AO23: 群組5 | AP23: =OR(BB25:BB48) -> FALSE | AQ23: =AND($AN23,$AP23) -> FALSE | AR23: =IF($AN23=TRUE,$AP23<>TRUE) -> FALSE | AT23: =AT22&IF(AQ23=TRUE, IF(AL23=3, IF(AM23="", "", " "&REPT("-", LEN(AO23) - LEN(SUBSTITUTE(AO23, "-", "")))&AM23&CHAR(10)), IF(AL23=1, ""&AM23&CHAR(10), IF(AL23=2, " █"&AM23&CHAR(10), AM23&CHAR(10)) ) )&AS23, "")
C24: INCI 名稱 | S24: CAS No. | AT24: =AT23&IF(AQ24=TRUE, IF(AL24=3, IF(AM24="", "", " "&REPT("-", LEN(AO24) - LEN(SUBSTITUTE(AO24, "-", "")))&AM24&CHAR(10)), IF(AL24=1, ""&AM24&CHAR(10), IF(AL24=2, " █"&AM24&CHAR(10), AM24&CHAR(10)) ) )&AS24, "") | BB24: FALSE
C25: Zinc Oxide (CI 77947) | S25: 1314-13-2 | AL25: 2 | AM25: =IF(AL25=1,BB25,IF(AL25=2,C25&IF(S25<>"",","&S25,""),"")) -> Zinc Oxide (CI 77947),1314-13-2 | AN25: =BB25 -> FALSE | AO25: 群組5-1 | AP25: =BB25 -> FALSE | AQ25: =AND($AN25,$AP25) -> FALSE | AR25: =IF($AN25=TRUE,$AP25<>TRUE) -> FALSE | AT25: =AT24&IF(AQ25=TRUE, IF(AL25=3, IF(AM25="", "", " "&REPT("-", LEN(AO25) - LEN(SUBSTITUTE(AO25, "-", "")))&AM25&CHAR(10)), IF(AL25=1, ""&AM25&CHAR(10), IF(AL25=2, " █"&AM25&CHAR(10), AM25&CHAR(10)) ) )&AS25, "") | BB25: FALSE
C26: Titanium Oxides (CI 77891) | S26: 13463-67-7 | AL26: 2 | AM26: =IF(AL26=1,BB26,IF(AL26=2,C26&IF(S26<>"",","&S26,""),"")) -> Titanium Oxides (CI 77891),13463-67-7 | AN26: =BB26 -> FALSE | AO26: 群組5-2 | AP26: =BB26 -> FALSE | AQ26: =AND($AN26,$AP26) -> FALSE | AR26: =IF($AN26=TRUE,$AP26<>TRUE) -> FALSE | AT26: =AT25&IF(AQ26=TRUE, IF(AL26=3, IF(AM26="", "", " "&REPT("-", LEN(AO26) - LEN(SUBSTITUTE(AO26, "-", "")))&AM26&CHAR(10)), IF(AL26=1, ""&AM26&CHAR(10), IF(AL26=2, " █"&AM26&CHAR(10), AM26&CHAR(10)) ) )&AS26, "") | BB26: FALSE
C27: Benzophenone-1 | S27: 131-56-6 | AL27: 2 | AM27: =IF(AL27=1,BB27,IF(AL27=2,C27&IF(S27<>"",","&S27,""),"")) -> Benzophenone-1,131-56-6 | AN27: =BB27 -> FALSE | AO27: 群組5-3 | AP27: =BB27 -> FALSE | AQ27: =AND($AN27,$AP27) -> FALSE | AR27: =IF($AN27=TRUE,$AP27<>TRUE) -> FALSE | AT27: =AT26&IF(AQ27=TRUE, IF(AL27=3, IF(AM27="", "", " "&REPT("-", LEN(AO27) - LEN(SUBSTITUTE(AO27, "-", "")))&AM27&CHAR(10)), IF(AL27=1, ""&AM27&CHAR(10), IF(AL27=2, " █"&AM27&CHAR(10), AM27&CHAR(10)) ) )&AS27, "") | BB27: FALSE
C28: Benzophenone-2 | S28: 131-55-5 | AL28: 2 | AM28: =IF(AL28=1,BB28,IF(AL28=2,C28&IF(S28<>"",","&S28,""),"")) -> Benzophenone-2,131-55-5 | AN28: =BB28 -> FALSE | AO28: 群組5-4 | AP28: =BB28 -> FALSE | AQ28: =AND($AN28,$AP28) -> FALSE | AR28: =IF($AN28=TRUE,$AP28<>TRUE) -> FALSE | AT28: =AT27&IF(AQ28=TRUE, IF(AL28=3, IF(AM28="", "", " "&REPT("-", LEN(AO28) - LEN(SUBSTITUTE(AO28, "-", "")))&AM28&CHAR(10)), IF(AL28=1, ""&AM28&CHAR(10), IF(AL28=2, " █"&AM28&CHAR(10), AM28&CHAR(10)) ) )&AS28, "") | BB28: FALSE
C29: Benzophenone-3 | S29: 131-57-7 | AL29: 2 | AM29: =IF(AL29=1,BB29,IF(AL29=2,C29&IF(S29<>"",","&S29,""),"")) -> Benzophenone-3,131-57-7 | AN29: =BB29 -> FALSE | AO29: 群組5-5 | AP29: =BB29 -> FALSE | AQ29: =AND($AN29,$AP29) -> FALSE | AR29: =IF($AN29=TRUE,$AP29<>TRUE) -> FALSE | AT29: =AT28&IF(AQ29=TRUE, IF(AL29=3, IF(AM29="", "", " "&REPT("-", LEN(AO29) - LEN(SUBSTITUTE(AO29, "-", "")))&AM29&CHAR(10)), IF(AL29=1, ""&AM29&CHAR(10), IF(AL29=2, " █"&AM29&CHAR(10), AM29&CHAR(10)) ) )&AS29, "") | BB29: FALSE
C30: Benzophenone-4 | S30: 4065-45-6 | AL30: 2 | AM30: =IF(AL30=1,BB30,IF(AL30=2,C30&IF(S30<>"",","&S30,""),"")) -> Benzophenone-4,4065-45-6 | AN30: =BB30 -> FALSE | AO30: 群組5-6 | AP30: =BB30 -> FALSE | AQ30: =AND($AN30,$AP30) -> FALSE | AR30: =IF($AN30=TRUE,$AP30<>TRUE) -> FALSE | AT30: =AT29&IF(AQ30=TRUE, IF(AL30=3, IF(AM30="", "", " "&REPT("-", LEN(AO30) - LEN(SUBSTITUTE(AO30, "-", "")))&AM30&CHAR(10)), IF(AL30=1, ""&AM30&CHAR(10), IF(AL30=2, " █"&AM30&CHAR(10), AM30&CHAR(10)) ) )&AS30, "") | BB30: FALSE
C31: Benzophenone-5 | S31: 6628-37-1 | AL31: 2 | AM31: =IF(AL31=1,BB31,IF(AL31=2,C31&IF(S31<>"",","&S31,""),"")) -> Benzophenone-5,6628-37-1 | AN31: =BB31 -> FALSE | AO31: 群組5-7 | AP31: =BB31 -> FALSE | AQ31: =AND($AN31,$AP31) -> FALSE | AR31: =IF($AN31=TRUE,$AP31<>TRUE) -> FALSE | AT31: =AT30&IF(AQ31=TRUE, IF(AL31=3, IF(AM31="", "", " "&REPT("-", LEN(AO31) - LEN(SUBSTITUTE(AO31, "-", "")))&AM31&CHAR(10)), IF(AL31=1, ""&AM31&CHAR(10), IF(AL31=2, " █"&AM31&CHAR(10), AM31&CHAR(10)) ) )&AS31, "") | BB31: FALSE
C32: Benzophenone-6 | S32: 131-54-4 | AL32: 2 | AM32: =IF(AL32=1,BB32,IF(AL32=2,C32&IF(S32<>"",","&S32,""),"")) -> Benzophenone-6,131-54-4 | AN32: =BB32 -> FALSE | AO32: 群組5-8 | AP32: =BB32 -> FALSE | AQ32: =AND($AN32,$AP32) -> FALSE | AR32: =IF($AN32=TRUE,$AP32<>TRUE) -> FALSE | AT32: =AT31&IF(AQ32=TRUE, IF(AL32=3, IF(AM32="", "", " "&REPT("-", LEN(AO32) - LEN(SUBSTITUTE(AO32, "-", "")))&AM32&CHAR(10)), IF(AL32=1, ""&AM32&CHAR(10), IF(AL32=2, " █"&AM32&CHAR(10), AM32&CHAR(10)) ) )&AS32, "") | BB32: FALSE
C33: Benzophenone-8 | S33: 131-53-3 | AL33: 2 | AM33: =IF(AL33=1,BB33,IF(AL33=2,C33&IF(S33<>"",","&S33,""),"")) -> Benzophenone-8,131-53-3 | AN33: =BB33 -> FALSE | AO33: 群組5-9 | AP33: =BB33 -> FALSE | AQ33: =AND($AN33,$AP33) -> FALSE | AR33: =IF($AN33=TRUE,$AP33<>TRUE) -> FALSE | AT33: =AT32&IF(AQ33=TRUE, IF(AL33=3, IF(AM33="", "", " "&REPT("-", LEN(AO33) - LEN(SUBSTITUTE(AO33, "-", "")))&AM33&CHAR(10)), IF(AL33=1, ""&AM33&CHAR(10), IF(AL33=2, " █"&AM33&CHAR(10), AM33&CHAR(10)) ) )&AS33, "") | BB33: FALSE
C34: bis-ethylhexyloxyphenol methoxyphenyl triazine (TS) | S34: 187393-00-6 | AL34: 2 | AM34: =IF(AL34=1,BB34,IF(AL34=2,C34&IF(S34<>"",","&S34,""),"")) -> bis-ethylhexyloxyphenol methoxyphenyl triazine (TS),187393-00-6 | AN34: =BB34 -> FALSE | AO34: 群組5-10 | AP34: =BB34 -> FALSE | AQ34: =AND($AN34,$AP34) -> FALSE | AR34: =IF($AN34=TRUE,$AP34<>TRUE) -> FALSE | AT34: =AT33&IF(AQ34=TRUE, IF(AL34=3, IF(AM34="", "", " "&REPT("-", LEN(AO34) - LEN(SUBSTITUTE(AO34, "-", "")))&AM34&CHAR(10)), IF(AL34=1, ""&AM34&CHAR(10), IF(AL34=2, " █"&AM34&CHAR(10), AM34&CHAR(10)) ) )&AS34, "") | BB34: FALSE
C35: Butyl methoxydibenzoylmethane (Parsol 1789) | S35: 70356-09-1 | AL35: 2 | AM35: =IF(AL35=1,BB35,IF(AL35=2,C35&IF(S35<>"",","&S35,""),"")) -> Butyl methoxydibenzoylmethane (Parsol 1789),70356-09-1 | AN35: =BB35 -> FALSE | AO35: 群組5-11 | AP35: =BB35 -> FALSE | AQ35: =AND($AN35,$AP35) -> FALSE | AR35: =IF($AN35=TRUE,$AP35<>TRUE) -> FALSE | AT35: =AT34&IF(AQ35=TRUE, IF(AL35=3, IF(AM35="", "", " "&REPT("-", LEN(AO35) - LEN(SUBSTITUTE(AO35, "-", "")))&AM35&CHAR(10)), IF(AL35=1, ""&AM35&CHAR(10), IF(AL35=2, " █"&AM35&CHAR(10), AM35&CHAR(10)) ) )&AS35, "") | BB35: FALSE
C36: Diethylamino Hydroxybenzoyl Hexyl Benzoate(DHHB) | S36: 302776-68-7 | AL36: 2 | AM36: =IF(AL36=1,BB36,IF(AL36=2,C36&IF(S36<>"",","&S36,""),"")) -> Diethylamino Hydroxybenzoyl Hexyl Benzoate(DHHB),302776-68-7 | AN36: =BB36 -> FALSE | AO36: 群組5-12 | AP36: =BB36 -> FALSE | AQ36: =AND($AN36,$AP36) -> FALSE | AR36: =IF($AN36=TRUE,$AP36<>TRUE) -> FALSE | AT36: =AT35&IF(AQ36=TRUE, IF(AL36=3, IF(AM36="", "", " "&REPT("-", LEN(AO36) - LEN(SUBSTITUTE(AO36, "-", "")))&AM36&CHAR(10)), IF(AL36=1, ""&AM36&CHAR(10), IF(AL36=2, " █"&AM36&CHAR(10), AM36&CHAR(10)) ) )&AS36, "") | BB36: FALSE
... C48: 2-Phenylbenzimidazole 5-sulfonic acid and salts (PBSA) | S48: 27503-81-7 | AL48: 2 | AM48: =IF(AL48=1,BB48,IF(AL48=2,C48&IF(S48<>"",","&S48,""),"")) -> 2-Phenylbenzimidazole 5-sulfonic acid and salts (PBSA),27503-81-7 | AN48: =BB48 -> FALSE | AO48: 群組5-24 | AP48: =BB48 -> FALSE | AQ48: =AND($AN48,$AP48) -> FALSE | AR48: =IF($AN48=TRUE,$AP48<>TRUE) -> FALSE | AT48: =AT47&IF(AQ48=TRUE, IF(AL48=3, IF(AM48="", "", " "&REPT("-", LEN(AO48) - LEN(SUBSTITUTE(AO48, "-", "")))&AM48&CHAR(10)), IF(AL48=1, ""&AM48&CHAR(10), IF(AL48=2, " █"&AM48&CHAR(10), AM48&CHAR(10)) ) )&AS48, "") | BB48: FALSE
B49: 6. 防曬劑- in vitro防曬係數SPF Boots Star Rating(含數據、圖譜、流程方法): | AK49: =COUNTIF(BB50:BB53,TRUE) -> 0 | AL49: 1 | AM49: =B49 -> 6. 防曬劑- in vitro防曬係數SPF Boots Star Rating(含數據、圖譜、流程方法): | AN49: =OR(BB50:BB53) -> FALSE | AO49: 群組6 | AP49: =OR(BB50:BB53) -> FALSE | AQ49: =AND($AN49,$AP49) -> FALSE | AR49: =IF($AN49=TRUE,$AP49<>TRUE) -> FALSE | AT49: =AT48&IF(AQ49=TRUE, IF(AL49=3, IF(AM49="", "", " "&REPT("-", LEN(AO49) - LEN(SUBSTITUTE(AO49, "-", "")))&AM49&CHAR(10)), IF(AL49=1, ""&AM49&CHAR(10), IF(AL49=2, " █"&AM49&CHAR(10), AM49&CHAR(10)) ) )&AS49, "")
C50: EU Colipa 2011 (1.30mg/cm2) | AL50: 2 | AM50: =IF(AL50=1,BB50,IF(AL50=2,C50,"")) -> EU Colipa 2011 (1.30mg/cm2) | AN50: =BB50 -> FALSE | AO50: 群組6-1 | AP50: =BB50 -> FALSE | AQ50: =AND($AN50,$AP50) -> FALSE | AR50: =IF($AN50=TRUE,$AP50<>TRUE) -> FALSE | AT50: =AT49&IF(AQ50=TRUE, IF(AL50=3, IF(AM50="", "", " "&REPT("-", LEN(AO50) - LEN(SUBSTITUTE(AO50, "-", "")))&AM50&CHAR(10)), IF(AL50=1, ""&AM50&CHAR(10), IF(AL50=2, " █"&AM50&CHAR(10), AM50&CHAR(10)) ) )&AS50, "") | BB50: FALSE
C51: 中國化妝品安全技術規範2015 (2.0mg/cm2) | AL51: 2 | AM51: =IF(AL51=1,BB51,IF(AL51=2,C51,"")) -> 中國化妝品安全技術規範2015 (2.0mg/cm2) | AN51: =BB51 -> FALSE | AO51: 群組6-2 | AP51: =BB51 -> FALSE | AQ51: =AND($AN51,$AP51) -> FALSE | AR51: =IF($AN51=TRUE,$AP51<>TRUE) -> FALSE | AT51: =AT50&IF(AQ51=TRUE, IF(AL51=3, IF(AM51="", "", " "&REPT("-", LEN(AO51) - LEN(SUBSTITUTE(AO51, "-", "")))&AM51&CHAR(10)), IF(AL51=1, ""&AM51&CHAR(10), IF(AL51=2, " █"&AM51&CHAR(10), AM51&CHAR(10)) ) )&AS51, "") | BB51: FALSE
C52: FDA 2011 (0.75mg/cm2) | AL52: 2 | AM52: =IF(AL52=1,BB52,IF(AL52=2,C52,"")) -> FDA 2011 (0.75mg/cm2) | AN52: =BB52 -> FALSE | AO52: 群組6-3 | AP52: =BB52 -> FALSE | AQ52: =AND($AN52,$AP52) -> FALSE | AR52: =IF($AN52=TRUE,$AP52<>TRUE) -> FALSE | AT52: =AT51&IF(AQ52=TRUE, IF(AL52=3, IF(AM52="", "", " "&REPT("-", LEN(AO52) - LEN(SUBSTITUTE(AO52, "-", "")))&AM52&CHAR(10)), IF(AL52=1, ""&AM52&CHAR(10), IF(AL52=2, " █"&AM52&CHAR(10), AM52&CHAR(10)) ) )&AS52, "") | BB52: FALSE
C53: TFDA研習報告ANSM2017 (0.65 mg/cm2) | AL53: 2 | AM53: =IF(AL53=1,BB53,IF(AL53=2,C53,"")) -> TFDA研習報告ANSM2017 (0.65 mg/cm2) | AN53: =BB53 -> FALSE | AO53: 群組6-4 | AP53: =BB53 -> FALSE | AQ53: =AND($AN53,$AP53) -> FALSE | AR53: =IF($AN53=TRUE,$AP53<>TRUE) -> FALSE | AT53: =AT52&IF(AQ53=TRUE, IF(AL53=3, IF(AM53="", "", " "&REPT("-", LEN(AO53) - LEN(SUBSTITUTE(AO53, "-", "")))&AM53&CHAR(10)), IF(AL53=1, ""&AM53&CHAR(10), IF(AL53=2, " █"&AM53&CHAR(10), AM53&CHAR(10)) ) )&AS53, "") | BB53: FALSE
B54: 請勾選測試條件 | AL54: 1 | AM54: =B54 -> 請勾選測試條件 | AN54: =OR(BB50:BB53) -> FALSE | AO54: 群組6-4-1 | AP54: =TRUE -> TRUE | AQ54: =AND($AN54,$AP54) -> FALSE | AR54: =IF($AN54=TRUE,$AP54<>TRUE) -> FALSE | AS54: =IF(OR(AL54=1,AL54=2),IF(OR(AR55),"-----!!!未完全填寫!!!-----",""),"") | AT54: =AT53&IF(AQ54=TRUE, IF(AL54=3, IF(AM54="", "", " "&REPT("-", LEN(AO54) - LEN(SUBSTITUTE(AO54, "-", "")))&AM54&CHAR(10)), IF(AL54=1, ""&AM54&CHAR(10), IF(AL54=2, " █"&AM54&CHAR(10), AM54&CHAR(10)) ) )&AS54, "")
B55: * | D55: 單次測試出具報告 | J55: 三次打樣(僅提供一次查登資料，須搭配勾選下列參考方法) | AL55: 3 | AM55: =IF(OR(BC55,BI55),IF(BC55,D55&IF(BI55,", ",""),"")&IF(BI55,J55,""),"") | AN55: =OR(BB50:BB53) -> FALSE | AO55: 群組6-4-1 | AP55: =OR(BC55,BI55) -> FALSE | AQ55: =AND($AN55,$AP55) -> FALSE | AR55: =IF($AN55=TRUE,$AP55<>TRUE) -> FALSE | AT55: =AT54&IF(AQ55=TRUE, IF(AL55=3, IF(AM55="", "", " "&REPT("-", LEN(AO55) - LEN(SUBSTITUTE(AO55, "-", "")))&AM55&CHAR(10)), IF(AL55=1, ""&AM55&CHAR(10), IF(AL55=2, " █"&AM55&CHAR(10), AM55&CHAR(10)) ) )&AS55, "") | BC55: FALSE | BI55: FALSE
B56: 7. 美白劑(含數據、圖譜、流程方法): | AK56: =COUNTIF(BB58:BB61,TRUE) -> 0 | AL56: 1 | AM56: =B56 -> 7. 美白劑(含數據、圖譜、流程方法): | AN56: =OR(BB58:BB61) -> FALSE | AO56: 群組7 | AP56: =OR(BB58:BB61) -> FALSE | AQ56: =AND($AN56,$AP56) -> FALSE | AR56: =IF($AN56=TRUE,$AP56<>TRUE) -> FALSE | AT56: =AT55&IF(AQ56=TRUE, IF(AL56=3, IF(AM56="", "", " "&REPT("-", LEN(AO56) - LEN(SUBSTITUTE(AO56, "-", "")))&AM56&CHAR(10)), IF(AL56=1, ""&AM56&CHAR(10), IF(AL56=2, " █"&AM56&CHAR(10), AM56&CHAR(10)) ) )&AS56, "")
C57: INCI 名稱 | S57: CAS No. | AT57: =AT56&IF(AQ57=TRUE, IF(AL57=3, IF(AM57="", "", " "&REPT("-", LEN(AO57) - LEN(SUBSTITUTE(AO57, "-", "")))&AM57&CHAR(10)), IF(AL57=1, ""&AM57&CHAR(10), IF(AL57=2, " █"&AM57&CHAR(10), AM57&CHAR(10)) ) )&AS57, "")
C58: Allantoin | S58: 97-59-6 | AL58: 2 | AM58: =IF(AL58=1,BB58,IF(AL58=2,C58&IF(S58<>"",","&S58,""),"")) -> Allantoin,97-59-6 | AN58: =BB58 -> FALSE | AO58: 群組7-1 | AP58: =BB58 -> FALSE | AQ58: =AND($AN58,$AP58) -> FALSE | AR58: =IF($AN58=TRUE,$AP58<>TRUE) -> FALSE | AT58: =AT57&IF(AQ58=TRUE, IF(AL58=3, IF(AM58="", "", " "&REPT("-", LEN(AO58) - LEN(SUBSTITUTE(AO58, "-", "")))&AM58&CHAR(10)), IF(AL58=1, ""&AM58&CHAR(10), IF(AL58=2, " █"&AM58&CHAR(10), AM58&CHAR(10)) ) )&AS58, "") | BB58: FALSE
C59: Ascorbyl Tetraisopalmitate | S59: 183476-82-6 | AL59: 2 | AM59: =IF(AL59=1,BB59,IF(AL59=2,C59&IF(S59<>"",","&S59,""),"")) -> Ascorbyl Tetraisopalmitate,183476-82-6 | AN59: =BB59 -> FALSE | AO59: 群組7-2 | AP59: =BB59 -> FALSE | AQ59: =AND($AN59,$AP59) -> FALSE | AR59: =IF($AN59=TRUE,$AP59<>TRUE) -> FALSE | AT59: =AT58&IF(AQ59=TRUE, IF(AL59=3, IF(AM59="", "", " "&REPT("-", LEN(AO59) - LEN(SUBSTITUTE(AO59, "-", "")))&AM59&CHAR(10)), IF(AL59=1, ""&AM59&CHAR(10), IF(AL59=2, " █"&AM59&CHAR(10), AM59&CHAR(10)) ) )&AS59, "") | BB59: FALSE
C60: Tranexamic acid | S60: 1197-18-8 | AL60: 2 | AM60: =IF(AL60=1,BB60,IF(AL60=2,C60&IF(S60<>"",","&S60,""),"")) -> Tranexamic acid,1197-18-8 | AN60: =BB60 -> FALSE | AO60: 群組7-3 | AP60: =BB60 -> FALSE | AQ60: =AND($AN60,$AP60) -> FALSE | AR60: =IF($AN60=TRUE,$AP60<>TRUE) -> FALSE | AT60: =AT59&IF(AQ60=TRUE, IF(AL60=3, IF(AM60="", "", " "&REPT("-", LEN(AO60) - LEN(SUBSTITUTE(AO60, "-", "")))&AM60&CHAR(10)), IF(AL60=1, ""&AM60&CHAR(10), IF(AL60=2, " █"&AM60&CHAR(10), AM60&CHAR(10)) ) )&AS60, "") | BB60: FALSE
C61: 3-O-Ethyl Ascorbic Acid | S61: 86404-04-8 | AL61: 2 | AM61: =IF(AL61=1,BB61,IF(AL61=2,C61&IF(S61<>"",","&S61,""),"")) -> 3-O-Ethyl Ascorbic Acid,86404-04-8 | AN61: =BB61 -> FALSE | AO61: 群組7-4 | AP61: =BB61 -> FALSE | AQ61: =AND($AN61,$AP61) -> FALSE | AR61: =IF($AN61=TRUE,$AP61<>TRUE) -> FALSE | AT61: =AT60&IF(AQ61=TRUE, IF(AL61=3, IF(AM61="", "", " "&REPT("-", LEN(AO61) - LEN(SUBSTITUTE(AO61, "-", "")))&AM61&CHAR(10)), IF(AL61=1, ""&AM61&CHAR(10), IF(AL61=2, " █"&AM61&CHAR(10), AM61&CHAR(10)) ) )&AS61, "") | BB61: FALSE
B62: 8. 燙髮劑-第一劑(含數據、圖譜、流程方法): | AK62: =COUNTIF(BB64:BB66,TRUE) -> 0 | AL62: 1 | AM62: =B62 -> 8. 燙髮劑-第一劑(含數據、圖譜、流程方法): | AN62: =OR(BB64:BB66) -> FALSE | AO62: 群組8 | AP62: =OR(BB64:BB66) -> FALSE | AQ62: =AND($AN62,$AP62) -> FALSE | AR62: =IF($AN62=TRUE,$AP62<>TRUE) -> FALSE | AT62: =AT61&IF(AQ62=TRUE, IF(AL62=3, IF(AM62="", "", " "&REPT("-", LEN(AO62) - LEN(SUBSTITUTE(AO62, "-", "")))&AM62&CHAR(10)), IF(AL62=1, ""&AM62&CHAR(10), IF(AL62=2, " █"&AM62&CHAR(10), AM62&CHAR(10)) ) )&AS62, "")
C63: INCI 名稱 | S63: CAS No. | AT63: =AT62&IF(AQ63=TRUE, IF(AL63=3, IF(AM63="", "", " "&REPT("-", LEN(AO63) - LEN(SUBSTITUTE(AO63, "-", "")))&AM63&CHAR(10)), IF(AL63=1, ""&AM63&CHAR(10), IF(AL63=2, " █"&AM63&CHAR(10), AM63&CHAR(10)) ) )&AS63, "")
C64: Thioglycolic Acid | S64: 68-11-1 | AL64: 2 | AM64: =IF(AL64=1,BB64,IF(AL64=2,C64&IF(S64<>"",","&S64,""),"")) -> Thioglycolic Acid ,68-11-1 | AN64: =BB64 -> FALSE | AO64: 群組8-1 | AP64: =BB64 -> FALSE | AQ64: =AND($AN64,$AP64) -> FALSE | AR64: =IF($AN64=TRUE,$AP64<>TRUE) -> FALSE | AT64: =AT63&IF(AQ64=TRUE, IF(AL64=3, IF(AM64="", "", " "&REPT("-", LEN(AO64) - LEN(SUBSTITUTE(AO64, "-", "")))&AM64&CHAR(10)), IF(AL64=1, ""&AM64&CHAR(10), IF(AL64=2, " █"&AM64&CHAR(10), AM64&CHAR(10)) ) )&AS64, "") | BB64: FALSE
C65: Cysteine | S65: 52-90-4 | AL65: 2 | AM65: =IF(AL65=1,BB65,IF(AL65=2,C65&IF(S65<>"",","&S65,""),"")) -> Cysteine,52-90-4 | AN65: =BB65 -> FALSE | AO65: 群組8-2 | AP65: =BB65 -> FALSE | AQ65: =AND($AN65,$AP65) -> FALSE | AR65: =IF($AN65=TRUE,$AP65<>TRUE) -> FALSE | AT65: =AT64&IF(AQ65=TRUE, IF(AL65=3, IF(AM65="", "", " "&REPT("-", LEN(AO65) - LEN(SUBSTITUTE(AO65, "-", "")))&AM65&CHAR(10)), IF(AL65=1, ""&AM65&CHAR(10), IF(AL65=2, " █"&AM65&CHAR(10), AM65&CHAR(10)) ) )&AS65, "") | BB65: FALSE
C66: Cysteamine HCL | S66: 156-57-0 | AL66: 2 | AM66: =IF(AL66=1,BB66,IF(AL66=2,C66&IF(S66<>"",","&S66,""),"")) -> Cysteamine HCL,156-57-0 | AN66: =BB66 -> FALSE | AO66: 群組8-3 | AP66: =BB66 -> FALSE | AQ66: =AND($AN66,$AP66) -> FALSE | AR66: =IF($AN66=TRUE,$AP66<>TRUE) -> FALSE | AT66: =AT65&IF(AQ66=TRUE, IF(AL66=3, IF(AM66="", "", " "&REPT("-", LEN(AO66) - LEN(SUBSTITUTE(AO66, "-", "")))&AM66&CHAR(10)), IF(AL66=1, ""&AM66&CHAR(10), IF(AL66=2, " █"&AM66&CHAR(10), AM66&CHAR(10)) ) )&AS66, "") | BB66: FALSE
B67: 9. 燙髮劑-第二劑(含數據、圖譜、流程方法): | AK67: =COUNTIF(BB69,TRUE) -> 0 | AL67: 1 | AM67: =B67 -> 9. 燙髮劑-第二劑(含數據、圖譜、流程方法): | AN67: =OR(BB69) -> FALSE | AO67: 群組9 | AP67: =BB69 -> FALSE | AQ67: =AND($AN67,$AP67) -> FALSE | AR67: =IF($AN67=TRUE,$AP67<>TRUE) -> FALSE | AT67: =AT66&IF(AQ67=TRUE, IF(AL67=3, IF(AM67="", "", " "&REPT("-", LEN(AO67) - LEN(SUBSTITUTE(AO67, "-", "")))&AM67&CHAR(10)), IF(AL67=1, ""&AM67&CHAR(10), IF(AL67=2, " █"&AM67&CHAR(10), AM67&CHAR(10)) ) )&AS67, "")
C68: INCI 名稱 | S68: CAS No. | AT68: =AT67&IF(AQ68=TRUE, IF(AL68=3, IF(AM68="", "", " "&REPT("-", LEN(AO68) - LEN(SUBSTITUTE(AO68, "-", "")))&AM68&CHAR(10)), IF(AL68=1, ""&AM68&CHAR(10), IF(AL68=2, " █"&AM68&CHAR(10), AM68&CHAR(10)) ) )&AS68, "")
C69: Sodium bromate (含鑑別測試) | S69: 7789-38-0 | AL69: 2 | AM69: =IF(AL69=1,BB69,IF(AL69=2,C69&IF(S69<>"",","&S69,""),"")) -> Sodium bromate (含鑑別測試),7789-38-0 | AN69: =BB69 -> FALSE | AO69: 群組9-1 | AP69: =BB69 -> FALSE | AQ69: =AND($AN69,$AP69) -> FALSE | AR69: =IF($AN69=TRUE,$AP69<>TRUE) -> FALSE | AT69: =AT68&IF(AQ69=TRUE, IF(AL69=3, IF(AM69="", "", " "&REPT("-", LEN(AO69) - LEN(SUBSTITUTE(AO69, "-", "")))&AM69&CHAR(10)), IF(AL69=1, ""&AM69&CHAR(10), IF(AL69=2, " █"&AM69&CHAR(10), AM69&CHAR(10)) ) )&AS69, "") | BB69: FALSE
B70: 10. 染髮劑-漂粉(含數據、圖譜、流程方法): | AK70: =COUNTIF(BB72:BB75,TRUE) -> 0 | AL70: 1 | AM70: =B70 -> 10. 染髮劑-漂粉(含數據、圖譜、流程方法): | AN70: =OR(BB72:BB75) -> FALSE | AO70: 群組10 | AP70: =OR(BB72:BB75) -> FALSE | AQ70: =AND($AN70,$AP70) -> FALSE | AR70: =IF($AN70=TRUE,$AP70<>TRUE) -> FALSE | AT70: =AT69&IF(AQ70=TRUE, IF(AL70=3, IF(AM70="", "", " "&REPT("-", LEN(AO70) - LEN(SUBSTITUTE(AO70, "-", "")))&AM70&CHAR(10)), IF(AL70=1, ""&AM70&CHAR(10), IF(AL70=2, " █"&AM70&CHAR(10), AM70&CHAR(10)) ) )&AS70, "")
C71: INCI 名稱 | S71: CAS No. | AT71: =AT70&IF(AQ71=TRUE, IF(AL71=3, IF(AM71="", "", " "&REPT("-", LEN(AO71) - LEN(SUBSTITUTE(AO71, "-", "")))&AM71&CHAR(10)), IF(AL71=1, ""&AM71&CHAR(10), IF(AL71=2, " █"&AM71&CHAR(10), AM71&CHAR(10)) ) )&AS71, "")
C72: Sodium persulfate註(含鑑別測試) | S72: 7775-27-1 | AL72: 2 | AM72: =IF(AL72=1,BB72,IF(AL72=2,C72&IF(S72<>"",","&S72,""),"")) -> Sodium persulfate註(含鑑別測試),7775-27-1 | AN72: =BB72 -> FALSE | AO72: 群組10-1 | AP72: =BB72 -> FALSE | AQ72: =AND($AN72,$AP72) -> FALSE | AR72: =IF($AN72=TRUE,$AP72<>TRUE) -> FALSE | AT72: =AT71&IF(AQ72=TRUE, IF(AL72=3, IF(AM72="", "", " "&REPT("-", LEN(AO72) - LEN(SUBSTITUTE(AO72, "-", "")))&AM72&CHAR(10)), IF(AL72=1, ""&AM72&CHAR(10), IF(AL72=2, " █"&AM72&CHAR(10), AM72&CHAR(10)) ) )&AS72, "") | BB72: FALSE
C73: Potassium Persulfate註(含鑑別測試) | S73: ‎7727-21-1 | AL73: 2 | AM73: =IF(AL73=1,BB73,IF(AL73=2,C73&IF(S73<>"",","&S73,""),"")) -> Potassium Persulfate註(含鑑別測試),‎7727-21-1 | AN73: =BB73 -> FALSE | AO73: 群組10-2 | AP73: =BB73 -> FALSE | AQ73: =AND($AN73,$AP73) -> FALSE | AR73: =IF($AN73=TRUE,$AP73<>TRUE) -> FALSE | AT73: =AT72&IF(AQ73=TRUE, IF(AL73=3, IF(AM73="", "", " "&REPT("-", LEN(AO73) - LEN(SUBSTITUTE(AO73, "-", "")))&AM73&CHAR(10)), IF(AL73=1, ""&AM73&CHAR(10), IF(AL73=2, " █"&AM73&CHAR(10), AM73&CHAR(10)) ) )&AS73, "") | BB73: FALSE
C74: Ammonium Persulfate註(含鑑別測試) | S74: ‎7727-54-0 | AL74: 2 | AM74: =IF(AL74=1,BB74,IF(AL74=2,C74&IF(S74<>"",","&S74,""),"")) -> Ammonium Persulfate註(含鑑別測試),‎7727-54-0 | AN74: =BB74 -> FALSE | AO74: 群組10-3 | AP74: =BB74 -> FALSE | AQ74: =AND($AN74,$AP74) -> FALSE | AR74: =IF($AN74=TRUE,$AP74<>TRUE) -> FALSE | AT74: =AT73&IF(AQ74=TRUE, IF(AL74=3, IF(AM74="", "", " "&REPT("-", LEN(AO74) - LEN(SUBSTITUTE(AO74, "-", "")))&AM74&CHAR(10)), IF(AL74=1, ""&AM74&CHAR(10), IF(AL74=2, " █"&AM74&CHAR(10), AM74&CHAR(10)) ) )&AS74, "") | BB74: FALSE
C75: Persulfate總量註 | AL75: 2 | AM75: =IF(AL75=1,BB75,IF(AL75=2,C75&IF(S75<>"",","&S75,""),"")) -> Persulfate總量註 | AN75: =BB75 -> FALSE | AO75: 群組10-4 | AP75: =BB75 -> FALSE | AQ75: =AND($AN75,$AP75) -> FALSE | AR75: =IF($AN75=TRUE,$AP75<>TRUE) -> FALSE | AT75: =AT74&IF(AQ75=TRUE, IF(AL75=3, IF(AM75="", "", " "&REPT("-", LEN(AO75) - LEN(SUBSTITUTE(AO75, "-", "")))&AM75&CHAR(10)), IF(AL75=1, ""&AM75&CHAR(10), IF(AL75=2, " █"&AM75&CHAR(10), AM75&CHAR(10)) ) )&AS75, "") | BB75: FALSE
B76: 註:漂粉產品，如同時2項成份(含)以上，因方法無法區分，報告將呈現"各項成份鑑別"與"Peroxid 總量"。 | AL76: 3 | AM76: =B76 -> 註:漂粉產品，如同時2項成份(含)以上，因方法無法區分，報告將呈現"各項成份鑑別"與"Peroxid 總量"。 | AN76: =OR(BB72:BB75) -> FALSE | AO76: 群組10-4-1 | AP76: =OR(BB72:BB75) -> FALSE | AQ76: =AND($AN76,$AP76) -> FALSE | AR76: =IF($AN76=TRUE,$AP76<>TRUE) -> FALSE | AT76: =AT75&IF(AQ76=TRUE, IF(AL76=3, IF(AM76="", "", " "&REPT("-", LEN(AO76) - LEN(SUBSTITUTE(AO76, "-", "")))&AM76&CHAR(10)), IF(AL76=1, ""&AM76&CHAR(10), IF(AL76=2, " █"&AM76&CHAR(10), AM76&CHAR(10)) ) )&AS76, "")
B77: 11. 染髮劑-第二劑(含數據、圖譜、流程方法): | AK77: =COUNTIF(BB79,TRUE) -> 0 | AL77: 1 | AM77: =B77 -> 11. 染髮劑-第二劑(含數據、圖譜、流程方法): | AN77: =BB79 -> FALSE | AO77: 群組11 | AP77: =BB79 -> FALSE | AQ77: =AND($AN77,$AP77) -> FALSE | AR77: =IF($AN77=TRUE,$AP77<>TRUE) -> FALSE | AT77: =AT76&IF(AQ77=TRUE, IF(AL77=3, IF(AM77="", "", " "&REPT("-", LEN(AO77) - LEN(SUBSTITUTE(AO77, "-", "")))&AM77&CHAR(10)), IF(AL77=1, ""&AM77&CHAR(10), IF(AL77=2, " █"&AM77&CHAR(10), AM77&CHAR(10)) ) )&AS77, "")
C78: INCI 名稱 | S78: CAS No. | AT78: =AT77&IF(AQ78=TRUE, IF(AL78=3, IF(AM78="", "", " "&REPT("-", LEN(AO78) - LEN(SUBSTITUTE(AO78, "-", "")))&AM78&CHAR(10)), IF(AL78=1, ""&AM78&CHAR(10), IF(AL78=2, " █"&AM78&CHAR(10), AM78&CHAR(10)) ) )&AS78, "")
C79: Hydrogen Peroxide (含鑑別測試、pH值) | S79: 7722-84-1 | AL79: 2 | AM79: =IF(AL79=1,BB79,IF(AL79=2,C79&IF(S79<>"",","&S79,""),"")) -> Hydrogen Peroxide (含鑑別測試、pH值) ,7722-84-1 | AN79: =BB79 -> FALSE | AO79: 群組11-1 | AP79: =BB79 -> FALSE | AQ79: =AND($AN79,$AP79) -> FALSE | AR79: =IF($AN79=TRUE,$AP79<>TRUE) -> FALSE | AT79: =AT78&IF(AQ79=TRUE, IF(AL79=3, IF(AM79="", "", " "&REPT("-", LEN(AO79) - LEN(SUBSTITUTE(AO79, "-", "")))&AM79&CHAR(10)), IF(AL79=1, ""&AM79&CHAR(10), IF(AL79=2, " █"&AM79&CHAR(10), AM79&CHAR(10)) ) )&AS79, "") | BB79: FALSE
B80: 12. 染髮劑-第一劑(含數據、圖譜、流程方法): | AK80: =COUNTIF(BB83:BB133,TRUE) -> 0 | AL80: 1 | AM80: =B80 -> 12. 染髮劑-第一劑(含數據、圖譜、流程方法): | AN80: =OR(BB83:BB133) -> FALSE | AO80: 群組12 | AP80: =OR(BB83:BB133) -> FALSE | AQ80: =AND($AN80,$AP80) -> FALSE | AR80: =IF($AN80=TRUE,$AP80<>TRUE) -> FALSE | AT80: =AT79&IF(AQ80=TRUE, IF(AL80=3, IF(AM80="", "", " "&REPT("-", LEN(AO80) - LEN(SUBSTITUTE(AO80, "-", "")))&AM80&CHAR(10)), IF(AL80=1, ""&AM80&CHAR(10), IF(AL80=2, " █"&AM80&CHAR(10), AM80&CHAR(10)) ) )&AS80, "")
B81: ※由於標準品有存放期效限制，請先選擇待測主成分，以利確認實驗室有無效期內標準品。 | AL81: 3 | AM81: =B81 -> ※由於標準品有存放期效限制，請先選擇待測主成分，以利確認實驗室有無效期內標準品。 | AN81: =OR(BB83:BB133) -> FALSE | AO81: 群組12-51-1 | AP81: =OR(BB83:BB133) -> FALSE | AQ81: =AND($AN81,$AP81) -> FALSE | AR81: =IF($AN81=TRUE,$AP81<>TRUE) -> FALSE | AT81: =AT80&IF(AQ81=TRUE, IF(AL81=3, IF(AM81="", "", " "&REPT("-", LEN(AO81) - LEN(SUBSTITUTE(AO81, "-", "")))&AM81&CHAR(10)), IF(AL81=1, ""&AM81&CHAR(10), IF(AL81=2, " █"&AM81&CHAR(10), AM81&CHAR(10)) ) )&AS81, "")
C82: INCI 名稱 | S82: CAS No. | AT82: =AT81&IF(AQ82=TRUE, IF(AL82=3, IF(AM82="", "", " "&REPT("-", LEN(AO82) - LEN(SUBSTITUTE(AO82, "-", "")))&AM82&CHAR(10)), IF(AL82=1, ""&AM82&CHAR(10), IF(AL82=2, " █"&AM82&CHAR(10), AM82&CHAR(10)) ) )&AS82, "")
C83: 1,3-Bis-(2,4-Diaminophenoxy) propane | S83: 81892-72-0 | AL83: 2 | AM83: =IF(AL83=1,BB83,IF(AL83=2,C83&IF(S83<>"",","&S83,""),"")) -> 1,3-Bis-(2,4-Diaminophenoxy) propane,81892-72-0 | AN83: =BB83 -> FALSE | AO83: 群組12-1 | AP83: =BB83 -> FALSE | AQ83: =AND($AN83,$AP83) -> FALSE | AR83: =IF($AN83=TRUE,$AP83<>TRUE) -> FALSE | AT83: =AT82&IF(AQ83=TRUE, IF(AL83=3, IF(AM83="", "", " "&REPT("-", LEN(AO83) - LEN(SUBSTITUTE(AO83, "-", "")))&AM83&CHAR(10)), IF(AL83=1, ""&AM83&CHAR(10), IF(AL83=2, " █"&AM83&CHAR(10), AM83&CHAR(10)) ) )&AS83, "") | BB83: FALSE
C84: 1-Hydroxyethyl 4,5-diamino pyrazole | S84: 155601-30-2 | AL84: 2 | AM84: =IF(AL84=1,BB84,IF(AL84=2,C84&IF(S84<>"",","&S84,""),"")) -> 1-Hydroxyethyl 4,5-diamino pyrazole,155601-30-2 | AN84: =BB84 -> FALSE | AO84: 群組12-2 | AP84: =BB84 -> FALSE | AQ84: =AND($AN84,$AP84) -> FALSE | AR84: =IF($AN84=TRUE,$AP84<>TRUE) -> FALSE | AT84: =AT83&IF(AQ84=TRUE, IF(AL84=3, IF(AM84="", "", " "&REPT("-", LEN(AO84) - LEN(SUBSTITUTE(AO84, "-", "")))&AM84&CHAR(10)), IF(AL84=1, ""&AM84&CHAR(10), IF(AL84=2, " █"&AM84&CHAR(10), AM84&CHAR(10)) ) )&AS84, "") | BB84: FALSE
C85: 1-Naphthol | S85: 90-15-3 | AL85: 2 | AM85: =IF(AL85=1,BB85,IF(AL85=2,C85&IF(S85<>"",","&S85,""),"")) -> 1-Naphthol,90-15-3 | AN85: =BB85 -> FALSE | AO85: 群組12-3 | AP85: =BB85 -> FALSE | AQ85: =AND($AN85,$AP85) -> FALSE | AR85: =IF($AN85=TRUE,$AP85<>TRUE) -> FALSE | AT85: =AT84&IF(AQ85=TRUE, IF(AL85=3, IF(AM85="", "", " "&REPT("-", LEN(AO85) - LEN(SUBSTITUTE(AO85, "-", "")))&AM85&CHAR(10)), IF(AL85=1, ""&AM85&CHAR(10), IF(AL85=2, " █"&AM85&CHAR(10), AM85&CHAR(10)) ) )&AS85, "") | BB85: FALSE
C86: 2,4-Diaminophenol | S86: 95-86-3 | AL86: 2 | AM86: =IF(AL86=1,BB86,IF(AL86=2,C86&IF(S86<>"",","&S86,""),"")) -> 2,4-Diaminophenol,95-86-3 | AN86: =BB86 -> FALSE | AO86: 群組12-4 | AP86: =BB86 -> FALSE | AQ86: =AND($AN86,$AP86) -> FALSE | AR86: =IF($AN86=TRUE,$AP86<>TRUE) -> FALSE | AT86: =AT85&IF(AQ86=TRUE, IF(AL86=3, IF(AM86="", "", " "&REPT("-", LEN(AO86) - LEN(SUBSTITUTE(AO86, "-", "")))&AM86&CHAR(10)), IF(AL86=1, ""&AM86&CHAR(10), IF(AL86=2, " █"&AM86&CHAR(10), AM86&CHAR(10)) ) )&AS86, "") | BB86: FALSE
C87: 2,4-Diaminophenoxyethanol HCl | S87: 66422-95-5 | AL87: 2 | AM87: =IF(AL87=1,BB87,IF(AL87=2,C87&IF(S87<>"",","&S87,""),"")) -> 2,4-Diaminophenoxyethanol HCl,66422-95-5 | AN87: =BB87 -> FALSE | AO87: 群組12-5 | AP87: =BB87 -> FALSE | AQ87: =AND($AN87,$AP87) -> FALSE | AR87: =IF($AN87=TRUE,$AP87<>TRUE) -> FALSE | AT87: =AT86&IF(AQ87=TRUE, IF(AL87=3, IF(AM87="", "", " "&REPT("-", LEN(AO87) - LEN(SUBSTITUTE(AO87, "-", "")))&AM87&CHAR(10)), IF(AL87=1, ""&AM87&CHAR(10), IF(AL87=2, " █"&AM87&CHAR(10), AM87&CHAR(10)) ) )&AS87, "") | BB87: FALSE
C88: 2,6-Diaminopyridine | S88: 141-86-6 | AL88: 2 | AM88: =IF(AL88=1,BB88,IF(AL88=2,C88&IF(S88<>"",","&S88,""),"")) -> 2,6-Diaminopyridine,141-86-6 | AN88: =BB88 -> FALSE | AO88: 群組12-6 | AP88: =BB88 -> FALSE | AQ88: =AND($AN88,$AP88) -> FALSE | AR88: =IF($AN88=TRUE,$AP88<>TRUE) -> FALSE | AT88: =AT87&IF(AQ88=TRUE, IF(AL88=3, IF(AM88="", "", " "&REPT("-", LEN(AO88) - LEN(SUBSTITUTE(AO88, "-", "")))&AM88&CHAR(10)), IF(AL88=1, ""&AM88&CHAR(10), IF(AL88=2, " █"&AM88&CHAR(10), AM88&CHAR(10)) ) )&AS88, "") | BB88: FALSE
C89: 4-Chlororesorcinol | S89: 95-88-5 | AL89: 2 | AM89: =IF(AL89=1,BB89,IF(AL89=2,C89&IF(S89<>"",","&S89,""),"")) -> 4-Chlororesorcinol,95-88-5 | AN89: =BB89 -> FALSE | AO89: 群組12-7 | AP89: =BB89 -> FALSE | AQ89: =AND($AN89,$AP89) -> FALSE | AR89: =IF($AN89=TRUE,$AP89<>TRUE) -> FALSE | AT89: =AT88&IF(AQ89=TRUE, IF(AL89=3, IF(AM89="", "", " "&REPT("-", LEN(AO89) - LEN(SUBSTITUTE(AO89, "-", "")))&AM89&CHAR(10)), IF(AL89=1, ""&AM89&CHAR(10), IF(AL89=2, " █"&AM89&CHAR(10), AM89&CHAR(10)) ) )&AS89, "") | BB89: FALSE
C90: 4-Nitro-o-phenylenediamine | S90: 99-56-9 | AL90: 2 | AM90: =IF(AL90=1,BB90,IF(AL90=2,C90&IF(S90<>"",","&S90,""),"")) -> 4-Nitro-o-phenylenediamine,99-56-9 | AN90: =BB90 -> FALSE | AO90: 群組12-8 | AP90: =BB90 -> FALSE | AQ90: =AND($AN90,$AP90) -> FALSE | AR90: =IF($AN90=TRUE,$AP90<>TRUE) -> FALSE | AT90: =AT89&IF(AQ90=TRUE, IF(AL90=3, IF(AM90="", "", " "&REPT("-", LEN(AO90) - LEN(SUBSTITUTE(AO90, "-", "")))&AM90&CHAR(10)), IF(AL90=1, ""&AM90&CHAR(10), IF(AL90=2, " █"&AM90&CHAR(10), AM90&CHAR(10)) ) )&AS90, "") | BB90: FALSE
C91: 5-Amino-6-chloro-o-cresol | S91: 84540-50-1 | AL91: 2 | AM91: =IF(AL91=1,BB91,IF(AL91=2,C91&IF(S91<>"",","&S91,""),"")) -> 5-Amino-6-chloro-o-cresol,84540-50-1 | AN91: =BB91 -> FALSE | AO91: 群組12-9 | AP91: =BB91 -> FALSE | AQ91: =AND($AN91,$AP91) -> FALSE | AR91: =IF($AN91=TRUE,$AP91<>TRUE) -> FALSE | AT91: =AT90&IF(AQ91=TRUE, IF(AL91=3, IF(AM91="", "", " "&REPT("-", LEN(AO91) - LEN(SUBSTITUTE(AO91, "-", "")))&AM91&CHAR(10)), IF(AL91=1, ""&AM91&CHAR(10), IF(AL91=2, " █"&AM91&CHAR(10), AM91&CHAR(10)) ) )&AS91, "") | BB91: FALSE
C92: Acid Red 73 | S92: 5413-75-2 | AL92: 2 | AM92: =IF(AL92=1,BB92,IF(AL92=2,C92&IF(S92<>"",","&S92,""),"")) -> Acid Red 73,5413-75-2 | AN92: =BB92 -> FALSE | AO92: 群組12-10 | AP92: =BB92 -> FALSE | AQ92: =AND($AN92,$AP92) -> FALSE | AR92: =IF($AN92=TRUE,$AP92<>TRUE) -> FALSE | AT92: =AT91&IF(AQ92=TRUE, IF(AL92=3, IF(AM92="", "", " "&REPT("-", LEN(AO92) - LEN(SUBSTITUTE(AO92, "-", "")))&AM92&CHAR(10)), IF(AL92=1, ""&AM92&CHAR(10), IF(AL92=2, " █"&AM92&CHAR(10), AM92&CHAR(10)) ) )&AS92, "") | BB92: FALSE
C93: Basic Blue 9 | S93: 61-73-4 | AL93: 2 | AM93: =IF(AL93=1,BB93,IF(AL93=2,C93&IF(S93<>"",","&S93,""),"")) -> Basic Blue 9,61-73-4 | AN93: =BB93 -> FALSE | AO93: 群組12-11 | AP93: =BB93 -> FALSE | AQ93: =AND($AN93,$AP93) -> FALSE | AR93: =IF($AN93=TRUE,$AP93<>TRUE) -> FALSE | AT93: =AT92&IF(AQ93=TRUE, IF(AL93=3, IF(AM93="", "", " "&REPT("-", LEN(AO93) - LEN(SUBSTITUTE(AO93, "-", "")))&AM93&CHAR(10)), IF(AL93=1, ""&AM93&CHAR(10), IF(AL93=2, " █"&AM93&CHAR(10), AM93&CHAR(10)) ) )&AS93, "") | BB93: FALSE
C94: Basic Blue 99 | S94: 68123-13-7 | AL94: 2 | AM94: =IF(AL94=1,BB94,IF(AL94=2,C94&IF(S94<>"",","&S94,""),"")) -> Basic Blue 99,68123-13-7 | AN94: =BB94 -> FALSE | AO94: 群組12-12 | AP94: =BB94 -> FALSE | AQ94: =AND($AN94,$AP94) -> FALSE | AR94: =IF($AN94=TRUE,$AP94<>TRUE) -> FALSE | AT94: =AT93&IF(AQ94=TRUE, IF(AL94=3, IF(AM94="", "", " "&REPT("-", LEN(AO94) - LEN(SUBSTITUTE(AO94, "-", "")))&AM94&CHAR(10)), IF(AL94=1, ""&AM94&CHAR(10), IF(AL94=2, " █"&AM94&CHAR(10), AM94&CHAR(10)) ) )&AS94, "") | BB94: FALSE
... C120: 2-Amino-4-hydroxyethylaminoanisole sulfate | S120: 83763-48-8 | AL120: 2 | AM120: =IF(AL120=1,BB120,IF(AL120=2,C120&IF(S120<>"",","&S120,""),"")) -> 2-Amino-4-hydroxyethylaminoanisole sulfate,83763-48-8 | AN120: =BB120 -> FALSE | AO120: 群組12-38 | AP120: =BB120 -> FALSE | AQ120: =AND($AN120,$AP120) -> FALSE | AR120: =IF($AN120=TRUE,$AP120<>TRUE) -> FALSE | AT120: =AT119&IF(AQ120=TRUE, IF(AL120=3, IF(AM120="", "", " "&REPT("-", LEN(AO120) - LEN(SUBSTITUTE(AO120, "-", "")))&AM120&CHAR(10)), IF(AL120=1, ""&AM120&CHAR(10), IF(AL120=2, " █"&AM120&CHAR(10), AM120&CHAR(10)) ) )&AS120, "") | BB120: FALSE
C121: HC Blue No.15 | AL121: 2 | AM121: =IF(AL121=1,BB121,IF(AL121=2,C121&IF(S121<>"",","&S121,""),"")) -> HC Blue No.15 | AN121: =BB121 -> FALSE | AO121: 群組12-39 | AP121: =BB121 -> FALSE | AQ121: =AND($AN121,$AP121) -> FALSE | AR121: =IF($AN121=TRUE,$AP121<>TRUE) -> FALSE | AT121: =AT120&IF(AQ121=TRUE, IF(AL121=3, IF(AM121="", "", " "&REPT("-", LEN(AO121) - LEN(SUBSTITUTE(AO121, "-", "")))&AM121&CHAR(10)), IF(AL121=1, ""&AM121&CHAR(10), IF(AL121=2, " █"&AM121&CHAR(10), AM121&CHAR(10)) ) )&AS121, "") | BB121: FALSE
C122: HC Blue No.2 | AL122: 2 | AM122: =IF(AL122=1,BB122,IF(AL122=2,C122&IF(S122<>"",","&S122,""),"")) -> HC Blue No.2 | AN122: =BB122 -> FALSE | AO122: 群組12-40 | AP122: =BB122 -> FALSE | AQ122: =AND($AN122,$AP122) -> FALSE | AR122: =IF($AN122=TRUE,$AP122<>TRUE) -> FALSE | AT122: =AT121&IF(AQ122=TRUE, IF(AL122=3, IF(AM122="", "", " "&REPT("-", LEN(AO122) - LEN(SUBSTITUTE(AO122, "-", "")))&AM122&CHAR(10)), IF(AL122=1, ""&AM122&CHAR(10), IF(AL122=2, " █"&AM122&CHAR(10), AM122&CHAR(10)) ) )&AS122, "") | BB122: FALSE
C123: HC Red No.13 | AL123: 2 | AM123: =IF(AL123=1,BB123,IF(AL123=2,C123&IF(S123<>"",","&S123,""),"")) -> HC Red No.13 | AN123: =BB123 -> FALSE | AO123: 群組12-41 | AP123: =BB123 -> FALSE | AQ123: =AND($AN123,$AP123) -> FALSE | AR123: =IF($AN123=TRUE,$AP123<>TRUE) -> FALSE | AT123: =AT122&IF(AQ123=TRUE, IF(AL123=3, IF(AM123="", "", " "&REPT("-", LEN(AO123) - LEN(SUBSTITUTE(AO123, "-", "")))&AM123&CHAR(10)), IF(AL123=1, ""&AM123&CHAR(10), IF(AL123=2, " █"&AM123&CHAR(10), AM123&CHAR(10)) ) )&AS123, "") | BB123: FALSE
C124: HC Red No.3 | AL124: 2 | AM124: =IF(AL124=1,BB124,IF(AL124=2,C124&IF(S124<>"",","&S124,""),"")) -> HC Red No.3 | AN124: =BB124 -> FALSE | AO124: 群組12-42 | AP124: =BB124 -> FALSE | AQ124: =AND($AN124,$AP124) -> FALSE | AR124: =IF($AN124=TRUE,$AP124<>TRUE) -> FALSE | AT124: =AT123&IF(AQ124=TRUE, IF(AL124=3, IF(AM124="", "", " "&REPT("-", LEN(AO124) - LEN(SUBSTITUTE(AO124, "-", "")))&AM124&CHAR(10)), IF(AL124=1, ""&AM124&CHAR(10), IF(AL124=2, " █"&AM124&CHAR(10), AM124&CHAR(10)) ) )&AS124, "") | BB124: FALSE
C125: HC Yellow No.13 | AL125: 2 | AM125: =IF(AL125=1,BB125,IF(AL125=2,C125&IF(S125<>"",","&S125,""),"")) -> HC Yellow No.13 | AN125: =BB125 -> FALSE | AO125: 群組12-43 | AP125: =BB125 -> FALSE | AQ125: =AND($AN125,$AP125) -> FALSE | AR125: =IF($AN125=TRUE,$AP125<>TRUE) -> FALSE | AT125: =AT124&IF(AQ125=TRUE, IF(AL125=3, IF(AM125="", "", " "&REPT("-", LEN(AO125) - LEN(SUBSTITUTE(AO125, "-", "")))&AM125&CHAR(10)), IF(AL125=1, ""&AM125&CHAR(10), IF(AL125=2, " █"&AM125&CHAR(10), AM125&CHAR(10)) ) )&AS125, "") | BB125: FALSE
C126: HC Yellow No.2 | AL126: 2 | AM126: =IF(AL126=1,BB126,IF(AL126=2,C126&IF(S126<>"",","&S126,""),"")) -> HC Yellow No.2 | AN126: =BB126 -> FALSE | AO126: 群組12-44 | AP126: =BB126 -> FALSE | AQ126: =AND($AN126,$AP126) -> FALSE | AR126: =IF($AN126=TRUE,$AP126<>TRUE) -> FALSE | AT126: =AT125&IF(AQ126=TRUE, IF(AL126=3, IF(AM126="", "", " "&REPT("-", LEN(AO126) - LEN(SUBSTITUTE(AO126, "-", "")))&AM126&CHAR(10)), IF(AL126=1, ""&AM126&CHAR(10), IF(AL126=2, " █"&AM126&CHAR(10), AM126&CHAR(10)) ) )&AS126, "") | BB126: FALSE
C127: HC Yellow No.4 | AL127: 2 | AM127: =IF(AL127=1,BB127,IF(AL127=2,C127&IF(S127<>"",","&S127,""),"")) -> HC Yellow No.4 | AN127: =BB127 -> FALSE | AO127: 群組12-45 | AP127: =BB127 -> FALSE | AQ127: =AND($AN127,$AP127) -> FALSE | AR127: =IF($AN127=TRUE,$AP127<>TRUE) -> FALSE | AT127: =AT126&IF(AQ127=TRUE, IF(AL127=3, IF(AM127="", "", " "&REPT("-", LEN(AO127) - LEN(SUBSTITUTE(AO127, "-", "")))&AM127&CHAR(10)), IF(AL127=1, ""&AM127&CHAR(10), IF(AL127=2, " █"&AM127&CHAR(10), AM127&CHAR(10)) ) )&AS127, "") | BB127: FALSE
C128: HC Yellow No.5 | AL128: 2 | AM128: =IF(AL128=1,BB128,IF(AL128=2,C128&IF(S128<>"",","&S128,""),"")) -> HC Yellow No.5 | AN128: =BB128 -> FALSE | AO128: 群組12-46 | AP128: =BB128 -> FALSE | AQ128: =AND($AN128,$AP128) -> FALSE | AR128: =IF($AN128=TRUE,$AP128<>TRUE) -> FALSE | AT128: =AT127&IF(AQ128=TRUE, IF(AL128=3, IF(AM128="", "", " "&REPT("-", LEN(AO128) - LEN(SUBSTITUTE(AO128, "-", "")))&AM128&CHAR(10)), IF(AL128=1, ""&AM128&CHAR(10), IF(AL128=2, " █"&AM128&CHAR(10), AM128&CHAR(10)) ) )&AS128, "") | BB128: FALSE
C129: Hydroxyethyl-2-nitro-p-toluidine | AL129: 2 | AM129: =IF(AL129=1,BB129,IF(AL129=2,C129&IF(S129<>"",","&S129,""),"")) -> Hydroxyethyl-2-nitro-p-toluidine | AN129: =BB129 -> FALSE | AO129: 群組12-47 | AP129: =BB129 -> FALSE | AQ129: =AND($AN129,$AP129) -> FALSE | AR129: =IF($AN129=TRUE,$AP129<>TRUE) -> FALSE | AT129: =AT128&IF(AQ129=TRUE, IF(AL129=3, IF(AM129="", "", " "&REPT("-", LEN(AO129) - LEN(SUBSTITUTE(AO129, "-", "")))&AM129&CHAR(10)), IF(AL129=1, ""&AM129&CHAR(10), IF(AL129=2, " █"&AM129&CHAR(10), AM129&CHAR(10)) ) )&AS129, "") | BB129: FALSE
C130: m-Aminophenol (CI 76545) | AL130: 2 | AM130: =IF(AL130=1,BB130,IF(AL130=2,C130&IF(S130<>"",","&S130,""),"")) -> m-Aminophenol (CI 76545) | AN130: =BB130 -> FALSE | AO130: 群組12-48 | AP130: =BB130 -> FALSE | AQ130: =AND($AN130,$AP130) -> FALSE | AR130: =IF($AN130=TRUE,$AP130<>TRUE) -> FALSE | AT130: =AT129&IF(AQ130=TRUE, IF(AL130=3, IF(AM130="", "", " "&REPT("-", LEN(AO130) - LEN(SUBSTITUTE(AO130, "-", "")))&AM130&CHAR(10)), IF(AL130=1, ""&AM130&CHAR(10), IF(AL130=2, " █"&AM130&CHAR(10), AM130&CHAR(10)) ) )&AS130, "") | BB130: FALSE
C131: m-phenylenediamine | AL131: 2 | AM131: =IF(AL131=1,BB131,IF(AL131=2,C131&IF(S131<>"",","&S131,""),"")) -> m-phenylenediamine | AN131: =BB131 -> FALSE | AO131: 群組12-49 | AP131: =BB131 -> FALSE | AQ131: =AND($AN131,$AP131) -> FALSE | AR131: =IF($AN131=TRUE,$AP131<>TRUE) -> FALSE | AT131: =AT130&IF(AQ131=TRUE, IF(AL131=3, IF(AM131="", "", " "&REPT("-", LEN(AO131) - LEN(SUBSTITUTE(AO131, "-", "")))&AM131&CHAR(10)), IF(AL131=1, ""&AM131&CHAR(10), IF(AL131=2, " █"&AM131&CHAR(10), AM131&CHAR(10)) ) )&AS131, "") | BB131: FALSE
C132: N,N-Bis(2-hydroxyethyl)-p-phenylenediamine | AL132: 2 | AM132: =IF(AL132=1,BB132,IF(AL132=2,C132&IF(S132<>"",","&S132,""),"")) -> N,N-Bis(2-hydroxyethyl)-p-phenylenediamine | AN132: =BB132 -> FALSE | AO132: 群組12-50 | AP132: =BB132 -> FALSE | AQ132: =AND($AN132,$AP132) -> FALSE | AR132: =IF($AN132=TRUE,$AP132<>TRUE) -> FALSE | AT132: =AT131&IF(AQ132=TRUE, IF(AL132=3, IF(AM132="", "", " "&REPT("-", LEN(AO132) - LEN(SUBSTITUTE(AO132, "-", "")))&AM132&CHAR(10)), IF(AL132=1, ""&AM132&CHAR(10), IF(AL132=2, " █"&AM132&CHAR(10), AM132&CHAR(10)) ) )&AS132, "") | BB132: FALSE
C133: sulfate | AL133: 2 | AM133: =IF(AL133=1,BB133,IF(AL133=2,C133&IF(S133<>"",","&S133,""),"")) -> sulfate | AN133: =BB133 -> FALSE | AO133: 群組12-51 | AP133: =BB133 -> FALSE | AQ133: =AND($AN133,$AP133) -> FALSE | AR133: =IF($AN133=TRUE,$AP133<>TRUE) -> FALSE | AT133: =AT132&IF(AQ133=TRUE, IF(AL133=3, IF(AM133="", "", " "&REPT("-", LEN(AO133) - LEN(SUBSTITUTE(AO133, "-", "")))&AM133&CHAR(10)), IF(AL133=1, ""&AM133&CHAR(10), IF(AL133=2, " █"&AM133&CHAR(10), AM133&CHAR(10)) ) )&AS133, "") | BB133: FALSE
B134: ※如遇非例行主成分，需另評估開發方法、購置標準品，並另評估報價與交期。 | AL134: 3 | AM134: =B134 -> ※如遇非例行主成分，需另評估開發方法、購置標準品，並另評估報價與交期。 | AN134: =OR(BB83:BB133) -> FALSE | AO134: 群組12-51-1 | AP134: =TRUE -> TRUE | AQ134: =AND($AN134,$AP134) -> FALSE | AR134: =IF($AN134=TRUE,$AP134<>TRUE) -> FALSE | AT134: =AT133&IF(AQ134=TRUE, IF(AL134=3, IF(AM134="", "", " "&REPT("-", LEN(AO134) - LEN(SUBSTITUTE(AO134, "-", "")))&AM134&CHAR(10)), IF(AL134=1, ""&AM134&CHAR(10), IF(AL134=2, " █"&AM134&CHAR(10), AM134&CHAR(10)) ) )&AS134, "")
B135: 13. 其他(未在上述列表中請自行填寫): | AK135: =COUNTIF(BB136,TRUE) -> 0 | AL135: 1 | AM135: =B135 -> 13. 其他(未在上述列表中請自行填寫): | AN135: =BB136 -> FALSE | AO135: 群組13 | AP135: =BB136 -> FALSE | AQ135: =AND($AN135,$AP135) -> FALSE | AR135: =IF($AN135=TRUE,$AP135<>TRUE) -> FALSE | AT135: =AT134&IF(AQ135=TRUE, IF(AL135=3, IF(AM135="", "", " "&REPT("-", LEN(AO135) - LEN(SUBSTITUTE(AO135, "-", "")))&AM135&CHAR(10)), IF(AL135=1, ""&AM135&CHAR(10), IF(AL135=2, " █"&AM135&CHAR(10), AM135&CHAR(10)) ) )&AS135, "")
AL136: 2 | AM136: =IF(BB136,C136,"") | AN136: =BB136 -> FALSE | AO136: 群組13-1 | AP136: =AND(B136,C136<>"") -> FALSE | AQ136: =AND($AN136,$AP136) -> FALSE | AR136: =IF($AN136=TRUE,$AP136<>TRUE) -> FALSE | AT136: =AT135&IF(AQ136=TRUE, IF(AL136=3, IF(AM136="", "", " "&REPT("-", LEN(AO136) - LEN(SUBSTITUTE(AO136, "-", "")))&AM136&CHAR(10)), IF(AL136=1, ""&AM136&CHAR(10), IF(AL136=2, " █"&AM136&CHAR(10), AM136&CHAR(10)) ) )&AS136, "") | BB136: FALSE
...

Sheet 附件一、付款切結書
B1: 付款切結書
B4: ※ 如第一頁申請廠商與發票廠商不同，再請填寫用印此付款切結書，
B5: 本公司 | O5: (申請廠商) 於民國 | W5: 年 | Z5: 月 | AC5: 日，
B6: 送驗 | O6: (樣品名稱)至台灣檢驗科技股份有限公司檢驗，
B7: 因公司內部因素，發票&付款由 | T7: (發票廠商)支付。若日後因上列之
B8: 原因，造成台灣檢驗科技股份有限公司出具之報告後，有任何付/收款問題、法律訴訟或
B9: 名譽受損等問題， | H9: 一律由本公司 | V9: (申請廠商)負擔責任問題。
B14: 申請廠商之公司大小章
B16: 承辦人簽名： | Q16: 用印處：
B20: 付款廠商之公司大小章
B22: 承辦人簽名： | Q22: 用印處：
B26: 民國 | F26: 年 | I26: 月 | L26: 日
B35: ※文件用印簽名完畢可隨樣品與簽名申請書一併寄至各區服務據點，並署名*超微量工業安全實驗室 收

Sheet 附件二、委託檢測聲明書
B1: 委託檢測聲明書
B4: ※ 如第一頁申請廠商非送測產品的生產製造或品牌所有者，需填寫與用印此聲明書，
B5: 本公司 | O5: (申請廠商) 於民國 | W5: 年 | Z5: 月 | AC5: 日，
B6: 受 | M6: 公司委託，送 | AA6: 產品至
B7: 台灣檢驗科技股份有限公司檢驗，因本公司與客戶協定關係，
B8: 測試報告上資料需如下呈現：
B9: ※報告廠商抬頭需填寫
B10: ※生產或供應廠商需填寫
B11: ※產品名稱需填寫
B12: 以上所有資料均取得此公司同意，若日後因上列之原因，造成台灣檢驗科技股份有限公司
B13: 出具之此份報告，有任何法律訴訟或名譽受損之疑，
B14: 一律由本公司 | O14: (申請廠商)負擔責任問題。
B17: 申請公司經辦人
P18: 用印處：
B19: 申請公司簽章(大小章)
B23: 委託公司經辦人
P24: 用印處：
B25: 委託公司簽章(大小章)
B27: 民國 | F27: 年 | I27: 月 | L27: 日
B36: ※文件用印簽名完畢可隨樣品與簽名申請書一併寄至各區服務據點，並署名*超微量工業安全實驗室 收

Sheet 安心資訊平台聲明書(事後申請)
B1: 安心資訊平台檢測報告資訊公開同意書
B2: 親愛的客戶您好,
B3: SGS推出”SGS安心資訊平台(MSN)”(https://msn.sgs.com/) 提供民眾與廠商在此平台上查詢您此次申請之SGS檢測報告。
B4: 您是否同意將此份SGS檢測報告揭露於”SGS安心資訊平台”以供大眾查詢呢？
B5: 若您同意，請於本頁下方的廠商用印處蓋公司大、小章，如果不同意則可不需理會此份文件。
B6: 如您未來評估有需要使用此服務時，請填寫此份同意書並用印後，寄回正本，本公司將會為您上傳該份檢測報告。
B7: SGS安心資訊網的平台特色
B8: 1. 本平台可查詢委託測試廠商資料，增加廠商的社會形象，亦可做為另一類的行銷管道。
B9: 2. 本平台查詢的檢測報告均為完整正確的檢測報告，加速潛在買家選購的意願。
B10: 3. 本平台所提供之檢測報告均需由SGS確認是否符合可上傳條件，並取得委託申請測試廠商同意，方能上傳報告。
B11: 4. 所提供之任何資料皆無涉及商業行為，僅為傳遞完整正確檢測報告之概念。
B12: 5. 本平台為SGS台灣官方網站，其揭露之檢測報告均為真實完整正確，為提供查證報告真實性之最佳工具。
... B27: **廠商基本資料** (如果之前已經在SGS安心資訊網站上刊登過，可免填，除非有資訊要做更改) ☐申請廠商 ☐發票廠商
B28: 廠商名稱： | I28: 統一編號：
B29: 聯絡電話： | H29: 傳真： | N29: E-mail：
H30: (公司名)同意並授權SGS將測試結果主動刊登至SGS安心資訊平台，已了解安心平台聲明書的內容，
B31: SGS保有最終上傳與否審核之權利。 (無用印即不同意刊登)
B32: 上架報告編號(必填)：
B33: 廠商用印(請蓋公司大、小章) : | O33: 用印日期(yyyy.mm.dd):
B34: 版次Version：3.4 發行日期Issued Date：2023.01.03 安心資訊平台檢測報告資訊公開同意書
B39: ※文件用印簽名完畢可隨樣品與簽名申請書一併寄至各區服務據點，並署名*超微量工業安全實驗室 收

Sheet 郵寄地址-中文
B1: 提供服務據點如下：
B2: 248020新北市新北產業園區五權七路38號
B3: 台灣檢驗科技股份有限公司
B4: 超微量工業安全實驗室 收
B5: Tel: 02-2299-3279 #7122~7124/7129/7131
B6: Fax: 02-2299-3320
B7: 407271台中市台中工業區14路9號
B8: 台灣檢驗科技股份有限公司
B9: 超微量工業安全實驗室 收
B10: Tel : 04- 2359-1515 #1500~1502/1505
B11: Fax: 04-2359-2949
B12: 811637高雄市楠梓加工出口區開發路61號
... B35: ※文件用印簽名完畢可隨樣品與簽名申請書一併寄至各區服務據點，並署名*超微量工業安全實驗室 收

Sheet 彙整資料
E1: 申請書中文名稱 | F1: 超微量工業安全實驗室委託試驗申請書- 化粧品
B2: =IF(D2&D3&D4&D5&D6&D7<>"",IF(D2<>"",D2&IF(D3&D4&D5&D6&D7<>"",CHAR(10)&"----------------------------------------------------------------------------------"&CHAR(10),""),"")& IF(D3<>"",D3&IF(D4&D5&D6&D7<>"",CHAR(10)&"----------------------------------------------------------------------------------"&CHAR(10),""),"")& IF(D4<>"",D4&IF(D5&D6&D7<>"",CHAR(10)&"----------------------------------------------------------------------------------"&CHAR(10),""),"")& IF(D5<>"",D5&IF(D6&D7<>"",CHAR(10)&"----------------------------------------------------------------------------------"&CHAR(10),""),"")& IF(D6<>"",D6&IF(D7<>"",CHAR(10)&"----------------------------------------------------------------------------------"&CHAR(10),""),"")& IF(D7<>"",D7,"")&"========================================================","") | C2: ='化粧品 測試項目'!AY1 | D2: =IF('化粧品 測試項目'!AY4="","",'化粧品 測試項目'!AY4) | E2: 申請書英文名稱 | F2: Ultra Trace and Industrial Safety Hygiene Laboratory Application Form - Cosmetics
C3: ='特定功能化粧品 測試項目'!AY1 | D3: =IF('特定功能化粧品 測試項目'!AY4="","",'特定功能化粧品 測試項目'!AY4) | E3: 版次Version： | F3: 5.5
E4: 發行日期Issued Date： | F4: 2026.06.01
F5: 台灣檢驗科技股份有限公司-健康產業服務
F6: SGS Taiwan Ltd. - Health Industry Services
